BEGIN:VCALENDAR
VERSION:2.0
PRODID:-//Six Bells Pub - ECPv6.15.20//NONSGML v1.0//EN
CALSCALE:GREGORIAN
METHOD:PUBLISH
X-ORIGINAL-URL:https://sixbellspub.co.uk
X-WR-CALDESC:Events for Six Bells Pub
REFRESH-INTERVAL;VALUE=DURATION:PT1H
X-Robots-Tag:noindex
X-PUBLISHED-TTL:PT1H
BEGIN:VTIMEZONE
TZID:Europe/Paris
BEGIN:DAYLIGHT
TZOFFSETFROM:+0100
TZOFFSETTO:+0200
TZNAME:CEST
DTSTART:20240331T010000
END:DAYLIGHT
BEGIN:STANDARD
TZOFFSETFROM:+0200
TZOFFSETTO:+0100
TZNAME:CET
DTSTART:20241027T010000
END:STANDARD
BEGIN:DAYLIGHT
TZOFFSETFROM:+0100
TZOFFSETTO:+0200
TZNAME:CEST
DTSTART:20250330T010000
END:DAYLIGHT
BEGIN:STANDARD
TZOFFSETFROM:+0200
TZOFFSETTO:+0100
TZNAME:CET
DTSTART:20251026T010000
END:STANDARD
BEGIN:DAYLIGHT
TZOFFSETFROM:+0100
TZOFFSETTO:+0200
TZNAME:CEST
DTSTART:20260329T010000
END:DAYLIGHT
BEGIN:STANDARD
TZOFFSETFROM:+0200
TZOFFSETTO:+0100
TZNAME:CET
DTSTART:20261025T010000
END:STANDARD
END:VTIMEZONE
BEGIN:VEVENT
DTSTART;TZID=Europe/Paris:20251120T203000
DTEND;TZID=Europe/Paris:20251120T203000
DTSTAMP:20260420T095521
CREATED:20251120T181808Z
LAST-MODIFIED:20251120T182736Z
UID:3228-1763670600-1763670600@sixbellspub.co.uk
SUMMARY:Nigel Bell
DESCRIPTION:Reggae Tunes \n \nAs always there is no cover charge for music at the Six Bells but there will be a collection for the band so remember to put a fiver in your pocket!
URL:https://sixbellspub.co.uk/event/nigel-bell-8/
CATEGORIES:Music
END:VEVENT
BEGIN:VEVENT
DTSTART;TZID=Europe/Paris:20251121T203000
DTEND;TZID=Europe/Paris:20251121T203000
DTSTAMP:20260420T095521
CREATED:20251120T182104Z
LAST-MODIFIED:20251120T182635Z
UID:3230-1763757000-1763757000@sixbellspub.co.uk
SUMMARY:Elvis!
DESCRIPTION:The King is back! \n \nAs always there is no cover charge for music at the Six Bells but there will be a collection for the band so remember to put a fiver in your pocket!
URL:https://sixbellspub.co.uk/event/elvis-20/
CATEGORIES:Music
END:VEVENT
BEGIN:VEVENT
DTSTART;TZID=Europe/Paris:20251122T203000
DTEND;TZID=Europe/Paris:20251122T203000
DTSTAMP:20260420T095521
CREATED:20251120T182423Z
LAST-MODIFIED:20251120T182822Z
UID:3232-1763843400-1763843400@sixbellspub.co.uk
SUMMARY:Bete Noire
DESCRIPTION:Piano led jazz and blues \n  \n  \nAs always there is no cover charge for music at the Six Bells but there will be a collection for the band so remember to put a fiver in your pocket! \n 
URL:https://sixbellspub.co.uk/event/bete-noire-3/
END:VEVENT
BEGIN:VEVENT
DTSTART;TZID=Europe/Paris:20251124T200000
DTEND;TZID=Europe/Paris:20251124T200000
DTSTAMP:20260420T095521
CREATED:20251120T183551Z
LAST-MODIFIED:20251120T184305Z
UID:3239-1764014400-1764014400@sixbellspub.co.uk
SUMMARY:Quiz Night
DESCRIPTION:Monday night is quiz night\, It’s £2 to play for a chance to win chocolates or a cash prize \n 
URL:https://sixbellspub.co.uk/event/quiz-night-214/
CATEGORIES:Quiz
END:VEVENT
BEGIN:VEVENT
DTSTART;TZID=Europe/Paris:20251127T203000
DTEND;TZID=Europe/Paris:20251127T203000
DTSTAMP:20260420T095521
CREATED:20251120T183031Z
LAST-MODIFIED:20251120T184338Z
UID:3237-1764275400-1764275400@sixbellspub.co.uk
SUMMARY:Solomon Smith Trio
DESCRIPTION:Join Solomon Smith\, Chris Newman and Malek Hyde Smith for some lovely jazzy tunes \n  \nAs always there is no cover charge for music at the Six Bells but there will be a collection for the band so remember to put a fiver in your pocket!
URL:https://sixbellspub.co.uk/event/solomon-smith-trio/
CATEGORIES:Music
END:VEVENT
BEGIN:VEVENT
DTSTART;TZID=Europe/Paris:20251129T203000
DTEND;TZID=Europe/Paris:20251129T203000
DTSTAMP:20260420T095521
CREATED:20251120T184230Z
LAST-MODIFIED:20251120T184941Z
UID:3241-1764448200-1764448200@sixbellspub.co.uk
SUMMARY:Marina and Johnny
DESCRIPTION:Country songs of revenge and murder! You’ll love it \n  \nAs always there is no cover charge for music at the Six Bells but there will be a collection for the band so remember to put a fiver in your pocket!
URL:https://sixbellspub.co.uk/event/marina-and-johnny-2/
CATEGORIES:Music
END:VEVENT
BEGIN:VEVENT
DTSTART;TZID=Europe/Paris:20251130T180000
DTEND;TZID=Europe/Paris:20251130T180000
DTSTAMP:20260420T095521
CREATED:20251120T184904Z
LAST-MODIFIED:20251120T184959Z
UID:3243-1764525600-1764525600@sixbellspub.co.uk
SUMMARY:Open Mic
DESCRIPTION:Hosted by Francis Botcherby of Parliament of Wolves. Everyone welcome and everyone will get a turn at this friendly Open Mic. Bring all your friends
URL:https://sixbellspub.co.uk/event/open-mic-41/
CATEGORIES:Music
END:VEVENT
END:VCALENDAR