BEGIN:VCALENDAR
VERSION:2.0
PRODID:-//Six Bells Pub - ECPv6.15.20//NONSGML v1.0//EN
CALSCALE:GREGORIAN
METHOD:PUBLISH
X-WR-CALNAME:Six Bells Pub
X-ORIGINAL-URL:https://sixbellspub.co.uk
X-WR-CALDESC:Events for Six Bells Pub
REFRESH-INTERVAL;VALUE=DURATION:PT1H
X-Robots-Tag:noindex
X-PUBLISHED-TTL:PT1H
BEGIN:VTIMEZONE
TZID:Europe/Paris
BEGIN:DAYLIGHT
TZOFFSETFROM:+0100
TZOFFSETTO:+0200
TZNAME:CEST
DTSTART:20240331T010000
END:DAYLIGHT
BEGIN:STANDARD
TZOFFSETFROM:+0200
TZOFFSETTO:+0100
TZNAME:CET
DTSTART:20241027T010000
END:STANDARD
BEGIN:DAYLIGHT
TZOFFSETFROM:+0100
TZOFFSETTO:+0200
TZNAME:CEST
DTSTART:20250330T010000
END:DAYLIGHT
BEGIN:STANDARD
TZOFFSETFROM:+0200
TZOFFSETTO:+0100
TZNAME:CET
DTSTART:20251026T010000
END:STANDARD
BEGIN:DAYLIGHT
TZOFFSETFROM:+0100
TZOFFSETTO:+0200
TZNAME:CEST
DTSTART:20260329T010000
END:DAYLIGHT
BEGIN:STANDARD
TZOFFSETFROM:+0200
TZOFFSETTO:+0100
TZNAME:CET
DTSTART:20261025T010000
END:STANDARD
END:VTIMEZONE
BEGIN:VEVENT
DTSTART;TZID=Europe/Paris:20250904T203000
DTEND;TZID=Europe/Paris:20250904T223000
DTSTAMP:20260420T131938
CREATED:20250904T121421Z
LAST-MODIFIED:20250904T121421Z
UID:3188-1757017800-1757025000@sixbellspub.co.uk
SUMMARY:Johnny Wright and Henry Baker
DESCRIPTION:Join Johnny and Norwich based guitarist Henry Baker for some lovely acoustic bluesy/folky tunes \n  \nAs always there is no cover charge but there will be a collection for the musicians so remember to put a fiver in your pocket!
URL:https://sixbellspub.co.uk/event/johnny-wright-and-henry-baker-2/
CATEGORIES:Music
END:VEVENT
BEGIN:VEVENT
DTSTART;TZID=Europe/Paris:20250906T203000
DTEND;TZID=Europe/Paris:20250906T230000
DTSTAMP:20260420T131938
CREATED:20250904T121815Z
LAST-MODIFIED:20250904T121815Z
UID:3191-1757190600-1757199600@sixbellspub.co.uk
SUMMARY:The Cactus Club
DESCRIPTION:Original Songs of love\, loss and rebellion\, plus classic covers \n  \nAs always there is no cover charge but there will be a collection for the musicians so remember to put a fiver in your pocket!
URL:https://sixbellspub.co.uk/event/the-cactus-club/
CATEGORIES:Music
END:VEVENT
BEGIN:VEVENT
DTSTART;TZID=Europe/Paris:20250907T180000
DTEND;TZID=Europe/Paris:20250907T210000
DTSTAMP:20260420T131938
CREATED:20250904T122211Z
LAST-MODIFIED:20250904T122211Z
UID:3193-1757268000-1757278800@sixbellspub.co.uk
SUMMARY:Open Mic
DESCRIPTION:Hosted by Francis Botcherby of Parliament of Wolves\, everyone is welcome at this friendly Open Mic and everyone will get a turn \n 
URL:https://sixbellspub.co.uk/event/open-mic-40/
CATEGORIES:Music
END:VEVENT
BEGIN:VEVENT
DTSTART;TZID=Europe/Paris:20250908T200000
DTEND;TZID=Europe/Paris:20250908T223000
DTSTAMP:20260420T131938
CREATED:20250904T122510Z
LAST-MODIFIED:20250904T122510Z
UID:3195-1757361600-1757370600@sixbellspub.co.uk
SUMMARY:Quiz Night
DESCRIPTION:Every Monday\, it’s £2 to play for your chance to win chocolate or a cash prize \n 
URL:https://sixbellspub.co.uk/event/quiz-night-211/
CATEGORIES:Quiz
END:VEVENT
BEGIN:VEVENT
DTSTART;TZID=Europe/Paris:20250909T193000
DTEND;TZID=Europe/Paris:20250909T220000
DTSTAMP:20260420T131938
CREATED:20250904T154848Z
LAST-MODIFIED:20250904T154848Z
UID:3198-1757446200-1757455200@sixbellspub.co.uk
SUMMARY:Poetry Night
DESCRIPTION:Our monthly poetry night hosted by Sristika. Whether you write poetry\, or like to read poetry you are welcome. Bring along your favourite poem to share
URL:https://sixbellspub.co.uk/event/poetry-night/
END:VEVENT
BEGIN:VEVENT
DTSTART;TZID=Europe/Paris:20250910T193000
DTEND;TZID=Europe/Paris:20250910T230000
DTSTAMP:20260420T131938
CREATED:20250904T160718Z
LAST-MODIFIED:20250904T160718Z
UID:3200-1757532600-1757545200@sixbellspub.co.uk
SUMMARY:Language Swap
DESCRIPTION:Every Wednesday
URL:https://sixbellspub.co.uk/event/language-swap-18/
END:VEVENT
BEGIN:VEVENT
DTSTART;TZID=Europe/Paris:20250911T203000
DTEND;TZID=Europe/Paris:20250911T223000
DTSTAMP:20260420T131938
CREATED:20250904T161059Z
LAST-MODIFIED:20250904T161059Z
UID:3202-1757622600-1757629800@sixbellspub.co.uk
SUMMARY:Rich Young
DESCRIPTION:Acoustic set from the lovely Rich Young \nAs always there is no cover charge but there will be a collection for the musicians so remember to put a fiver in your pocket!
URL:https://sixbellspub.co.uk/event/rich-young-3/
END:VEVENT
BEGIN:VEVENT
DTSTART;TZID=Europe/Paris:20250913T203000
DTEND;TZID=Europe/Paris:20250913T230000
DTSTAMP:20260420T131938
CREATED:20250908T154150Z
LAST-MODIFIED:20250908T154150Z
UID:3205-1757795400-1757804400@sixbellspub.co.uk
SUMMARY:The Wassanames
DESCRIPTION:  \nAs always there is no cover charge but there will be a collection for the musicians so remember to put a fiver in your pocket!
URL:https://sixbellspub.co.uk/event/the-wassanames-5/
LOCATION:Six Bells\, cb1 2hs
CATEGORIES:Music
END:VEVENT
BEGIN:VEVENT
DTSTART;TZID=Europe/Paris:20250915T200000
DTEND;TZID=Europe/Paris:20250915T223000
DTSTAMP:20260420T131938
CREATED:20250908T160100Z
LAST-MODIFIED:20250908T160555Z
UID:3207-1757966400-1757975400@sixbellspub.co.uk
SUMMARY:Quiz Night
DESCRIPTION:
URL:https://sixbellspub.co.uk/event/quiz-night-212/
CATEGORIES:Quiz
END:VEVENT
BEGIN:VEVENT
DTSTART;TZID=Europe/Paris:20250917T193000
DTEND;TZID=Europe/Paris:20250917T230000
DTSTAMP:20260420T131938
CREATED:20250908T163157Z
LAST-MODIFIED:20250908T163157Z
UID:3209-1758137400-1758150000@sixbellspub.co.uk
SUMMARY:Language Swap
DESCRIPTION:
URL:https://sixbellspub.co.uk/event/language-swap-19/
END:VEVENT
BEGIN:VEVENT
DTSTART;TZID=Europe/Paris:20250918T203000
DTEND;TZID=Europe/Paris:20250918T223000
DTSTAMP:20260420T131938
CREATED:20250908T163341Z
LAST-MODIFIED:20250908T163341Z
UID:3211-1758227400-1758234600@sixbellspub.co.uk
SUMMARY:Paul Neale
DESCRIPTION:Solo set \n  \n 
URL:https://sixbellspub.co.uk/event/paul-neale-2/
CATEGORIES:Music
END:VEVENT
BEGIN:VEVENT
DTSTART;TZID=Europe/Paris:20250925T203000
DTEND;TZID=Europe/Paris:20250925T223000
DTSTAMP:20260420T131938
CREATED:20250925T133017Z
LAST-MODIFIED:20250925T133017Z
UID:3214-1758832200-1758839400@sixbellspub.co.uk
SUMMARY:Stella Hensley and Chris Newman
DESCRIPTION:Acoustic set from Stella and Chris \nAs always there is no  cover charge but there will be a collection for the musicians so remember to put a fiver in your pocket
URL:https://sixbellspub.co.uk/event/stella-hensley-and-chris-newman-8/
CATEGORIES:Music
END:VEVENT
BEGIN:VEVENT
DTSTART;TZID=Europe/Paris:20250927T203000
DTEND;TZID=Europe/Paris:20250927T230000
DTSTAMP:20260420T131938
CREATED:20250925T133159Z
LAST-MODIFIED:20250925T133159Z
UID:3216-1759005000-1759014000@sixbellspub.co.uk
SUMMARY:Silverbacks Blues Band
DESCRIPTION:Old school rhythm and blues
URL:https://sixbellspub.co.uk/event/silverbacks-blues-band-6/
END:VEVENT
BEGIN:VEVENT
DTSTART;TZID=Europe/Paris:20250928T180000
DTEND;TZID=Europe/Paris:20250928T220000
DTSTAMP:20260420T131938
CREATED:20250925T133348Z
LAST-MODIFIED:20250925T133348Z
UID:3218-1759082400-1759096800@sixbellspub.co.uk
SUMMARY:Show Tunes Open Mic!
DESCRIPTION:This is the first of these events and it sounds great!!
URL:https://sixbellspub.co.uk/event/show-tunes-open-mic/
CATEGORIES:Music
END:VEVENT
BEGIN:VEVENT
DTSTART;TZID=Europe/Paris:20250929T200000
DTEND;TZID=Europe/Paris:20250929T223000
DTSTAMP:20260420T131938
CREATED:20250925T133546Z
LAST-MODIFIED:20250925T133546Z
UID:3220-1759176000-1759185000@sixbellspub.co.uk
SUMMARY:Quiz Night
DESCRIPTION:Every Monday\, £2 to play for a chance to win a cash prize or some chocolate
URL:https://sixbellspub.co.uk/event/quiz-night-213/
CATEGORIES:Quiz
END:VEVENT
END:VCALENDAR