BEGIN:VCALENDAR
VERSION:2.0
PRODID:-//Six Bells Pub - ECPv6.15.20//NONSGML v1.0//EN
CALSCALE:GREGORIAN
METHOD:PUBLISH
X-WR-CALNAME:Six Bells Pub
X-ORIGINAL-URL:https://sixbellspub.co.uk
X-WR-CALDESC:Events for Six Bells Pub
REFRESH-INTERVAL;VALUE=DURATION:PT1H
X-Robots-Tag:noindex
X-PUBLISHED-TTL:PT1H
BEGIN:VTIMEZONE
TZID:Europe/Paris
BEGIN:DAYLIGHT
TZOFFSETFROM:+0100
TZOFFSETTO:+0200
TZNAME:CEST
DTSTART:20240331T010000
END:DAYLIGHT
BEGIN:STANDARD
TZOFFSETFROM:+0200
TZOFFSETTO:+0100
TZNAME:CET
DTSTART:20241027T010000
END:STANDARD
BEGIN:DAYLIGHT
TZOFFSETFROM:+0100
TZOFFSETTO:+0200
TZNAME:CEST
DTSTART:20250330T010000
END:DAYLIGHT
BEGIN:STANDARD
TZOFFSETFROM:+0200
TZOFFSETTO:+0100
TZNAME:CET
DTSTART:20251026T010000
END:STANDARD
BEGIN:DAYLIGHT
TZOFFSETFROM:+0100
TZOFFSETTO:+0200
TZNAME:CEST
DTSTART:20260329T010000
END:DAYLIGHT
BEGIN:STANDARD
TZOFFSETFROM:+0200
TZOFFSETTO:+0100
TZNAME:CET
DTSTART:20261025T010000
END:STANDARD
END:VTIMEZONE
BEGIN:VEVENT
DTSTART;TZID=Europe/Paris:20250501T200000
DTEND;TZID=Europe/Paris:20250501T223000
DTSTAMP:20260420T182823
CREATED:20250419T132637Z
LAST-MODIFIED:20250419T132637Z
UID:3121-1746129600-1746138600@sixbellspub.co.uk
SUMMARY:Johnny Wright and guest
DESCRIPTION:Join Johnny and his guest for his monthly Thursday slot \n  \nFree entry as always but there will be a collection for the musician so remember to put a fiver in your pocket
URL:https://sixbellspub.co.uk/event/johnny-wright-and-guest-2/
LOCATION:Six Bells\, cb1 2hs
END:VEVENT
BEGIN:VEVENT
DTSTART;TZID=Europe/Paris:20250504T160000
DTEND;TZID=Europe/Paris:20250504T210000
DTSTAMP:20260420T182823
CREATED:20250419T133719Z
LAST-MODIFIED:20250419T133719Z
UID:3125-1746374400-1746392400@sixbellspub.co.uk
SUMMARY:Pool Tournament
DESCRIPTION:The first in what we hope will be a monthly event on the first Sunday of each month \nKnockout Pool Tournament\, £5 to enter – winner takes all \nAsk at the bar for details. \n 
URL:https://sixbellspub.co.uk/event/pool-tournament/
LOCATION:Six Bells\, cb1 2hs
END:VEVENT
BEGIN:VEVENT
DTSTART;TZID=Europe/Paris:20250504T180000
DTEND;TZID=Europe/Paris:20250504T210000
DTSTAMP:20260420T182823
CREATED:20250419T133001Z
LAST-MODIFIED:20250419T133040Z
UID:3123-1746381600-1746392400@sixbellspub.co.uk
SUMMARY:Open Mic
DESCRIPTION:Hosted by Francis Botcherby of Parliament of Wolves. Everyone is welcome at this friendlyOpen Mic ans everyone will get a turn \n 
URL:https://sixbellspub.co.uk/event/open-mic-38/
END:VEVENT
BEGIN:VEVENT
DTSTART;TZID=Europe/Paris:20250506T190000
DTEND;TZID=Europe/Paris:20250506T190000
DTSTAMP:20260420T182823
CREATED:20250427T132740Z
LAST-MODIFIED:20250427T132740Z
UID:3130-1746558000-1746558000@sixbellspub.co.uk
SUMMARY:Bluegrass Jam
DESCRIPTION:
URL:https://sixbellspub.co.uk/event/bluegrass-jam-7/
CATEGORIES:Music
END:VEVENT
BEGIN:VEVENT
DTSTART;TZID=Europe/Paris:20250507T193000
DTEND;TZID=Europe/Paris:20250507T230000
DTSTAMP:20260420T182823
CREATED:20250502T201643Z
LAST-MODIFIED:20250502T201643Z
UID:3135-1746646200-1746658800@sixbellspub.co.uk
SUMMARY:Language Swap
DESCRIPTION:
URL:https://sixbellspub.co.uk/event/language-swap-17/
LOCATION:Six Bells\, cb1 2hs
CATEGORIES:community event
END:VEVENT
BEGIN:VEVENT
DTSTART;TZID=Europe/Paris:20250508T200000
DTEND;TZID=Europe/Paris:20250508T200000
DTSTAMP:20260420T182823
CREATED:20250427T133354Z
LAST-MODIFIED:20250427T140015Z
UID:3132-1746734400-1746734400@sixbellspub.co.uk
SUMMARY:Rich Young
DESCRIPTION:Acoustic set from singer/songwriter Rich Young \n  \nAs always there is no cover charge for music but there will be a collection so remember to put a fiver in your pocket \n 
URL:https://sixbellspub.co.uk/event/rich-young-2/
LOCATION:Six Bells\, cb1 2hs
END:VEVENT
BEGIN:VEVENT
DTSTART;TZID=Europe/Paris:20250509T180000
DTEND;TZID=Europe/Paris:20250509T180000
DTSTAMP:20260420T182823
CREATED:20250502T202302Z
LAST-MODIFIED:20250502T202302Z
UID:3137-1746813600-1746813600@sixbellspub.co.uk
SUMMARY:Thai Food Pop Up
DESCRIPTION:Wok Around the Clock return for a one night Thai Food Pop up
URL:https://sixbellspub.co.uk/event/thai-food-pop-up-3/
LOCATION:Six Bells\, cb1 2hs
CATEGORIES:Food
END:VEVENT
BEGIN:VEVENT
DTSTART;TZID=Europe/Paris:20250510T203000
DTEND;TZID=Europe/Paris:20250510T203000
DTSTAMP:20260420T182823
CREATED:20250502T202505Z
LAST-MODIFIED:20250502T202505Z
UID:3139-1746909000-1746909000@sixbellspub.co.uk
SUMMARY:Jonno Stanford 3 piece Blues Quartet
DESCRIPTION:
URL:https://sixbellspub.co.uk/event/jonno-stanford-3-piece-blues-quartet/
END:VEVENT
BEGIN:VEVENT
DTSTART;TZID=Europe/Paris:20250522T080000
DTEND;TZID=Europe/Paris:20250522T170000
DTSTAMP:20260420T182823
CREATED:20250522T190814Z
LAST-MODIFIED:20250522T190814Z
UID:3144-1747900800-1747933200@sixbellspub.co.uk
SUMMARY:Francis Botcherby
DESCRIPTION:
URL:https://sixbellspub.co.uk/event/francis-botcherby-5/
END:VEVENT
BEGIN:VEVENT
DTSTART;TZID=Europe/Paris:20250524T203000
DTEND;TZID=Europe/Paris:20250524T230000
DTSTAMP:20260420T182823
CREATED:20250522T191003Z
LAST-MODIFIED:20250522T191003Z
UID:3146-1748118600-1748127600@sixbellspub.co.uk
SUMMARY:Blues in Motion
DESCRIPTION:
URL:https://sixbellspub.co.uk/event/blues-in-motion-3/
CATEGORIES:Music
END:VEVENT
BEGIN:VEVENT
DTSTART;TZID=Europe/Paris:20250529T203000
DTEND;TZID=Europe/Paris:20250529T230000
DTSTAMP:20260420T182823
CREATED:20250522T191133Z
LAST-MODIFIED:20250522T191133Z
UID:3148-1748550600-1748559600@sixbellspub.co.uk
SUMMARY:Nigel Bell
DESCRIPTION:
URL:https://sixbellspub.co.uk/event/nigel-bell-7/
CATEGORIES:Music
END:VEVENT
BEGIN:VEVENT
DTSTART;TZID=Europe/Paris:20250530T203000
DTEND;TZID=Europe/Paris:20250530T230000
DTSTAMP:20260420T182823
CREATED:20250522T191254Z
LAST-MODIFIED:20250522T191254Z
UID:3150-1748637000-1748646000@sixbellspub.co.uk
SUMMARY:Elvis!
DESCRIPTION:
URL:https://sixbellspub.co.uk/event/elvis-19/
CATEGORIES:Music
END:VEVENT
BEGIN:VEVENT
DTSTART;TZID=Europe/Paris:20250531T203000
DTEND;TZID=Europe/Paris:20250531T230000
DTSTAMP:20260420T182823
CREATED:20250522T191947Z
LAST-MODIFIED:20250522T191947Z
UID:3152-1748723400-1748732400@sixbellspub.co.uk
SUMMARY:Mola Mola Jambalaya
DESCRIPTION:
URL:https://sixbellspub.co.uk/event/mola-mola-jambalaya-8/
END:VEVENT
END:VCALENDAR