BEGIN:VCALENDAR
VERSION:2.0
PRODID:-//Six Bells Pub - ECPv6.15.20//NONSGML v1.0//EN
CALSCALE:GREGORIAN
METHOD:PUBLISH
X-WR-CALNAME:Six Bells Pub
X-ORIGINAL-URL:https://sixbellspub.co.uk
X-WR-CALDESC:Events for Six Bells Pub
REFRESH-INTERVAL;VALUE=DURATION:PT1H
X-Robots-Tag:noindex
X-PUBLISHED-TTL:PT1H
BEGIN:VTIMEZONE
TZID:Europe/Paris
BEGIN:DAYLIGHT
TZOFFSETFROM:+0100
TZOFFSETTO:+0200
TZNAME:CEST
DTSTART:20240331T010000
END:DAYLIGHT
BEGIN:STANDARD
TZOFFSETFROM:+0200
TZOFFSETTO:+0100
TZNAME:CET
DTSTART:20241027T010000
END:STANDARD
BEGIN:DAYLIGHT
TZOFFSETFROM:+0100
TZOFFSETTO:+0200
TZNAME:CEST
DTSTART:20250330T010000
END:DAYLIGHT
BEGIN:STANDARD
TZOFFSETFROM:+0200
TZOFFSETTO:+0100
TZNAME:CET
DTSTART:20251026T010000
END:STANDARD
BEGIN:DAYLIGHT
TZOFFSETFROM:+0100
TZOFFSETTO:+0200
TZNAME:CEST
DTSTART:20260329T010000
END:DAYLIGHT
BEGIN:STANDARD
TZOFFSETFROM:+0200
TZOFFSETTO:+0100
TZNAME:CET
DTSTART:20261025T010000
END:STANDARD
END:VTIMEZONE
BEGIN:VEVENT
DTSTART;TZID=Europe/Paris:20250102T203000
DTEND;TZID=Europe/Paris:20250102T223000
DTSTAMP:20260420T231305
CREATED:20250102T122807Z
LAST-MODIFIED:20250102T122807Z
UID:3068-1735849800-1735857000@sixbellspub.co.uk
SUMMARY:Johnny Wright and Sean O'Hanrahan
DESCRIPTION:Johnny returns for his first First Thursday of 2025 with Sean O’Hanrahan on keyboards. \n  \nAs always\, there is no cover charge but there will be a collection for the musicians so remember to put a fiver in your pocket!
URL:https://sixbellspub.co.uk/event/johnny-wright-and-sean-ohanrahan/
LOCATION:Six Bells\, cb1 2hs
CATEGORIES:Music
END:VEVENT
BEGIN:VEVENT
DTSTART;TZID=Europe/Paris:20250104T203000
DTEND;TZID=Europe/Paris:20250104T230000
DTSTAMP:20260420T231305
CREATED:20250102T123036Z
LAST-MODIFIED:20250102T123036Z
UID:3071-1736022600-1736031600@sixbellspub.co.uk
SUMMARY:Nigel Bell
DESCRIPTION:Reggae tunes from Six Bells favourite Nigel Bell \n  \nAs always\, there is no cover charge but there will be a collection for the musicians so remember to put a fiver in your pocket!
URL:https://sixbellspub.co.uk/event/nigel-bell-6/
LOCATION:Six Bells\, cb1 2hs
CATEGORIES:Music
END:VEVENT
BEGIN:VEVENT
DTSTART;TZID=Europe/Paris:20250106T200000
DTEND;TZID=Europe/Paris:20250106T223000
DTSTAMP:20260420T231305
CREATED:20250102T123326Z
LAST-MODIFIED:20250102T123326Z
UID:3073-1736193600-1736202600@sixbellspub.co.uk
SUMMARY:Quiz Night
DESCRIPTION:Pub Quiz every Monday \nYour chance to win some chocolate\, a cash prize or even the Big Money Jackpot
URL:https://sixbellspub.co.uk/event/quiz-night-206/
CATEGORIES:Quiz
END:VEVENT
BEGIN:VEVENT
DTSTART;TZID=Europe/Paris:20250107T190000
DTEND;TZID=Europe/Paris:20250107T230000
DTSTAMP:20260420T231305
CREATED:20250102T123435Z
LAST-MODIFIED:20250102T123608Z
UID:3075-1736276400-1736290800@sixbellspub.co.uk
SUMMARY:Bluegrass
DESCRIPTION:
URL:https://sixbellspub.co.uk/event/bluegrass-56/
LOCATION:Six Bells\, cb1 2hs
END:VEVENT
BEGIN:VEVENT
DTSTART;TZID=Europe/Paris:20250109T203000
DTEND;TZID=Europe/Paris:20250109T203000
DTSTAMP:20260420T231305
CREATED:20250102T163630Z
LAST-MODIFIED:20250102T163630Z
UID:3077-1736454600-1736454600@sixbellspub.co.uk
SUMMARY:Francis Botcherby
DESCRIPTION:An acoustic set from Francis Botcherby \n  \nAs always\, there is no cover charge but there will be a collection for the musicians so remember to put a fiver in your pocket!
URL:https://sixbellspub.co.uk/event/francis-botcherby-4/
LOCATION:Six Bells\, cb1 2hs
CATEGORIES:Music
END:VEVENT
BEGIN:VEVENT
DTSTART;TZID=Europe/Paris:20250111T080000
DTEND;TZID=Europe/Paris:20250111T170000
DTSTAMP:20260420T231305
CREATED:20250102T163805Z
LAST-MODIFIED:20250102T163805Z
UID:3079-1736582400-1736614800@sixbellspub.co.uk
SUMMARY:Johnny Wright and Ben Smith
DESCRIPTION:  \n  \n  \n  \nAs always\, there is no cover charge but there will be a collection for the musicians so remember to put a fiver in your pocket!
URL:https://sixbellspub.co.uk/event/johnny-wright-and-ben-smith/
CATEGORIES:Music
END:VEVENT
BEGIN:VEVENT
DTSTART;TZID=Europe/Paris:20250112T180000
DTEND;TZID=Europe/Paris:20250112T210000
DTSTAMP:20260420T231305
CREATED:20250102T164041Z
LAST-MODIFIED:20250102T164041Z
UID:3081-1736704800-1736715600@sixbellspub.co.uk
SUMMARY:Open Mic
DESCRIPTION:Fortnightly Open Mic hosted by Francis Botcherby of Parliament of Wolves. Everyone is welcome at this friendly Open Mic and everyone will get a turn
URL:https://sixbellspub.co.uk/event/open-mic-35/
LOCATION:Six Bells\, cb1 2hs
CATEGORIES:Music
END:VEVENT
BEGIN:VEVENT
DTSTART;TZID=Europe/Paris:20250123T203000
DTEND;TZID=Europe/Paris:20250123T230000
DTSTAMP:20260420T231305
CREATED:20250121T150704Z
LAST-MODIFIED:20250121T150715Z
UID:3084-1737664200-1737673200@sixbellspub.co.uk
SUMMARY:Ted Koehorst and Alex James
DESCRIPTION:Acoustic set from Ted and Alex \n  \nAs always there is no cover charge but there will be  collection for the band so remember to put a fiver in your pocket!
URL:https://sixbellspub.co.uk/event/ted-koehorst-and-alex-james/
CATEGORIES:Music
END:VEVENT
BEGIN:VEVENT
DTSTART;TZID=Europe/Paris:20250125T203000
DTEND;TZID=Europe/Paris:20250125T230000
DTSTAMP:20260420T231305
CREATED:20250121T151115Z
LAST-MODIFIED:20250121T151115Z
UID:3087-1737837000-1737846000@sixbellspub.co.uk
SUMMARY:Blues in Motion
DESCRIPTION:  \n  \n  \n  \nAs always there is no cover charge but there will be  collection for the band so remember to put a fiver in your pocket!
URL:https://sixbellspub.co.uk/event/blues-in-motion-2/
LOCATION:Six Bells\, cb1 2hs
END:VEVENT
BEGIN:VEVENT
DTSTART;TZID=Europe/Paris:20250126T180000
DTEND;TZID=Europe/Paris:20250126T210000
DTSTAMP:20260420T231305
CREATED:20250121T154643Z
LAST-MODIFIED:20250121T154643Z
UID:3090-1737914400-1737925200@sixbellspub.co.uk
SUMMARY:Open Mic
DESCRIPTION:
URL:https://sixbellspub.co.uk/event/open-mic-36/
END:VEVENT
BEGIN:VEVENT
DTSTART;TZID=Europe/Paris:20250127T200000
DTEND;TZID=Europe/Paris:20250127T223000
DTSTAMP:20260420T231305
CREATED:20250121T155348Z
LAST-MODIFIED:20250121T155348Z
UID:3095-1738008000-1738017000@sixbellspub.co.uk
SUMMARY:Quiz Night
DESCRIPTION:Every Monday at 8pm. It’s £2 to play for your chance to win chocolate\, a cash prize or even the Big Money Jackpot! \n 
URL:https://sixbellspub.co.uk/event/quiz-night-207/
END:VEVENT
BEGIN:VEVENT
DTSTART;TZID=Europe/Paris:20250130T203000
DTEND;TZID=Europe/Paris:20250130T223000
DTSTAMP:20260420T231305
CREATED:20250121T154803Z
LAST-MODIFIED:20250121T154803Z
UID:3092-1738269000-1738276200@sixbellspub.co.uk
SUMMARY:Emozione
DESCRIPTION:As always there is no cover charge but there will be  collection for the band so remember to put a fiver in your pocket!
URL:https://sixbellspub.co.uk/event/emozione/
LOCATION:Six Bells\, cb1 2hs
END:VEVENT
END:VCALENDAR