BEGIN:VCALENDAR
VERSION:2.0
PRODID:-//Six Bells Pub - ECPv6.15.20//NONSGML v1.0//EN
CALSCALE:GREGORIAN
METHOD:PUBLISH
X-ORIGINAL-URL:https://sixbellspub.co.uk
X-WR-CALDESC:Events for Six Bells Pub
REFRESH-INTERVAL;VALUE=DURATION:PT1H
X-Robots-Tag:noindex
X-PUBLISHED-TTL:PT1H
BEGIN:VTIMEZONE
TZID:Europe/Paris
BEGIN:DAYLIGHT
TZOFFSETFROM:+0100
TZOFFSETTO:+0200
TZNAME:CEST
DTSTART:20230326T010000
END:DAYLIGHT
BEGIN:STANDARD
TZOFFSETFROM:+0200
TZOFFSETTO:+0100
TZNAME:CET
DTSTART:20231029T010000
END:STANDARD
BEGIN:DAYLIGHT
TZOFFSETFROM:+0100
TZOFFSETTO:+0200
TZNAME:CEST
DTSTART:20240331T010000
END:DAYLIGHT
BEGIN:STANDARD
TZOFFSETFROM:+0200
TZOFFSETTO:+0100
TZNAME:CET
DTSTART:20241027T010000
END:STANDARD
BEGIN:DAYLIGHT
TZOFFSETFROM:+0100
TZOFFSETTO:+0200
TZNAME:CEST
DTSTART:20250330T010000
END:DAYLIGHT
BEGIN:STANDARD
TZOFFSETFROM:+0200
TZOFFSETTO:+0100
TZNAME:CET
DTSTART:20251026T010000
END:STANDARD
END:VTIMEZONE
BEGIN:VEVENT
DTSTART;TZID=Europe/Paris:20241001T190000
DTEND;TZID=Europe/Paris:20241001T230000
DTSTAMP:20260421T030115
CREATED:20240929T122637Z
LAST-MODIFIED:20240929T122637Z
UID:2896-1727809200-1727823600@sixbellspub.co.uk
SUMMARY:Bluegrass Jam
DESCRIPTION:The first Tuesday of every month is our Bluegrass Night! Everyone is welcome\, just bring an instrument and join in\, or come along and listen
URL:https://sixbellspub.co.uk/event/bluegrass-jam-3/
LOCATION:Six Bells\, cb1 2hs
CATEGORIES:Music
END:VEVENT
BEGIN:VEVENT
DTSTART;TZID=Europe/Paris:20241002T193000
DTEND;TZID=Europe/Paris:20241002T230000
DTSTAMP:20260421T030115
CREATED:20240929T123300Z
LAST-MODIFIED:20240929T123300Z
UID:2898-1727897400-1727910000@sixbellspub.co.uk
SUMMARY:Language Swap
DESCRIPTION:Every Wednesday we host a Language Swap night. If you want to find someone to speak a different language with\, or if you need some help with translation\, or if you just fancy a pint then come along. Everyone welcome \n  \n 
URL:https://sixbellspub.co.uk/event/language-swap-5/
CATEGORIES:community event
END:VEVENT
BEGIN:VEVENT
DTSTART;TZID=Europe/Paris:20241003T203000
DTEND;TZID=Europe/Paris:20241003T223000
DTSTAMP:20260421T030115
CREATED:20240930T183520Z
LAST-MODIFIED:20240930T183520Z
UID:2945-1727987400-1727994600@sixbellspub.co.uk
SUMMARY:Johnny Wright and Henry Baker
DESCRIPTION:Join Johnny and his guest\, Norwich based guitarist Henry Baker on Thursday for some lovely acoustic bluesy/folky tunes \nAs always there is no cover charge at the Six Bells but there will be a collection for the musicians so remember to put a fiver in your pocket !
URL:https://sixbellspub.co.uk/event/johnny-wright-and-henry-baker/
LOCATION:Six Bells\, cb1 2hs
CATEGORIES:Music
END:VEVENT
BEGIN:VEVENT
DTSTART;TZID=Europe/Paris:20241005T203000
DTEND;TZID=Europe/Paris:20241005T230000
DTSTAMP:20260421T030115
CREATED:20240930T183701Z
LAST-MODIFIED:20240930T183701Z
UID:2947-1728160200-1728169200@sixbellspub.co.uk
SUMMARY:Karen McWhinnie Trio
DESCRIPTION:
URL:https://sixbellspub.co.uk/event/karen-mcwhinnie-trio/
LOCATION:Six Bells\, cb1 2hs
CATEGORIES:Music
END:VEVENT
BEGIN:VEVENT
DTSTART;TZID=Europe/Paris:20241006T180000
DTEND;TZID=Europe/Paris:20241006T210000
DTSTAMP:20260421T030115
CREATED:20240930T184018Z
LAST-MODIFIED:20240930T184018Z
UID:2949-1728237600-1728248400@sixbellspub.co.uk
SUMMARY:Open Mic
DESCRIPTION:Hosted by Francis Botcherby \nEveryone is welcome at this friendly Open Mic and everyone will get a turn. Just come along and play
URL:https://sixbellspub.co.uk/event/open-mic-28/
CATEGORIES:Quiz
END:VEVENT
BEGIN:VEVENT
DTSTART;TZID=Europe/Paris:20241007T200000
DTEND;TZID=Europe/Paris:20241007T223000
DTSTAMP:20260421T030115
CREATED:20240914T175642Z
LAST-MODIFIED:20240914T175642Z
UID:2887-1728331200-1728340200@sixbellspub.co.uk
SUMMARY:Quiz Night
DESCRIPTION:Every Monday at 8pm. Join us for a chance to win chocolate\, a cash prize or even our Big Money Jackpot \n  \n \n 
URL:https://sixbellspub.co.uk/event/quiz-night-194/
LOCATION:Six Bells\, cb1 2hs
CATEGORIES:Quiz
END:VEVENT
BEGIN:VEVENT
DTSTART;TZID=Europe/Paris:20241009T193000
DTEND;TZID=Europe/Paris:20241009T230000
DTSTAMP:20260421T030115
CREATED:20240929T123406Z
LAST-MODIFIED:20240929T123406Z
UID:2901-1728502200-1728514800@sixbellspub.co.uk
SUMMARY:Language Swap
DESCRIPTION:Every Wednesday we host a Language Swap night. If you want to find someone to speak a different language with\, or if you need some help with translation\, or if you just fancy a pint then come along. Everyone welcome \n  \n 
URL:https://sixbellspub.co.uk/event/language-swap-6/
LOCATION:Six Bells\, cb1 2hs
CATEGORIES:community event
END:VEVENT
BEGIN:VEVENT
DTSTART;TZID=Europe/Paris:20241010T180000
DTEND;TZID=Europe/Paris:20241010T210000
DTSTAMP:20260421T030115
CREATED:20241006T114005Z
LAST-MODIFIED:20241006T114109Z
UID:2955-1728583200-1728594000@sixbellspub.co.uk
SUMMARY:Thai food pop up
DESCRIPTION:Delicious Thai food from Wok Around the Clock available every Thursday from 6 to 9 pm
URL:https://sixbellspub.co.uk/event/thai-food-pop-up-from-wok-around-the-clock/
LOCATION:Six Bells\, cb1 2hs
CATEGORIES:Food
END:VEVENT
BEGIN:VEVENT
DTSTART;TZID=Europe/Paris:20241010T203000
DTEND;TZID=Europe/Paris:20241010T223000
DTSTAMP:20260421T030115
CREATED:20241006T113445Z
LAST-MODIFIED:20241006T113445Z
UID:2953-1728592200-1728599400@sixbellspub.co.uk
SUMMARY:Imlac
DESCRIPTION:  \nThursday night acoustic music from Cambridge-based Scottish folk and blues singer Imlac \n  \n  \n  \nAs always there is no entrance fee but there will be a collection for the musicians so please remember to put a fiver in your pocket! \n  \n 
URL:https://sixbellspub.co.uk/event/imlac-2/
LOCATION:Six Bells\, cb1 2hs
CATEGORIES:Music
END:VEVENT
BEGIN:VEVENT
DTSTART;TZID=Europe/Paris:20241012T203000
DTEND;TZID=Europe/Paris:20241012T230000
DTSTAMP:20260421T030115
CREATED:20241006T114300Z
LAST-MODIFIED:20241006T114300Z
UID:2958-1728765000-1728774000@sixbellspub.co.uk
SUMMARY:Blues in Motion
DESCRIPTION:
URL:https://sixbellspub.co.uk/event/blues-in-motion/
LOCATION:Six Bells\, cb1 2hs
END:VEVENT
BEGIN:VEVENT
DTSTART;TZID=Europe/Paris:20241013T173000
DTEND;TZID=Europe/Paris:20241013T173000
DTSTAMP:20260421T030115
CREATED:20241006T114443Z
LAST-MODIFIED:20241006T114443Z
UID:2960-1728840600-1728840600@sixbellspub.co.uk
SUMMARY:The Rising Blues + DJ
DESCRIPTION:
URL:https://sixbellspub.co.uk/event/the-rising-blues-dj/
LOCATION:Six Bells\, cb1 2hs
CATEGORIES:Music
END:VEVENT
BEGIN:VEVENT
DTSTART;TZID=Europe/Paris:20241014T200000
DTEND;TZID=Europe/Paris:20241014T223000
DTSTAMP:20260421T030115
CREATED:20240914T180956Z
LAST-MODIFIED:20240914T180956Z
UID:2891-1728936000-1728945000@sixbellspub.co.uk
SUMMARY:Quiz Night
DESCRIPTION:Every Monday at 8pm. Join us for a chance to win chocolate\, a cash prize or even our Big Money Jackpot! \n  \n \n 
URL:https://sixbellspub.co.uk/event/quiz-night-196/
END:VEVENT
BEGIN:VEVENT
DTSTART;TZID=Europe/Paris:20241015T203000
DTEND;TZID=Europe/Paris:20241015T223000
DTSTAMP:20260421T030115
CREATED:20241006T134424Z
LAST-MODIFIED:20241006T134424Z
UID:2965-1729024200-1729031400@sixbellspub.co.uk
SUMMARY:Kaveri Blues II
DESCRIPTION:An evening of Indian Classical music \n  \n \n  \nAs always there is no cover charge but there will be a collection for the musicians so remember to put a fiver in your pocket! \n 
URL:https://sixbellspub.co.uk/event/kaveri-blues-ii/
LOCATION:Six Bells\, cb1 2hs
CATEGORIES:Music
END:VEVENT
BEGIN:VEVENT
DTSTART;TZID=Europe/Paris:20241016T193000
DTEND;TZID=Europe/Paris:20241016T230000
DTSTAMP:20260421T030115
CREATED:20240929T123518Z
LAST-MODIFIED:20240929T123518Z
UID:2903-1729107000-1729119600@sixbellspub.co.uk
SUMMARY:Language Swap
DESCRIPTION:Every Wednesday we host a Language Swap night. If you want to find someone to speak a different language with\, or if you need some help with translation\, or if you just fancy a pint then come along. Everyone welcome \n  \n 
URL:https://sixbellspub.co.uk/event/language-swap-7/
LOCATION:Six Bells\, cb1 2hs
CATEGORIES:community event
END:VEVENT
BEGIN:VEVENT
DTSTART;TZID=Europe/Paris:20241017T203000
DTEND;TZID=Europe/Paris:20241017T203000
DTSTAMP:20260421T030115
CREATED:20241006T134618Z
LAST-MODIFIED:20241006T134618Z
UID:2968-1729197000-1729197000@sixbellspub.co.uk
SUMMARY:Johnny and Marina
DESCRIPTION:Country songs of love (and hate!)
URL:https://sixbellspub.co.uk/event/johnny-and-marina/
LOCATION:Six Bells\, cb1 2hs
CATEGORIES:Music
END:VEVENT
BEGIN:VEVENT
DTSTART;TZID=Europe/Paris:20241019T203000
DTEND;TZID=Europe/Paris:20241019T230000
DTSTAMP:20260421T030115
CREATED:20241006T135043Z
LAST-MODIFIED:20241006T135043Z
UID:2970-1729369800-1729378800@sixbellspub.co.uk
SUMMARY:Karen McWhinnie and Mike Thompson Duo
DESCRIPTION:
URL:https://sixbellspub.co.uk/event/karen-mcwhinnie-and-mike-thompson-duo/
LOCATION:Six Bells\, cb1 2hs
CATEGORIES:Music
ORGANIZER;CN="Eileen O'Brien":MAILTO:eileenobrien@hotmail.co.uk
END:VEVENT
BEGIN:VEVENT
DTSTART;TZID=Europe/Paris:20241020T180000
DTEND;TZID=Europe/Paris:20241020T210000
DTSTAMP:20260421T030115
CREATED:20241006T135209Z
LAST-MODIFIED:20241006T135209Z
UID:2973-1729447200-1729458000@sixbellspub.co.uk
SUMMARY:Open Mic
DESCRIPTION:
URL:https://sixbellspub.co.uk/event/open-mic-29/
LOCATION:Six Bells\, cb1 2hs
CATEGORIES:Music
ORGANIZER;CN="Eileen O'Brien":MAILTO:eileenobrien@hotmail.co.uk
END:VEVENT
BEGIN:VEVENT
DTSTART;TZID=Europe/Paris:20241021T200000
DTEND;TZID=Europe/Paris:20241021T223000
DTSTAMP:20260421T030115
CREATED:20240914T180437Z
LAST-MODIFIED:20240914T180636Z
UID:2889-1729540800-1729549800@sixbellspub.co.uk
SUMMARY:Quiz Night
DESCRIPTION:Every Monday at 8pm. Join us for a chance to win chocolate\, a cash prize or even our Big Money Jackpot! \n  \n \n 
URL:https://sixbellspub.co.uk/event/quiz-night-195/
LOCATION:Six Bells\, cb1 2hs
END:VEVENT
BEGIN:VEVENT
DTSTART;TZID=Europe/Paris:20241023T080000
DTEND;TZID=Europe/Paris:20241023T170000
DTSTAMP:20260421T030115
CREATED:20240929T123648Z
LAST-MODIFIED:20240929T123648Z
UID:2905-1729670400-1729702800@sixbellspub.co.uk
SUMMARY:Language Swap
DESCRIPTION:Every Wednesday we host a Language Swap night. If you want to find someone to speak a different language with\, or if you need some help with translation\, or if you just fancy a pint then come along. Everyone welcome \n  \n 
URL:https://sixbellspub.co.uk/event/language-swap-8/
LOCATION:Six Bells\, cb1 2hs
CATEGORIES:community event
END:VEVENT
BEGIN:VEVENT
DTSTART;TZID=Europe/Paris:20241024T203000
DTEND;TZID=Europe/Paris:20241024T223000
DTSTAMP:20260421T030115
CREATED:20241006T135325Z
LAST-MODIFIED:20241006T135325Z
UID:2975-1729801800-1729809000@sixbellspub.co.uk
SUMMARY:Francis Botcherby
DESCRIPTION:
URL:https://sixbellspub.co.uk/event/francis-botcherby-3/
LOCATION:Six Bells\, cb1 2hs
CATEGORIES:Music
ORGANIZER;CN="Eileen O'Brien":MAILTO:eileenobrien@hotmail.co.uk
END:VEVENT
BEGIN:VEVENT
DTSTART;TZID=Europe/Paris:20241028T200000
DTEND;TZID=Europe/Paris:20241028T230000
DTSTAMP:20260421T030115
CREATED:20240929T130454Z
LAST-MODIFIED:20240929T130454Z
UID:2930-1730145600-1730156400@sixbellspub.co.uk
SUMMARY:Quiz Night
DESCRIPTION:Quiz Night is every Monday at 8pm. It costs £2 to play for your chance to  win chocolate or a cash prize or even the Big Money Jackpot!
URL:https://sixbellspub.co.uk/event/quiz-night-197/
CATEGORIES:Quiz
END:VEVENT
BEGIN:VEVENT
DTSTART;TZID=Europe/Paris:20241030T193000
DTEND;TZID=Europe/Paris:20241030T230000
DTSTAMP:20260421T030115
CREATED:20240929T123901Z
LAST-MODIFIED:20240929T123901Z
UID:2908-1730316600-1730329200@sixbellspub.co.uk
SUMMARY:Language Swap
DESCRIPTION:Every Wednesday we host a Language Swap night. If you want to find someone to speak a different language with\, or if you need some help with translation\, or if you just fancy a pint then come along. Everyone welcome \n  \n 
URL:https://sixbellspub.co.uk/event/language-swap-9/
LOCATION:Six Bells\, cb1 2hs
CATEGORIES:community event
END:VEVENT
BEGIN:VEVENT
DTSTART;TZID=Europe/Paris:20241031T180000
DTEND;TZID=Europe/Paris:20241031T210000
DTSTAMP:20260421T030115
CREATED:20241029T135058Z
LAST-MODIFIED:20241029T135058Z
UID:3005-1730397600-1730408400@sixbellspub.co.uk
SUMMARY:Thai food pop up from Wok around the clock
DESCRIPTION:Delicious thai food served every Thursday \n 
URL:https://sixbellspub.co.uk/event/thai-food-pop-up-from-wok-around-the-clock-2/
LOCATION:Six Bells\, cb1 2hs
CATEGORIES:Food
END:VEVENT
BEGIN:VEVENT
DTSTART;TZID=Europe/Paris:20241031T203000
DTEND;TZID=Europe/Paris:20241031T230000
DTSTAMP:20260421T030115
CREATED:20241006T135618Z
LAST-MODIFIED:20241006T135618Z
UID:2977-1730406600-1730415600@sixbellspub.co.uk
SUMMARY:Halloween with Scything Igor and the Slashers
DESCRIPTION:Aka Ivan\, Fabian and Johnny \nJoin us for Halloween fun. Fancy dress encouraged
URL:https://sixbellspub.co.uk/event/halloween-with-scything-igor-and-the-slashers/
LOCATION:Six Bells\, cb1 2hs
CATEGORIES:Music
ORGANIZER;CN="Eileen O'Brien":MAILTO:eileenobrien@hotmail.co.uk
END:VEVENT
END:VCALENDAR