BEGIN:VCALENDAR
VERSION:2.0
PRODID:-//Six Bells Pub - ECPv6.15.20//NONSGML v1.0//EN
CALSCALE:GREGORIAN
METHOD:PUBLISH
X-ORIGINAL-URL:https://sixbellspub.co.uk
X-WR-CALDESC:Events for Six Bells Pub
REFRESH-INTERVAL;VALUE=DURATION:PT1H
X-Robots-Tag:noindex
X-PUBLISHED-TTL:PT1H
BEGIN:VTIMEZONE
TZID:Europe/Paris
BEGIN:DAYLIGHT
TZOFFSETFROM:+0100
TZOFFSETTO:+0200
TZNAME:CEST
DTSTART:20230326T010000
END:DAYLIGHT
BEGIN:STANDARD
TZOFFSETFROM:+0200
TZOFFSETTO:+0100
TZNAME:CET
DTSTART:20231029T010000
END:STANDARD
BEGIN:DAYLIGHT
TZOFFSETFROM:+0100
TZOFFSETTO:+0200
TZNAME:CEST
DTSTART:20240331T010000
END:DAYLIGHT
BEGIN:STANDARD
TZOFFSETFROM:+0200
TZOFFSETTO:+0100
TZNAME:CET
DTSTART:20241027T010000
END:STANDARD
BEGIN:DAYLIGHT
TZOFFSETFROM:+0100
TZOFFSETTO:+0200
TZNAME:CEST
DTSTART:20250330T010000
END:DAYLIGHT
BEGIN:STANDARD
TZOFFSETFROM:+0200
TZOFFSETTO:+0100
TZNAME:CET
DTSTART:20251026T010000
END:STANDARD
END:VTIMEZONE
BEGIN:VEVENT
DTSTART;TZID=Europe/Paris:20240901T180000
DTEND;TZID=Europe/Paris:20240901T210000
DTSTAMP:20260421T040711
CREATED:20240815T130123Z
LAST-MODIFIED:20240815T130123Z
UID:2838-1725213600-1725224400@sixbellspub.co.uk
SUMMARY:The Rising Blues
DESCRIPTION:The hardest working family band in town return to the Six Bells. Bring all your family and friends. It’s going to be great! \nAs always there is no cover charge but there will be a collection for the musicians so remember to put a fiver in your pocket
URL:https://sixbellspub.co.uk/event/the-rising-blues-3/
LOCATION:Six Bells\, cb1 2hs
CATEGORIES:Music
END:VEVENT
BEGIN:VEVENT
DTSTART;TZID=Europe/Paris:20240902T200000
DTEND;TZID=Europe/Paris:20240902T230000
DTSTAMP:20260421T040711
CREATED:20240815T130504Z
LAST-MODIFIED:20240815T130504Z
UID:2840-1725307200-1725318000@sixbellspub.co.uk
SUMMARY:Quiz night
DESCRIPTION:Quiz Night is every Monday at 8pm. It costs £2 to play for your chance to  win chocolate or a cash prize or even the Big Money Jackpot! \n 
URL:https://sixbellspub.co.uk/event/quiz-night-189/
CATEGORIES:Quiz
END:VEVENT
BEGIN:VEVENT
DTSTART;TZID=Europe/Paris:20240903T190000
DTEND;TZID=Europe/Paris:20240903T230000
DTSTAMP:20260421T040711
CREATED:20240815T130638Z
LAST-MODIFIED:20240815T130638Z
UID:2843-1725390000-1725404400@sixbellspub.co.uk
SUMMARY:Bluegrass Jam
DESCRIPTION:Everyone welcome!
URL:https://sixbellspub.co.uk/event/bluegrass-jam-2/
LOCATION:Six Bells\, cb1 2hs
CATEGORIES:Music
END:VEVENT
BEGIN:VEVENT
DTSTART;TZID=Europe/Paris:20240904T193000
DTEND;TZID=Europe/Paris:20240904T233000
DTSTAMP:20260421T040711
CREATED:20240815T130827Z
LAST-MODIFIED:20240815T130827Z
UID:2846-1725478200-1725492600@sixbellspub.co.uk
SUMMARY:Language Swap
DESCRIPTION:Every Wednesday we host a Language Swap. It’s an informal night where speakers of any language  can come along and find someone to talk to either in English or another language. It’s a friendly group and everyone  is welcome
URL:https://sixbellspub.co.uk/event/language-swap-3/
LOCATION:Six Bells\, cb1 2hs
CATEGORIES:Music
END:VEVENT
BEGIN:VEVENT
DTSTART;TZID=Europe/Paris:20240905T203000
DTEND;TZID=Europe/Paris:20240905T223000
DTSTAMP:20260421T040711
CREATED:20240815T150850Z
LAST-MODIFIED:20240815T150850Z
UID:2850-1725568200-1725575400@sixbellspub.co.uk
SUMMARY:Johnny Wright & Josh Robins
DESCRIPTION:  \nThursday night music from Johnny and Josh \nAs always there is no cover charge but there will be a collection for the musicians so remember to put a fiver in your pocket
URL:https://sixbellspub.co.uk/event/johnny-wright-josh-robins/
LOCATION:Six Bells\, cb1 2hs
CATEGORIES:Music
END:VEVENT
BEGIN:VEVENT
DTSTART;TZID=Europe/Paris:20240907T203000
DTEND;TZID=Europe/Paris:20240907T230000
DTSTAMP:20260421T040711
CREATED:20240815T160438Z
LAST-MODIFIED:20240815T160438Z
UID:2859-1725741000-1725750000@sixbellspub.co.uk
SUMMARY:Sean O'Hanrahan and Fabian Bonner
DESCRIPTION:
URL:https://sixbellspub.co.uk/event/sean-ohanrahan-and-fabian-bonner/
CATEGORIES:Music
END:VEVENT
BEGIN:VEVENT
DTSTART;TZID=Europe/Paris:20240908T180000
DTEND;TZID=Europe/Paris:20240908T210000
DTSTAMP:20260421T040711
CREATED:20240815T160836Z
LAST-MODIFIED:20240815T160836Z
UID:2861-1725818400-1725829200@sixbellspub.co.uk
SUMMARY:Open Mic
DESCRIPTION:Our Open Mic hosted by Francis Botcherby of Parliament of Wolves\, returns this week. Everyone is welcome and everyone will get a turn. Bring all your friends\, its going to be great!
URL:https://sixbellspub.co.uk/event/open-mic-27/
LOCATION:Six Bells\, cb1 2hs
CATEGORIES:Music
END:VEVENT
BEGIN:VEVENT
DTSTART;TZID=Europe/Paris:20240909T200000
DTEND;TZID=Europe/Paris:20240909T230000
DTSTAMP:20260421T040711
CREATED:20240815T161122Z
LAST-MODIFIED:20240815T161122Z
UID:2863-1725912000-1725922800@sixbellspub.co.uk
SUMMARY:Quiz Night
DESCRIPTION:Monday night is Quiz Night. It’s £2 to play for a chance to win chocolate\, as cash prize or even the Big Money Jackpot!
URL:https://sixbellspub.co.uk/event/quiz-night-190/
CATEGORIES:Quiz
END:VEVENT
BEGIN:VEVENT
DTSTART;TZID=Europe/Paris:20240911T190000
DTEND;TZID=Europe/Paris:20240911T230000
DTSTAMP:20260421T040711
CREATED:20240815T161352Z
LAST-MODIFIED:20240815T161352Z
UID:2865-1726081200-1726095600@sixbellspub.co.uk
SUMMARY:Language Swap
DESCRIPTION:
URL:https://sixbellspub.co.uk/event/language-swap-4/
CATEGORIES:community event
END:VEVENT
BEGIN:VEVENT
DTSTART;TZID=Europe/Paris:20240912T203000
DTEND;TZID=Europe/Paris:20240912T223000
DTSTAMP:20260421T040711
CREATED:20240815T163005Z
LAST-MODIFIED:20240815T163005Z
UID:2868-1726173000-1726180200@sixbellspub.co.uk
SUMMARY:Nigel Bell
DESCRIPTION:  \nReggae tunes \n 
URL:https://sixbellspub.co.uk/event/nigel-bell-5/
CATEGORIES:Music
END:VEVENT
BEGIN:VEVENT
DTSTART;TZID=Europe/Paris:20240914T203000
DTEND;TZID=Europe/Paris:20240914T223000
DTSTAMP:20260421T040711
CREATED:20240815T163138Z
LAST-MODIFIED:20240815T163138Z
UID:2870-1726345800-1726353000@sixbellspub.co.uk
SUMMARY:Imlac
DESCRIPTION:
URL:https://sixbellspub.co.uk/event/imlac/
END:VEVENT
BEGIN:VEVENT
DTSTART;TZID=Europe/Paris:20240915T200000
DTEND;TZID=Europe/Paris:20240915T223000
DTSTAMP:20260421T040711
CREATED:20240815T163457Z
LAST-MODIFIED:20240815T163457Z
UID:2872-1726430400-1726439400@sixbellspub.co.uk
SUMMARY:Harri Beasley
DESCRIPTION:Harri’s farewell to the Six Bells gig\, before he heads off for adventures in New Zealand. This is going to be a great night so bring all your friends!
URL:https://sixbellspub.co.uk/event/harri-beasley-6/
LOCATION:Six Bells\, cb1 2hs
CATEGORIES:Music
END:VEVENT
BEGIN:VEVENT
DTSTART;TZID=Europe/Paris:20240916T200000
DTEND;TZID=Europe/Paris:20240916T223000
DTSTAMP:20260421T040711
CREATED:20240914T175000Z
LAST-MODIFIED:20240914T175000Z
UID:2881-1726516800-1726525800@sixbellspub.co.uk
SUMMARY:Quiz Night
DESCRIPTION:Every Monday at 8pm. Join us for a chance to win chocolate\, a cash prize or even our Big Money Jackpot which currently stands at £70 \n 
URL:https://sixbellspub.co.uk/event/quiz-night-191/
LOCATION:Six Bells\, cb1 2hs
CATEGORIES:Quiz
END:VEVENT
BEGIN:VEVENT
DTSTART;TZID=Europe/Paris:20240923T200000
DTEND;TZID=Europe/Paris:20240923T223000
DTSTAMP:20260421T040711
CREATED:20240914T175140Z
LAST-MODIFIED:20240914T175140Z
UID:2883-1727121600-1727130600@sixbellspub.co.uk
SUMMARY:Quiz Night
DESCRIPTION:Every Monday at 8pm. Join us for a chance to win chocolate\, a cash prize or even our Big Money Jackpot which currently stands at £70
URL:https://sixbellspub.co.uk/event/quiz-night-192/
LOCATION:Six Bells\, cb1 2hs
CATEGORIES:Quiz
END:VEVENT
BEGIN:VEVENT
DTSTART;TZID=Europe/Paris:20240930T203000
DTEND;TZID=Europe/Paris:20240930T223000
DTSTAMP:20260421T040711
CREATED:20240914T175422Z
LAST-MODIFIED:20240914T175422Z
UID:2885-1727728200-1727735400@sixbellspub.co.uk
SUMMARY:Quiz Night
DESCRIPTION:Every Monday at 8pm. Join us for a chance to win chocolate\, a cash prize or even our Big Money Jackpot
URL:https://sixbellspub.co.uk/event/quiz-night-193/
CATEGORIES:Quiz
END:VEVENT
END:VCALENDAR