BEGIN:VCALENDAR
VERSION:2.0
PRODID:-//Six Bells Pub - ECPv6.15.20//NONSGML v1.0//EN
CALSCALE:GREGORIAN
METHOD:PUBLISH
X-ORIGINAL-URL:https://sixbellspub.co.uk
X-WR-CALDESC:Events for Six Bells Pub
REFRESH-INTERVAL;VALUE=DURATION:PT1H
X-Robots-Tag:noindex
X-PUBLISHED-TTL:PT1H
BEGIN:VTIMEZONE
TZID:Europe/Paris
BEGIN:DAYLIGHT
TZOFFSETFROM:+0100
TZOFFSETTO:+0200
TZNAME:CEST
DTSTART:20230326T010000
END:DAYLIGHT
BEGIN:STANDARD
TZOFFSETFROM:+0200
TZOFFSETTO:+0100
TZNAME:CET
DTSTART:20231029T010000
END:STANDARD
BEGIN:DAYLIGHT
TZOFFSETFROM:+0100
TZOFFSETTO:+0200
TZNAME:CEST
DTSTART:20240331T010000
END:DAYLIGHT
BEGIN:STANDARD
TZOFFSETFROM:+0200
TZOFFSETTO:+0100
TZNAME:CET
DTSTART:20241027T010000
END:STANDARD
BEGIN:DAYLIGHT
TZOFFSETFROM:+0100
TZOFFSETTO:+0200
TZNAME:CEST
DTSTART:20250330T010000
END:DAYLIGHT
BEGIN:STANDARD
TZOFFSETFROM:+0200
TZOFFSETTO:+0100
TZNAME:CET
DTSTART:20251026T010000
END:STANDARD
END:VTIMEZONE
BEGIN:VEVENT
DTSTART;TZID=Europe/Paris:20240201T203000
DTEND;TZID=Europe/Paris:20240201T223000
DTSTAMP:20260421T133519
CREATED:20240203T130017Z
LAST-MODIFIED:20240203T130017Z
UID:2775-1706819400-1706826600@sixbellspub.co.uk
SUMMARY:Johnny Wright and Gilby Fletcher
DESCRIPTION:
URL:https://sixbellspub.co.uk/event/johnny-wright-and-gilby-fletcher/
END:VEVENT
BEGIN:VEVENT
DTSTART;TZID=Europe/Paris:20240203T203000
DTEND;TZID=Europe/Paris:20240203T230000
DTSTAMP:20260421T133519
CREATED:20240203T131110Z
LAST-MODIFIED:20240203T131110Z
UID:2777-1706992200-1707001200@sixbellspub.co.uk
SUMMARY:Elena Grau
DESCRIPTION:Songs in Spanish and English from Elena and Alphonso. \nAs always there is no cover charge for music at the Six Bells\, but please remember to put a fiver in your pocket for the whipround for the musicians  \n 
URL:https://sixbellspub.co.uk/event/elena-grau-2/
LOCATION:Six Bells\, cb1 2hs
CATEGORIES:Music
END:VEVENT
BEGIN:VEVENT
DTSTART;TZID=Europe/Paris:20240204T130000
DTEND;TZID=Europe/Paris:20240204T160000
DTSTAMP:20260421T133519
CREATED:20240203T131623Z
LAST-MODIFIED:20240203T131623Z
UID:2780-1707051600-1707062400@sixbellspub.co.uk
SUMMARY:Tunes
DESCRIPTION:Traditional Irish music
URL:https://sixbellspub.co.uk/event/tunes-28/
LOCATION:Six Bells\, cb1 2hs
END:VEVENT
BEGIN:VEVENT
DTSTART;TZID=Europe/Paris:20240204T173000
DTEND;TZID=Europe/Paris:20240204T173000
DTSTAMP:20260421T133519
CREATED:20240203T132149Z
LAST-MODIFIED:20240203T132259Z
UID:2782-1707067800-1707067800@sixbellspub.co.uk
SUMMARY:The Rising Blues
DESCRIPTION:The hardest working family band in town. Early start ad early finish because there’s school tomorrow! \n \nAs always there’s no charge for music at the Six Bells but there will be a collection for the musicians so remember to put a fiver in your pocket for the whipround
URL:https://sixbellspub.co.uk/event/the-rising-blues-2/
END:VEVENT
BEGIN:VEVENT
DTSTART;TZID=Europe/Paris:20240205T200000
DTEND;TZID=Europe/Paris:20240205T230000
DTSTAMP:20260421T133519
CREATED:20240203T134257Z
LAST-MODIFIED:20240203T134257Z
UID:2789-1707163200-1707174000@sixbellspub.co.uk
SUMMARY:Quiz Night
DESCRIPTION:Every Monday
URL:https://sixbellspub.co.uk/event/quiz-night-187/
LOCATION:Six Bells\, cb1 2hs
CATEGORIES:Quiz
END:VEVENT
BEGIN:VEVENT
DTSTART;TZID=Europe/Paris:20240208T203000
DTEND;TZID=Europe/Paris:20240208T223000
DTSTAMP:20260421T133519
CREATED:20240203T134001Z
LAST-MODIFIED:20240203T134001Z
UID:2785-1707424200-1707431400@sixbellspub.co.uk
SUMMARY:Emily Simmons
DESCRIPTION:Our very own Emily will be returning to play at the Six Bells on Thursday 8 February. She is great and everyone should come and see her! \nAs always there’s no charge for music at the Six Bells but there will be a collection for the musicians so remember to put a fiver in your pocket for the whipround
URL:https://sixbellspub.co.uk/event/emily-simmons/
LOCATION:Six Bells\, cb1 2hs
CATEGORIES:Music
END:VEVENT
BEGIN:VEVENT
DTSTART;TZID=Europe/Paris:20240210T203000
DTEND;TZID=Europe/Paris:20240210T230000
DTSTAMP:20260421T133519
CREATED:20240203T165527Z
LAST-MODIFIED:20240203T165609Z
UID:2791-1707597000-1707606000@sixbellspub.co.uk
SUMMARY:Peter Buckley Hill
DESCRIPTION:
URL:https://sixbellspub.co.uk/event/peter-buckley-hill/
LOCATION:Six Bells\, cb1 2hs
CATEGORIES:Music
END:VEVENT
BEGIN:VEVENT
DTSTART;TZID=Europe/Paris:20240211T180000
DTEND;TZID=Europe/Paris:20240211T200000
DTSTAMP:20260421T133519
CREATED:20240203T170723Z
LAST-MODIFIED:20240203T170723Z
UID:2793-1707674400-1707681600@sixbellspub.co.uk
SUMMARY:The Romebridge Connection
DESCRIPTION:The Boys Are Back in Town to celebrate a birthday! \n 
URL:https://sixbellspub.co.uk/event/the-romebridge-connection-3/
CATEGORIES:Music
END:VEVENT
END:VCALENDAR