BEGIN:VCALENDAR
VERSION:2.0
PRODID:-//Six Bells Pub - ECPv6.15.20//NONSGML v1.0//EN
CALSCALE:GREGORIAN
METHOD:PUBLISH
X-ORIGINAL-URL:https://sixbellspub.co.uk
X-WR-CALDESC:Events for Six Bells Pub
REFRESH-INTERVAL;VALUE=DURATION:PT1H
X-Robots-Tag:noindex
X-PUBLISHED-TTL:PT1H
BEGIN:VTIMEZONE
TZID:Europe/Paris
BEGIN:DAYLIGHT
TZOFFSETFROM:+0100
TZOFFSETTO:+0200
TZNAME:CEST
DTSTART:20220327T010000
END:DAYLIGHT
BEGIN:STANDARD
TZOFFSETFROM:+0200
TZOFFSETTO:+0100
TZNAME:CET
DTSTART:20221030T010000
END:STANDARD
BEGIN:DAYLIGHT
TZOFFSETFROM:+0100
TZOFFSETTO:+0200
TZNAME:CEST
DTSTART:20230326T010000
END:DAYLIGHT
BEGIN:STANDARD
TZOFFSETFROM:+0200
TZOFFSETTO:+0100
TZNAME:CET
DTSTART:20231029T010000
END:STANDARD
BEGIN:DAYLIGHT
TZOFFSETFROM:+0100
TZOFFSETTO:+0200
TZNAME:CEST
DTSTART:20240331T010000
END:DAYLIGHT
BEGIN:STANDARD
TZOFFSETFROM:+0200
TZOFFSETTO:+0100
TZNAME:CET
DTSTART:20241027T010000
END:STANDARD
END:VTIMEZONE
BEGIN:VEVENT
DTSTART;TZID=Europe/Paris:20231102T183000
DTEND;TZID=Europe/Paris:20231102T213000
DTSTAMP:20260421T172646
CREATED:20231102T131838Z
LAST-MODIFIED:20231102T131838Z
UID:2657-1698949800-1698960600@sixbellspub.co.uk
SUMMARY:Thai food Pop Up
DESCRIPTION:We welcome back Wok Around The Clock with some delicious thai food
URL:https://sixbellspub.co.uk/event/thai-food-pop-up/
CATEGORIES:Food
END:VEVENT
BEGIN:VEVENT
DTSTART;TZID=Europe/Paris:20231102T200000
DTEND;TZID=Europe/Paris:20231102T223000
DTSTAMP:20260421T172646
CREATED:20231102T131221Z
LAST-MODIFIED:20231102T131221Z
UID:2655-1698955200-1698964200@sixbellspub.co.uk
SUMMARY:Johnny Wright and George Breakfast
DESCRIPTION:  \nLive music from two Sic Bells favourites \nAs always there is no cover charge for music nights at the Bells \, but please put a fiver in your pocket for the collection for the musicians \n 
URL:https://sixbellspub.co.uk/event/johnny-wright-and-george-breakfast-2/
LOCATION:Six Bells\, 11 Covent Garden\, cb1 2hs\, United Kingdom
CATEGORIES:Music
END:VEVENT
BEGIN:VEVENT
DTSTART;TZID=Europe/Paris:20231104T203000
DTEND;TZID=Europe/Paris:20231104T223000
DTSTAMP:20260421T172646
CREATED:20231102T132204Z
LAST-MODIFIED:20231102T132204Z
UID:2661-1699129800-1699137000@sixbellspub.co.uk
SUMMARY:Karen McWhinnie and friends
DESCRIPTION:Lots of lovely Americana \n \nAs always there is no cover charge for music at the Six Bells\, but please remember to put a fiver in your pocket for the whipround for the musicians
URL:https://sixbellspub.co.uk/event/karen-mcwhinnie-and-friends/
LOCATION:Six Bells\, cb1 2hs
CATEGORIES:Music
END:VEVENT
BEGIN:VEVENT
DTSTART;TZID=Europe/Paris:20231105T140000
DTEND;TZID=Europe/Paris:20231105T170000
DTSTAMP:20260421T172646
CREATED:20231102T133034Z
LAST-MODIFIED:20231102T133034Z
UID:2664-1699192800-1699203600@sixbellspub.co.uk
SUMMARY:Tunes
DESCRIPTION:We’re opening early this Sunday afternoon to host some traditional irish musicians \n 
URL:https://sixbellspub.co.uk/event/tunes-26/
LOCATION:Six Bells\, 11 Covent Garden\, cb1 2hs\, United Kingdom
CATEGORIES:Music
END:VEVENT
BEGIN:VEVENT
DTSTART;TZID=Europe/Paris:20231105T173000
DTEND;TZID=Europe/Paris:20231105T200000
DTSTAMP:20260421T172646
CREATED:20231102T133523Z
LAST-MODIFIED:20231102T133523Z
UID:2667-1699205400-1699214400@sixbellspub.co.uk
SUMMARY:The Romebridge Connection
DESCRIPTION:The Boys are back in town. Join us for some early evening Rock ‘n’ Roll \n  \n \n  \nAs always there is no cover charge for music at the Six Bells\, but please remember to put a fiver in your pocket for the whipround for the musicians
URL:https://sixbellspub.co.uk/event/the-romebridge-connection-2/
CATEGORIES:Music
END:VEVENT
BEGIN:VEVENT
DTSTART;TZID=Europe/Paris:20231106T200000
DTEND;TZID=Europe/Paris:20231106T230000
DTSTAMP:20260421T172646
CREATED:20231102T141915Z
LAST-MODIFIED:20231102T141915Z
UID:2670-1699300800-1699311600@sixbellspub.co.uk
SUMMARY:Quiz Night
DESCRIPTION:  \nEvery Monday at 8pm. It’s £2 tp play for the chance to win a cash prize\, chocolate or even our Jackpot which currently stands at £110
URL:https://sixbellspub.co.uk/event/quiz-night-178/
CATEGORIES:Quiz
END:VEVENT
BEGIN:VEVENT
DTSTART;TZID=Europe/Paris:20231111T203000
DTEND;TZID=Europe/Paris:20231111T223000
DTSTAMP:20260421T172646
CREATED:20231102T153112Z
LAST-MODIFIED:20231102T153112Z
UID:2672-1699734600-1699741800@sixbellspub.co.uk
SUMMARY:Miguel Zambujeira
DESCRIPTION:Solo acoustic set \n  \n \nAs always there is no cover charge for music at the Six Bells\, but please remember to put a fiver in your pocket for the whipround for the musicians \n 
URL:https://sixbellspub.co.uk/event/miguel-zambujeira/
CATEGORIES:Music
END:VEVENT
BEGIN:VEVENT
DTSTART;TZID=Europe/Paris:20231113T200000
DTEND;TZID=Europe/Paris:20231113T223000
DTSTAMP:20260421T172646
CREATED:20231105T130738Z
LAST-MODIFIED:20231105T130839Z
UID:2676-1699905600-1699914600@sixbellspub.co.uk
SUMMARY:Quiz Night
DESCRIPTION:Quiz Night every Monday 8pm. It’s £2 to play\, for a chance to win a cash prize\, chocolate or the Big Money Jackpot!!
URL:https://sixbellspub.co.uk/event/quiz-night-179/
LOCATION:Six Bells\, cb1 2hs
CATEGORIES:Quiz
END:VEVENT
BEGIN:VEVENT
DTSTART;TZID=Europe/Paris:20231116T183000
DTEND;TZID=Europe/Paris:20231116T213000
DTSTAMP:20260421T172646
CREATED:20231105T131219Z
LAST-MODIFIED:20231105T132635Z
UID:2679-1700159400-1700170200@sixbellspub.co.uk
SUMMARY:Thai Food Pop Up with Wok Around the Clock
DESCRIPTION:Wok Around the Clock will be back with more delicious Thai food \n  \nSample menu\, items may differ on the night
URL:https://sixbellspub.co.uk/event/thai-food-pop-up-with-wok-around-the-clock/
LOCATION:Six Bells\, cb1 2hs
END:VEVENT
BEGIN:VEVENT
DTSTART;TZID=Europe/Paris:20231119T170000
DTEND;TZID=Europe/Paris:20231119T200000
DTSTAMP:20260421T172646
CREATED:20231105T132843Z
LAST-MODIFIED:20231105T132843Z
UID:2682-1700413200-1700424000@sixbellspub.co.uk
SUMMARY:Open Mic
DESCRIPTION:Open Mic hosted by Josh Robins. Every one welcome\, and everyone will get a turn
URL:https://sixbellspub.co.uk/event/open-mic-22/
LOCATION:Six Bells
CATEGORIES:Music
END:VEVENT
BEGIN:VEVENT
DTSTART;TZID=Europe/Paris:20231120T200000
DTEND;TZID=Europe/Paris:20231120T223000
DTSTAMP:20260421T172646
CREATED:20231105T133056Z
LAST-MODIFIED:20231105T133056Z
UID:2684-1700510400-1700519400@sixbellspub.co.uk
SUMMARY:Quiz Night
DESCRIPTION:Every Monday at 8pm
URL:https://sixbellspub.co.uk/event/quiz-night-180/
LOCATION:Six Bells\, 11 Covent Garden\, cb1 2hs\, United Kingdom
END:VEVENT
BEGIN:VEVENT
DTSTART;TZID=Europe/Paris:20231125T203000
DTEND;TZID=Europe/Paris:20231125T223000
DTSTAMP:20260421T172646
CREATED:20231105T133259Z
LAST-MODIFIED:20231105T133259Z
UID:2686-1700944200-1700951400@sixbellspub.co.uk
SUMMARY:Jonno Stanford Three Piece Blues Quartet
DESCRIPTION:Join us for some old school Rhythm and Blues \n  \nAs always there is no cover charge for music at the Six Bells\, but please remember to put a fiver in your pocket for the whipround for the musicians
URL:https://sixbellspub.co.uk/event/jonno-stanford-three-piece-blues-quartet/
CATEGORIES:Music
END:VEVENT
BEGIN:VEVENT
DTSTART;TZID=Europe/Paris:20231127T200000
DTEND;TZID=Europe/Paris:20231127T230000
DTSTAMP:20260421T172646
CREATED:20231119T125831Z
LAST-MODIFIED:20231119T125831Z
UID:2694-1701115200-1701126000@sixbellspub.co.uk
SUMMARY:Quiz Night
DESCRIPTION:Every Monday at 8pm £2 to play for a chance to win chocolate or a cash prize
URL:https://sixbellspub.co.uk/event/quiz-night-181/
CATEGORIES:Quiz
END:VEVENT
BEGIN:VEVENT
DTSTART;TZID=Europe/Paris:20231129T200000
DTEND;TZID=Europe/Paris:20231129T230000
DTSTAMP:20260421T172646
CREATED:20231119T125939Z
LAST-MODIFIED:20231119T125939Z
UID:2696-1701288000-1701298800@sixbellspub.co.uk
SUMMARY:Tunes
DESCRIPTION:Traditional Irish music session
URL:https://sixbellspub.co.uk/event/tunes-27/
CATEGORIES:Music
END:VEVENT
BEGIN:VEVENT
DTSTART;TZID=Europe/Paris:20231130T183000
DTEND;TZID=Europe/Paris:20231130T213000
DTSTAMP:20260421T172646
CREATED:20231105T133649Z
LAST-MODIFIED:20231105T133649Z
UID:2691-1701369000-1701379800@sixbellspub.co.uk
SUMMARY:Thai Food Pop Up with Wok Around The Clock
DESCRIPTION:
URL:https://sixbellspub.co.uk/event/thai-food-pop-up-with-wok-around-the-clock-2/
LOCATION:Six Bells\, 11 Covent Garden\, cb1 2hs\, United Kingdom
END:VEVENT
BEGIN:VEVENT
DTSTART;TZID=Europe/Paris:20231130T203000
DTEND;TZID=Europe/Paris:20231130T223000
DTSTAMP:20260421T172646
CREATED:20231105T133533Z
LAST-MODIFIED:20231105T133533Z
UID:2689-1701376200-1701383400@sixbellspub.co.uk
SUMMARY:Solomon Smith\, Chris Newman and Malek Hyde Smith
DESCRIPTION:
URL:https://sixbellspub.co.uk/event/solomon-smith-chris-newman-and-malek-hyde-smith/
CATEGORIES:Music
END:VEVENT
END:VCALENDAR