BEGIN:VCALENDAR
VERSION:2.0
PRODID:-//Six Bells Pub - ECPv6.15.20//NONSGML v1.0//EN
CALSCALE:GREGORIAN
METHOD:PUBLISH
X-WR-CALNAME:Six Bells Pub
X-ORIGINAL-URL:https://sixbellspub.co.uk
X-WR-CALDESC:Events for Six Bells Pub
REFRESH-INTERVAL;VALUE=DURATION:PT1H
X-Robots-Tag:noindex
X-PUBLISHED-TTL:PT1H
BEGIN:VTIMEZONE
TZID:Europe/Paris
BEGIN:DAYLIGHT
TZOFFSETFROM:+0100
TZOFFSETTO:+0200
TZNAME:CEST
DTSTART:20220327T010000
END:DAYLIGHT
BEGIN:STANDARD
TZOFFSETFROM:+0200
TZOFFSETTO:+0100
TZNAME:CET
DTSTART:20221030T010000
END:STANDARD
BEGIN:DAYLIGHT
TZOFFSETFROM:+0100
TZOFFSETTO:+0200
TZNAME:CEST
DTSTART:20230326T010000
END:DAYLIGHT
BEGIN:STANDARD
TZOFFSETFROM:+0200
TZOFFSETTO:+0100
TZNAME:CET
DTSTART:20231029T010000
END:STANDARD
BEGIN:DAYLIGHT
TZOFFSETFROM:+0100
TZOFFSETTO:+0200
TZNAME:CEST
DTSTART:20240331T010000
END:DAYLIGHT
BEGIN:STANDARD
TZOFFSETFROM:+0200
TZOFFSETTO:+0100
TZNAME:CET
DTSTART:20241027T010000
END:STANDARD
END:VTIMEZONE
BEGIN:VEVENT
DTSTART;TZID=Europe/Paris:20230812T203000
DTEND;TZID=Europe/Paris:20230812T230000
DTSTAMP:20260421T211026
CREATED:20230810T085455Z
LAST-MODIFIED:20230810T085618Z
UID:2579-1691872200-1691881200@sixbellspub.co.uk
SUMMARY:Live Music - Harri Beasley
DESCRIPTION:  \nIt’s always a great night when Harri plays at the Bells so bring your dancing shoes!
URL:https://sixbellspub.co.uk/event/harri-beasley-5/
LOCATION:Six Bells\, cb1 2hs
CATEGORIES:Music
END:VEVENT
BEGIN:VEVENT
DTSTART;TZID=Europe/Paris:20230813T180000
DTEND;TZID=Europe/Paris:20230813T210000
DTSTAMP:20260421T211026
CREATED:20230810T090614Z
LAST-MODIFIED:20230810T090614Z
UID:2583-1691949600-1691960400@sixbellspub.co.uk
SUMMARY:Open Mic
DESCRIPTION:Our fortnightly Open Mic\, hosted by Josh Robins of The Mardlers. Everyone is welcome and everyone will get a chance to play at this friendly Open Mic \nCheck out Josh’s new single All Kinds of Shoes – the official music video (filmed in the Six Bells) is available on youtube.com \n 
URL:https://sixbellspub.co.uk/event/open-mic-17/
LOCATION:Six Bells\, 11 Covent Garden\, cb1 2hs\, United Kingdom
CATEGORIES:Music
END:VEVENT
BEGIN:VEVENT
DTSTART;TZID=Europe/Paris:20230814T200000
DTEND;TZID=Europe/Paris:20230814T230000
DTSTAMP:20260421T211026
CREATED:20230810T092418Z
LAST-MODIFIED:20230810T092418Z
UID:2587-1692043200-1692054000@sixbellspub.co.uk
SUMMARY:Quiz Night
DESCRIPTION:  \nQuiz Night every Monday at 8pm\, hosted by the lovely Mark. Win chocolate\, a cash prize and a chance to win the big money Jackpot!
URL:https://sixbellspub.co.uk/event/quiz-night-169/
LOCATION:Six Bells\, cb1 2hs
CATEGORIES:Quiz
END:VEVENT
BEGIN:VEVENT
DTSTART;TZID=Europe/Paris:20230817T200000
DTEND;TZID=Europe/Paris:20230817T230000
DTSTAMP:20260421T211026
CREATED:20230810T094531Z
LAST-MODIFIED:20230810T094531Z
UID:2600-1692302400-1692313200@sixbellspub.co.uk
SUMMARY:Tunes
DESCRIPTION:  \nTraditional Irish Music
URL:https://sixbellspub.co.uk/event/tunes-25/
LOCATION:Six Bells\, cb1 2hs
CATEGORIES:Music
END:VEVENT
BEGIN:VEVENT
DTSTART;TZID=Europe/Paris:20230818T200000
DTEND;TZID=Europe/Paris:20230818T230000
DTSTAMP:20260421T211026
CREATED:20230810T094958Z
LAST-MODIFIED:20230810T094958Z
UID:2602-1692388800-1692399600@sixbellspub.co.uk
SUMMARY:ELVIS!
DESCRIPTION:  \nIan Coulson is Elvis. We’re delighted to welcome back the King of Rock and Roll. This is not to be missed
URL:https://sixbellspub.co.uk/event/elvis-15/
LOCATION:Six Bells\, 11 Covent Garden\, cb1 2hs\, United Kingdom
CATEGORIES:Music
END:VEVENT
BEGIN:VEVENT
DTSTART;TZID=Europe/Paris:20230819T200000
DTEND;TZID=Europe/Paris:20230819T230000
DTSTAMP:20260421T211026
CREATED:20230810T095405Z
LAST-MODIFIED:20230810T095405Z
UID:2604-1692475200-1692486000@sixbellspub.co.uk
SUMMARY:Darkhorse
DESCRIPTION:  \nA five piece rock covers band with a schmattering of swing! Always a great night with Darkhorse\, come early to get a seat \n 
URL:https://sixbellspub.co.uk/event/darkhorse-10/
LOCATION:Six Bells\, 11 Covent Garden\, cb1 2hs\, United Kingdom
CATEGORIES:Music
END:VEVENT
BEGIN:VEVENT
DTSTART;TZID=Europe/Paris:20230821T200000
DTEND;TZID=Europe/Paris:20230821T230000
DTSTAMP:20260421T211026
CREATED:20230810T092859Z
LAST-MODIFIED:20230810T094147Z
UID:2589-1692648000-1692658800@sixbellspub.co.uk
SUMMARY:Quiz Night
DESCRIPTION:Quiz Night every Monday at 8pm\, hosted by the lovely Mark. Win chocolate\, a cash prize and a chance to win the big money Jackpot!
URL:https://sixbellspub.co.uk/event/quiz-night-170/
LOCATION:Six Bells\, cb1 2hs
CATEGORIES:Quiz
END:VEVENT
BEGIN:VEVENT
DTSTART;TZID=Europe/Paris:20230826T200000
DTEND;TZID=Europe/Paris:20230826T200000
DTSTAMP:20260421T211026
CREATED:20230810T095546Z
LAST-MODIFIED:20230810T095546Z
UID:2606-1693080000-1693080000@sixbellspub.co.uk
SUMMARY:George Breakfast
DESCRIPTION:
URL:https://sixbellspub.co.uk/event/george-breakfast/
LOCATION:Six Bells\, 11 Covent Garden\, cb1 2hs\, United Kingdom
CATEGORIES:Music
END:VEVENT
BEGIN:VEVENT
DTSTART;TZID=Europe/Paris:20230827T180000
DTEND;TZID=Europe/Paris:20230827T210000
DTSTAMP:20260421T211026
CREATED:20230810T095808Z
LAST-MODIFIED:20230810T101156Z
UID:2608-1693159200-1693170000@sixbellspub.co.uk
SUMMARY:Open Mic
DESCRIPTION:  \nHosted by Josh Robins of The Mardlers. Everyone is welcome and everyone will get a turn
URL:https://sixbellspub.co.uk/event/open-mic-18/
LOCATION:Six Bells\, 11 Covent Garden\, cb1 2hs\, United Kingdom
CATEGORIES:Music
END:VEVENT
BEGIN:VEVENT
DTSTART;TZID=Europe/Paris:20230828T200000
DTEND;TZID=Europe/Paris:20230828T230000
DTSTAMP:20260421T211026
CREATED:20230810T093051Z
LAST-MODIFIED:20230810T093123Z
UID:2591-1693252800-1693263600@sixbellspub.co.uk
SUMMARY:Quiz Night
DESCRIPTION:Quiz Night every Monday at 8pm\, hosted by the lovely Mark. Win chocolate\, a cash prize and a chance to win the big money Jackpot!
URL:https://sixbellspub.co.uk/event/quiz-night-171/
LOCATION:Six Bells\, cb1 2hs
CATEGORIES:Quiz
END:VEVENT
END:VCALENDAR