BEGIN:VCALENDAR
VERSION:2.0
PRODID:-//Six Bells Pub - ECPv6.15.20//NONSGML v1.0//EN
CALSCALE:GREGORIAN
METHOD:PUBLISH
X-WR-CALNAME:Six Bells Pub
X-ORIGINAL-URL:https://sixbellspub.co.uk
X-WR-CALDESC:Events for Six Bells Pub
REFRESH-INTERVAL;VALUE=DURATION:PT1H
X-Robots-Tag:noindex
X-PUBLISHED-TTL:PT1H
BEGIN:VTIMEZONE
TZID:Europe/Paris
BEGIN:DAYLIGHT
TZOFFSETFROM:+0100
TZOFFSETTO:+0200
TZNAME:CEST
DTSTART:20220327T010000
END:DAYLIGHT
BEGIN:STANDARD
TZOFFSETFROM:+0200
TZOFFSETTO:+0100
TZNAME:CET
DTSTART:20221030T010000
END:STANDARD
BEGIN:DAYLIGHT
TZOFFSETFROM:+0100
TZOFFSETTO:+0200
TZNAME:CEST
DTSTART:20230326T010000
END:DAYLIGHT
BEGIN:STANDARD
TZOFFSETFROM:+0200
TZOFFSETTO:+0100
TZNAME:CET
DTSTART:20231029T010000
END:STANDARD
BEGIN:DAYLIGHT
TZOFFSETFROM:+0100
TZOFFSETTO:+0200
TZNAME:CEST
DTSTART:20240331T010000
END:DAYLIGHT
BEGIN:STANDARD
TZOFFSETFROM:+0200
TZOFFSETTO:+0100
TZNAME:CET
DTSTART:20241027T010000
END:STANDARD
END:VTIMEZONE
BEGIN:VEVENT
DTSTART;TZID=Europe/Paris:20230601T200000
DTEND;TZID=Europe/Paris:20230601T220000
DTSTAMP:20260421T235531
CREATED:20230424T161737Z
LAST-MODIFIED:20230424T161737Z
UID:2564-1685649600-1685656800@sixbellspub.co.uk
SUMMARY:Johnny Wright and guest
DESCRIPTION:
URL:https://sixbellspub.co.uk/event/johnny-wright-and-guest/
LOCATION:Six Bells\, cb1 2hs
CATEGORIES:Music
END:VEVENT
BEGIN:VEVENT
DTSTART;TZID=Europe/Paris:20230602T203000
DTEND;TZID=Europe/Paris:20230602T223000
DTSTAMP:20260421T235531
CREATED:20230424T163309Z
LAST-MODIFIED:20230424T163309Z
UID:2566-1685737800-1685745000@sixbellspub.co.uk
SUMMARY:Johanna Dupke and friends
DESCRIPTION:Can’t wait to welcome Johanna back to the Six Bells \n 
URL:https://sixbellspub.co.uk/event/johanna-dupke-and-friends-2/
LOCATION:Six Bells\, cb1 2hs
CATEGORIES:Music
END:VEVENT
BEGIN:VEVENT
DTSTART;TZID=Europe/Paris:20230604T170000
DTEND;TZID=Europe/Paris:20230604T200000
DTSTAMP:20260421T235531
CREATED:20230424T163435Z
LAST-MODIFIED:20230424T163435Z
UID:2568-1685898000-1685908800@sixbellspub.co.uk
SUMMARY:Open Mic
DESCRIPTION:
URL:https://sixbellspub.co.uk/event/open-mic-16/
LOCATION:Six Bells\, 11 Covent Garden\, cb1 2hs\, United Kingdom
CATEGORIES:Music
END:VEVENT
BEGIN:VEVENT
DTSTART;TZID=Europe/Paris:20230605T200000
DTEND;TZID=Europe/Paris:20230605T223000
DTSTAMP:20260421T235531
CREATED:20230529T144455Z
LAST-MODIFIED:20230529T145111Z
UID:2573-1685995200-1686004200@sixbellspub.co.uk
SUMMARY:Quiz Night
DESCRIPTION:Quiz Night every Monday ~£2 to play – includes entry into the Jackpot Prize Question \nWinning teams get a cash prize and everyone has a chance to win some chocolate \nAmong this weeks special rounds is ‘The Sound of Music’ \n  \n 
URL:https://sixbellspub.co.uk/event/quiz-night-168/
CATEGORIES:Quiz
END:VEVENT
BEGIN:VEVENT
DTSTART;TZID=Europe/Paris:20230610T203000
DTEND;TZID=Europe/Paris:20230610T230000
DTSTAMP:20260421T235532
CREATED:20230529T144738Z
LAST-MODIFIED:20230529T144738Z
UID:2575-1686429000-1686438000@sixbellspub.co.uk
SUMMARY:The Lightwaves
DESCRIPTION:We’re delighted to welcome back The Lightwaves\, bring all your friends they are always great!
URL:https://sixbellspub.co.uk/event/the-lightwaves-8/
END:VEVENT
END:VCALENDAR