BEGIN:VCALENDAR
VERSION:2.0
PRODID:-//Six Bells Pub - ECPv6.15.20//NONSGML v1.0//EN
CALSCALE:GREGORIAN
METHOD:PUBLISH
X-WR-CALNAME:Six Bells Pub
X-ORIGINAL-URL:https://sixbellspub.co.uk
X-WR-CALDESC:Events for Six Bells Pub
REFRESH-INTERVAL;VALUE=DURATION:PT1H
X-Robots-Tag:noindex
X-PUBLISHED-TTL:PT1H
BEGIN:VTIMEZONE
TZID:Europe/Paris
BEGIN:DAYLIGHT
TZOFFSETFROM:+0100
TZOFFSETTO:+0200
TZNAME:CEST
DTSTART:20220327T010000
END:DAYLIGHT
BEGIN:STANDARD
TZOFFSETFROM:+0200
TZOFFSETTO:+0100
TZNAME:CET
DTSTART:20221030T010000
END:STANDARD
BEGIN:DAYLIGHT
TZOFFSETFROM:+0100
TZOFFSETTO:+0200
TZNAME:CEST
DTSTART:20230326T010000
END:DAYLIGHT
BEGIN:STANDARD
TZOFFSETFROM:+0200
TZOFFSETTO:+0100
TZNAME:CET
DTSTART:20231029T010000
END:STANDARD
BEGIN:DAYLIGHT
TZOFFSETFROM:+0100
TZOFFSETTO:+0200
TZNAME:CEST
DTSTART:20240331T010000
END:DAYLIGHT
BEGIN:STANDARD
TZOFFSETFROM:+0200
TZOFFSETTO:+0100
TZNAME:CET
DTSTART:20241027T010000
END:STANDARD
END:VTIMEZONE
BEGIN:VEVENT
DTSTART;TZID=Europe/Paris:20230424T200000
DTEND;TZID=Europe/Paris:20230424T223000
DTSTAMP:20260422T023628
CREATED:20230424T134903Z
LAST-MODIFIED:20230424T134903Z
UID:2540-1682366400-1682375400@sixbellspub.co.uk
SUMMARY:Quiz Night
DESCRIPTION:Every Monday (except Bank Holidays\, so that’s most of May gone) at 8pm. Your chance to win chocolate or a cash prize\, £2 to play includes entrance into the big money Jackpot. Bring all your friends\, its great fun! \n 
URL:https://sixbellspub.co.uk/event/quiz-night-165/
CATEGORIES:Quiz
END:VEVENT
BEGIN:VEVENT
DTSTART;TZID=Europe/Paris:20230428T203000
DTEND;TZID=Europe/Paris:20230428T230000
DTSTAMP:20260422T023628
CREATED:20230424T134445Z
LAST-MODIFIED:20230424T134445Z
UID:2537-1682713800-1682722800@sixbellspub.co.uk
SUMMARY:Elvis!
DESCRIPTION:Elvis will be in the building this Friday night from 8.30pm. Join us for what is bound to be a great time! \nAs always there is no entrance fee for music at the Six Bells\, but there will be a collection for the musicians\, so remember to put a fiver in your pocket \n 
URL:https://sixbellspub.co.uk/event/elvis-14/
LOCATION:Six Bells\, cb1 2hs
END:VEVENT
BEGIN:VEVENT
DTSTART;TZID=Europe/Paris:20230429T183000
DTEND;TZID=Europe/Paris:20230429T210000
DTSTAMP:20260422T023628
CREATED:20230424T140631Z
LAST-MODIFIED:20230424T140631Z
UID:2544-1682793000-1682802000@sixbellspub.co.uk
SUMMARY:Chinese Food Pop Up
DESCRIPTION:We’re delighted to welcome Alex back with another pop up feast\n\nThis week’s menu will be\nVegan mixed grain rice with tofu and seasonal salad\nor\nSlow braised pork belly ragout on artisan rice\nFood available to eat in or takeaway\n\n\n  \n  \n 
URL:https://sixbellspub.co.uk/event/chinese-food-pop-up/
LOCATION:Six Bells\, cb1 2hs
END:VEVENT
BEGIN:VEVENT
DTSTART;TZID=Europe/Paris:20230430T200000
DTEND;TZID=Europe/Paris:20230430T220000
DTSTAMP:20260422T023628
CREATED:20230424T135717Z
LAST-MODIFIED:20230424T135717Z
UID:2542-1682884800-1682892000@sixbellspub.co.uk
SUMMARY:The Romebridge Connection
DESCRIPTION:The Boys are Back in Town\, and they’ll be at the Six Bells on Sunday night – and there’s no school on Monday \nAs always there is no entry fee for music at the Six Bells\, but there will be a collection for the band\, so remember to put a fiver in your pocket \n 
URL:https://sixbellspub.co.uk/event/the-romebridge-connection/
LOCATION:Six Bells\, cb1 2hs
CATEGORIES:Music
END:VEVENT
END:VCALENDAR