BEGIN:VCALENDAR
VERSION:2.0
PRODID:-//Six Bells Pub - ECPv6.15.20//NONSGML v1.0//EN
CALSCALE:GREGORIAN
METHOD:PUBLISH
X-WR-CALNAME:Six Bells Pub
X-ORIGINAL-URL:https://sixbellspub.co.uk
X-WR-CALDESC:Events for Six Bells Pub
REFRESH-INTERVAL;VALUE=DURATION:PT1H
X-Robots-Tag:noindex
X-PUBLISHED-TTL:PT1H
BEGIN:VTIMEZONE
TZID:Europe/Paris
BEGIN:DAYLIGHT
TZOFFSETFROM:+0100
TZOFFSETTO:+0200
TZNAME:CEST
DTSTART:20210328T010000
END:DAYLIGHT
BEGIN:STANDARD
TZOFFSETFROM:+0200
TZOFFSETTO:+0100
TZNAME:CET
DTSTART:20211031T010000
END:STANDARD
BEGIN:DAYLIGHT
TZOFFSETFROM:+0100
TZOFFSETTO:+0200
TZNAME:CEST
DTSTART:20220327T010000
END:DAYLIGHT
BEGIN:STANDARD
TZOFFSETFROM:+0200
TZOFFSETTO:+0100
TZNAME:CET
DTSTART:20221030T010000
END:STANDARD
BEGIN:DAYLIGHT
TZOFFSETFROM:+0100
TZOFFSETTO:+0200
TZNAME:CEST
DTSTART:20230326T010000
END:DAYLIGHT
BEGIN:STANDARD
TZOFFSETFROM:+0200
TZOFFSETTO:+0100
TZNAME:CET
DTSTART:20231029T010000
END:STANDARD
BEGIN:DAYLIGHT
TZOFFSETFROM:+0100
TZOFFSETTO:+0200
TZNAME:CEST
DTSTART:20240331T010000
END:DAYLIGHT
BEGIN:STANDARD
TZOFFSETFROM:+0200
TZOFFSETTO:+0100
TZNAME:CET
DTSTART:20241027T010000
END:STANDARD
END:VTIMEZONE
BEGIN:VEVENT
DTSTART;TZID=Europe/Paris:20221201T203000
DTEND;TZID=Europe/Paris:20221201T223000
DTSTAMP:20260422T081114
CREATED:20221130T132747Z
LAST-MODIFIED:20221130T132747Z
UID:2494-1669926600-1669933800@sixbellspub.co.uk
SUMMARY:Johnny Wright with special guest Sean O'Hanrahan
DESCRIPTION:Join us for us for Johnny’s monthly gig\, this month accompanied by the fabulous Sean  O’Hanrahan
URL:https://sixbellspub.co.uk/event/johnny-wright-with-special-guest-sean-ohanrahan/
LOCATION:Six Bells\, cb1 2hs
CATEGORIES:Music
ORGANIZER;CN="Eileen O'Brien":MAILTO:eileenobrien@hotmail.co.uk
END:VEVENT
BEGIN:VEVENT
DTSTART;VALUE=DATE:20221203
DTEND;VALUE=DATE:20221204
DTSTAMP:20260422T081114
CREATED:20221130T141540Z
LAST-MODIFIED:20221130T141540Z
UID:2509-1670025600-1670111999@sixbellspub.co.uk
SUMMARY:Mill Road Winter Fair
DESCRIPTION:We are so looking forward to this year’s Winter Fair – it’s been a long wait. \nWe’ll be open from around 10am\, there will be gallons of Mulled Wine and other hot drinks as well as our usual selection of beers etc. We will have artworks on show\, available to buy. We’ve got a Taiwanese street-food pop up. We hope we’ll have some traditional Irish music in the afternoon and George and Johnny in the evening. It should be a great day! \n \nOur popular Vegan Bao Bun will return on Saturday\, Dec 3rd\, plus another Taiwanese street food known as ‘Lu Rou Fan’ – a bowl of braised pork on steamed rice. It is a much loved comfort food\, fitting for celebrating our cultural diversity in our community. Best appreciated with a pint. Food serving from 11am till it runs out\, so come early to avoid disappointment.
URL:https://sixbellspub.co.uk/event/mill-road-winter-fair-3/
LOCATION:Six Bells\, cb1 2hs
CATEGORIES:community event,Food,Music
ORGANIZER;CN="Eileen O'Brien":MAILTO:eileenobrien@hotmail.co.uk
END:VEVENT
BEGIN:VEVENT
DTSTART;TZID=Europe/Paris:20221203T203000
DTEND;TZID=Europe/Paris:20221203T203000
DTSTAMP:20260422T081114
CREATED:20221130T134531Z
LAST-MODIFIED:20221130T134531Z
UID:2503-1670099400-1670099400@sixbellspub.co.uk
SUMMARY:George Breakfast and Johnny Wright
DESCRIPTION:
URL:https://sixbellspub.co.uk/event/george-breakfast-and-johnny-wright/
LOCATION:Six Bells\, cb1 2hs
CATEGORIES:Music
END:VEVENT
BEGIN:VEVENT
DTSTART;TZID=Europe/Paris:20221204T170000
DTEND;TZID=Europe/Paris:20221204T190000
DTSTAMP:20260422T081114
CREATED:20221130T134912Z
LAST-MODIFIED:20221130T134912Z
UID:2506-1670173200-1670180400@sixbellspub.co.uk
SUMMARY:The Rising Blues Allstars
DESCRIPTION:The coolest kids in town …..
URL:https://sixbellspub.co.uk/event/the-rising-blues-allstars/
LOCATION:Six Bells\, cb1 2hs
CATEGORIES:Music
END:VEVENT
BEGIN:VEVENT
DTSTART;TZID=Europe/Paris:20221205T200000
DTEND;TZID=Europe/Paris:20221205T223000
DTSTAMP:20260422T081114
CREATED:20221201T111101Z
LAST-MODIFIED:20221201T111101Z
UID:2517-1670270400-1670279400@sixbellspub.co.uk
SUMMARY:Quiz night
DESCRIPTION:Every Monday at 8pm
URL:https://sixbellspub.co.uk/event/quiz-night-163/
LOCATION:Six Bells\, cb1 2hs
CATEGORIES:Quiz
ORGANIZER;CN="Eileen O'Brien":MAILTO:eileenobrien@hotmail.co.uk
END:VEVENT
BEGIN:VEVENT
DTSTART;TZID=Europe/Paris:20221206T203000
DTEND;TZID=Europe/Paris:20221206T223000
DTSTAMP:20260422T081114
CREATED:20221201T111409Z
LAST-MODIFIED:20221201T111409Z
UID:2520-1670358600-1670365800@sixbellspub.co.uk
SUMMARY:Errico Cutolo
DESCRIPTION:Fabulous Italian crooner Errico will be joining us for an evening of your favourite songs
URL:https://sixbellspub.co.uk/event/errico-cutolo/
LOCATION:Six Bells\, cb1 2hs
CATEGORIES:Music
ORGANIZER;CN="Eileen O'Brien":MAILTO:eileenobrien@hotmail.co.uk
END:VEVENT
BEGIN:VEVENT
DTSTART;TZID=Europe/Paris:20221210T203000
DTEND;TZID=Europe/Paris:20221210T223000
DTSTAMP:20260422T081114
CREATED:20221201T111608Z
LAST-MODIFIED:20221201T111608Z
UID:2522-1670704200-1670711400@sixbellspub.co.uk
SUMMARY:Mola Mola Jambalaya
DESCRIPTION:Southern fried Rock and Roll \n 
URL:https://sixbellspub.co.uk/event/mola-mola-jambalaya-5/
LOCATION:Six Bells\, cb1 2hs
CATEGORIES:Music
ORGANIZER;CN="Eileen O'Brien":MAILTO:eileenobrien@hotmail.co.uk
END:VEVENT
BEGIN:VEVENT
DTSTART;TZID=Europe/Paris:20221211T170000
DTEND;TZID=Europe/Paris:20221211T200000
DTSTAMP:20260422T081114
CREATED:20221201T111828Z
LAST-MODIFIED:20221201T111828Z
UID:2524-1670778000-1670788800@sixbellspub.co.uk
SUMMARY:Open Mic
DESCRIPTION:Final Open Mic of 2022\, hosted by Josh Robins. Everyone welcome\, everyone gets a chance to play \n \n  \n 
URL:https://sixbellspub.co.uk/event/open-mic-13/
LOCATION:Six Bells\, cb1 2hs
CATEGORIES:Music
ORGANIZER;CN="Eileen O'Brien":MAILTO:eileenobrien@hotmail.co.uk
END:VEVENT
BEGIN:VEVENT
DTSTART;TZID=Europe/Paris:20221212T200000
DTEND;TZID=Europe/Paris:20221212T223000
DTSTAMP:20260422T081114
CREATED:20221201T112017Z
LAST-MODIFIED:20221201T112017Z
UID:2526-1670875200-1670884200@sixbellspub.co.uk
SUMMARY:Quiz Night
DESCRIPTION:
URL:https://sixbellspub.co.uk/event/quiz-night-164/
CATEGORIES:Quiz
END:VEVENT
BEGIN:VEVENT
DTSTART;TZID=Europe/Paris:20221218T170000
DTEND;TZID=Europe/Paris:20221218T190000
DTSTAMP:20260422T081114
CREATED:20221201T112203Z
LAST-MODIFIED:20221201T112203Z
UID:2528-1671382800-1671390000@sixbellspub.co.uk
SUMMARY:Rising Blues Allstars
DESCRIPTION:
URL:https://sixbellspub.co.uk/event/rising-blues-allstars/
CATEGORIES:Music
END:VEVENT
BEGIN:VEVENT
DTSTART;TZID=Europe/Paris:20221220T200000
DTEND;TZID=Europe/Paris:20221220T233000
DTSTAMP:20260422T081114
CREATED:20221201T112342Z
LAST-MODIFIED:20221201T112401Z
UID:2530-1671566400-1671579000@sixbellspub.co.uk
SUMMARY:Pogues Night
DESCRIPTION:
URL:https://sixbellspub.co.uk/event/pogurs-night/
LOCATION:Six Bells\, cb1 2hs
CATEGORIES:Music
ORGANIZER;CN="Eileen O'Brien":MAILTO:eileenobrien@hotmail.co.uk
END:VEVENT
BEGIN:VEVENT
DTSTART;TZID=Europe/Paris:20221231T200000
DTEND;TZID=Europe/Paris:20230101T010000
DTSTAMP:20260422T081114
CREATED:20221201T112543Z
LAST-MODIFIED:20221201T112543Z
UID:2534-1672516800-1672534800@sixbellspub.co.uk
SUMMARY:New Year's Eve with Johnny\, Josh and friends
DESCRIPTION:
URL:https://sixbellspub.co.uk/event/new-years-eve-with-johnny-josh-and-friends/
CATEGORIES:Music
END:VEVENT
END:VCALENDAR