BEGIN:VCALENDAR
VERSION:2.0
PRODID:-//Six Bells Pub - ECPv6.15.20//NONSGML v1.0//EN
CALSCALE:GREGORIAN
METHOD:PUBLISH
X-ORIGINAL-URL:https://sixbellspub.co.uk
X-WR-CALDESC:Events for Six Bells Pub
REFRESH-INTERVAL;VALUE=DURATION:PT1H
X-Robots-Tag:noindex
X-PUBLISHED-TTL:PT1H
BEGIN:VTIMEZONE
TZID:Europe/Paris
BEGIN:DAYLIGHT
TZOFFSETFROM:+0100
TZOFFSETTO:+0200
TZNAME:CEST
DTSTART:20210328T010000
END:DAYLIGHT
BEGIN:STANDARD
TZOFFSETFROM:+0200
TZOFFSETTO:+0100
TZNAME:CET
DTSTART:20211031T010000
END:STANDARD
BEGIN:DAYLIGHT
TZOFFSETFROM:+0100
TZOFFSETTO:+0200
TZNAME:CEST
DTSTART:20220327T010000
END:DAYLIGHT
BEGIN:STANDARD
TZOFFSETFROM:+0200
TZOFFSETTO:+0100
TZNAME:CET
DTSTART:20221030T010000
END:STANDARD
BEGIN:DAYLIGHT
TZOFFSETFROM:+0100
TZOFFSETTO:+0200
TZNAME:CEST
DTSTART:20230326T010000
END:DAYLIGHT
BEGIN:STANDARD
TZOFFSETFROM:+0200
TZOFFSETTO:+0100
TZNAME:CET
DTSTART:20231029T010000
END:STANDARD
END:VTIMEZONE
BEGIN:VEVENT
DTSTART;TZID=Europe/Paris:20220306T170000
DTEND;TZID=Europe/Paris:20220306T210000
DTSTAMP:20260422T195934
CREATED:20220306T180220Z
LAST-MODIFIED:20220306T180220Z
UID:2416-1646586000-1646600400@sixbellspub.co.uk
SUMMARY:Sunday Sessions Open Mic
DESCRIPTION:
URL:https://sixbellspub.co.uk/event/sunday-sessions-open-mic-61/
CATEGORIES:Music
END:VEVENT
BEGIN:VEVENT
DTSTART;TZID=Europe/Paris:20220307T200000
DTEND;TZID=Europe/Paris:20220307T230000
DTSTAMP:20260422T195934
CREATED:20220306T181829Z
LAST-MODIFIED:20220306T181829Z
UID:2418-1646683200-1646694000@sixbellspub.co.uk
SUMMARY:Quiz Night
DESCRIPTION:Every Monday night !
URL:https://sixbellspub.co.uk/event/quiz-night-153/
CATEGORIES:Quiz
END:VEVENT
BEGIN:VEVENT
DTSTART;TZID=Europe/Paris:20220312T200000
DTEND;TZID=Europe/Paris:20220312T223000
DTSTAMP:20260422T195934
CREATED:20220306T182216Z
LAST-MODIFIED:20220306T182216Z
UID:2420-1647115200-1647124200@sixbellspub.co.uk
SUMMARY:Imlac with special guest Johnny Wright
DESCRIPTION:This is going to be great! \n 
URL:https://sixbellspub.co.uk/event/imlac-with-special-guest-johnny-wright/
CATEGORIES:Music
END:VEVENT
BEGIN:VEVENT
DTSTART;TZID=Europe/Paris:20220314T200000
DTEND;TZID=Europe/Paris:20220314T230000
DTSTAMP:20260422T195934
CREATED:20220306T182411Z
LAST-MODIFIED:20220306T182411Z
UID:2422-1647288000-1647298800@sixbellspub.co.uk
SUMMARY:Quiz Night
DESCRIPTION:
URL:https://sixbellspub.co.uk/event/quiz-night-154/
CATEGORIES:Quiz
END:VEVENT
BEGIN:VEVENT
DTSTART;TZID=Europe/Paris:20220320T170000
DTEND;TZID=Europe/Paris:20220320T210000
DTSTAMP:20260422T195934
CREATED:20220306T182618Z
LAST-MODIFIED:20220306T182618Z
UID:2424-1647795600-1647810000@sixbellspub.co.uk
SUMMARY:Sunday Sessions Open Mic
DESCRIPTION:
URL:https://sixbellspub.co.uk/event/sunday-sessions-open-mic-62/
CATEGORIES:Music
END:VEVENT
BEGIN:VEVENT
DTSTART;TZID=Europe/Paris:20220321T200000
DTEND;TZID=Europe/Paris:20220321T200000
DTSTAMP:20260422T195934
CREATED:20220306T182806Z
LAST-MODIFIED:20220306T182806Z
UID:2426-1647892800-1647892800@sixbellspub.co.uk
SUMMARY:Quiz Night
DESCRIPTION:
URL:https://sixbellspub.co.uk/event/quiz-night-155/
CATEGORIES:Quiz
END:VEVENT
BEGIN:VEVENT
DTSTART;TZID=Europe/Paris:20220326T200000
DTEND;TZID=Europe/Paris:20220326T223000
DTSTAMP:20260422T195934
CREATED:20220306T182943Z
LAST-MODIFIED:20220306T182943Z
UID:2428-1648324800-1648333800@sixbellspub.co.uk
SUMMARY:Silverbacks Blues Band
DESCRIPTION:
URL:https://sixbellspub.co.uk/event/silverbacks-blues-band-3/
CATEGORIES:Music
END:VEVENT
BEGIN:VEVENT
DTSTART;TZID=Europe/Paris:20220328T200000
DTEND;TZID=Europe/Paris:20220328T230000
DTSTAMP:20260422T195934
CREATED:20220306T183032Z
LAST-MODIFIED:20220306T183032Z
UID:2430-1648497600-1648508400@sixbellspub.co.uk
SUMMARY:Quiz Night
DESCRIPTION:
URL:https://sixbellspub.co.uk/event/quiz-night-156/
CATEGORIES:Quiz
END:VEVENT
BEGIN:VEVENT
DTSTART;TZID=Europe/Paris:20220330T200000
DTEND;TZID=Europe/Paris:20220330T230000
DTSTAMP:20260422T195934
CREATED:20220306T183229Z
LAST-MODIFIED:20220306T183229Z
UID:2432-1648670400-1648681200@sixbellspub.co.uk
SUMMARY:Tunes
DESCRIPTION:
URL:https://sixbellspub.co.uk/event/tunes-23/
CATEGORIES:Music
END:VEVENT
END:VCALENDAR