BEGIN:VCALENDAR
VERSION:2.0
PRODID:-//Six Bells Pub - ECPv6.15.20//NONSGML v1.0//EN
CALSCALE:GREGORIAN
METHOD:PUBLISH
X-ORIGINAL-URL:https://sixbellspub.co.uk
X-WR-CALDESC:Events for Six Bells Pub
REFRESH-INTERVAL;VALUE=DURATION:PT1H
X-Robots-Tag:noindex
X-PUBLISHED-TTL:PT1H
BEGIN:VTIMEZONE
TZID:Europe/Paris
BEGIN:DAYLIGHT
TZOFFSETFROM:+0100
TZOFFSETTO:+0200
TZNAME:CEST
DTSTART:20210328T010000
END:DAYLIGHT
BEGIN:STANDARD
TZOFFSETFROM:+0200
TZOFFSETTO:+0100
TZNAME:CET
DTSTART:20211031T010000
END:STANDARD
BEGIN:DAYLIGHT
TZOFFSETFROM:+0100
TZOFFSETTO:+0200
TZNAME:CEST
DTSTART:20220327T010000
END:DAYLIGHT
BEGIN:STANDARD
TZOFFSETFROM:+0200
TZOFFSETTO:+0100
TZNAME:CET
DTSTART:20221030T010000
END:STANDARD
BEGIN:DAYLIGHT
TZOFFSETFROM:+0100
TZOFFSETTO:+0200
TZNAME:CEST
DTSTART:20230326T010000
END:DAYLIGHT
BEGIN:STANDARD
TZOFFSETFROM:+0200
TZOFFSETTO:+0100
TZNAME:CET
DTSTART:20231029T010000
END:STANDARD
END:VTIMEZONE
BEGIN:VEVENT
DTSTART;VALUE=DATE:20220201
DTEND;VALUE=DATE:20220301
DTSTAMP:20260422T212631
CREATED:20220202T204626Z
LAST-MODIFIED:20220202T204626Z
UID:2402-1643673600-1646092799@sixbellspub.co.uk
SUMMARY:Exhibition of Paintings by Alan Hudlestone
DESCRIPTION:
URL:https://sixbellspub.co.uk/event/exhibition-of-paintings-by-alan-hudlestone/
LOCATION:Six Bells\, cb1 2hs
END:VEVENT
BEGIN:VEVENT
DTSTART;TZID=Europe/Paris:20220205T200000
DTEND;TZID=Europe/Paris:20220205T223000
DTSTAMP:20260422T212631
CREATED:20220202T201326Z
LAST-MODIFIED:20220202T204018Z
UID:2385-1644091200-1644100200@sixbellspub.co.uk
SUMMARY:Harri Beasley
DESCRIPTION:  \nWe’re delighted to welcome back the super talented Harri Beasley for what promises to be another great night!
URL:https://sixbellspub.co.uk/event/harri-beasley-3/
LOCATION:Six Bells\, cb1 2hs
CATEGORIES:Music
END:VEVENT
BEGIN:VEVENT
DTSTART;TZID=Europe/Paris:20220206T170000
DTEND;TZID=Europe/Paris:20220206T200000
DTSTAMP:20260422T212631
CREATED:20220202T201743Z
LAST-MODIFIED:20220202T201743Z
UID:2387-1644166800-1644177600@sixbellspub.co.uk
SUMMARY:Sunday Sessions Open Mic
DESCRIPTION:Hosted by Josh Robins of The Mardlers \nEveryone is welcome at our friendly fortnightly Open Mic. Come along and bring all your friends!
URL:https://sixbellspub.co.uk/event/sunday-sessions-open-mic-59/
LOCATION:Six Bells\, 11 Covent Garden\, cb1 2hs\, United Kingdom
CATEGORIES:Music
END:VEVENT
BEGIN:VEVENT
DTSTART;TZID=Europe/Paris:20220207T200000
DTEND;TZID=Europe/Paris:20220207T223000
DTSTAMP:20260422T212631
CREATED:20220202T202143Z
LAST-MODIFIED:20220202T202143Z
UID:2389-1644264000-1644273000@sixbellspub.co.uk
SUMMARY:Quiz Night
DESCRIPTION:Every Monday 8pm.  Your chance to win chocolate or maybe even £££ \nThis weeks specialist rounds include South Park Characters. and two other rounds that I can’t remember!
URL:https://sixbellspub.co.uk/event/quiz-night-149/
LOCATION:Six Bells\, cb1 2hs
CATEGORIES:Quiz
END:VEVENT
BEGIN:VEVENT
DTSTART;TZID=Europe/Paris:20220212T200000
DTEND;TZID=Europe/Paris:20220212T223000
DTSTAMP:20260422T212631
CREATED:20220202T202802Z
LAST-MODIFIED:20220202T202802Z
UID:2391-1644696000-1644705000@sixbellspub.co.uk
SUMMARY:Mola Mola Jambalaya
DESCRIPTION:
URL:https://sixbellspub.co.uk/event/mola-mola-jambalaya-4/
LOCATION:Six Bells\, 11 Covent Garden\, cb1 2hs\, United Kingdom
CATEGORIES:Music
END:VEVENT
BEGIN:VEVENT
DTSTART;TZID=Europe/Paris:20220214T200000
DTEND;TZID=Europe/Paris:20220214T223000
DTSTAMP:20260422T212631
CREATED:20220202T203006Z
LAST-MODIFIED:20220202T203006Z
UID:2393-1644868800-1644877800@sixbellspub.co.uk
SUMMARY:Quiz Night
DESCRIPTION:Quiz Night every Monday 8pm
URL:https://sixbellspub.co.uk/event/quiz-night-150/
LOCATION:Six Bells\, 11 Covent Garden\, cb1 2hs\, United Kingdom
END:VEVENT
BEGIN:VEVENT
DTSTART;TZID=Europe/Paris:20220219T200000
DTEND;TZID=Europe/Paris:20220219T223000
DTSTAMP:20260422T212631
CREATED:20220202T205653Z
LAST-MODIFIED:20220202T205653Z
UID:2412-1645300800-1645309800@sixbellspub.co.uk
SUMMARY:The Jon Stanford 3-piece Blues Quartet
DESCRIPTION:
URL:https://sixbellspub.co.uk/event/the-jon-stanford-3-piece-blues-quartet/
LOCATION:Six Bells\, 11 Covent Garden\, cb1 2hs\, United Kingdom
CATEGORIES:Music
END:VEVENT
BEGIN:VEVENT
DTSTART;TZID=Europe/Paris:20220220T170000
DTEND;TZID=Europe/Paris:20220220T200000
DTSTAMP:20260422T212631
CREATED:20220202T204853Z
LAST-MODIFIED:20220202T204853Z
UID:2406-1645376400-1645387200@sixbellspub.co.uk
SUMMARY:Sunday Sessions Open Mic
DESCRIPTION:Hosted by Josh Robins of The Mardlers \nEveryone welcome
URL:https://sixbellspub.co.uk/event/sunday-sessions-open-mic-60/
LOCATION:Six Bells\, cb1 2hs
CATEGORIES:Music
END:VEVENT
BEGIN:VEVENT
DTSTART;TZID=Europe/Paris:20220221T200000
DTEND;TZID=Europe/Paris:20220221T223000
DTSTAMP:20260422T212631
CREATED:20220202T203144Z
LAST-MODIFIED:20220202T203144Z
UID:2395-1645473600-1645482600@sixbellspub.co.uk
SUMMARY:Quiz Night
DESCRIPTION:Every Monday 8pm
URL:https://sixbellspub.co.uk/event/quiz-night-151/
LOCATION:Six Bells\, cb1 2hs
CATEGORIES:Quiz
END:VEVENT
BEGIN:VEVENT
DTSTART;TZID=Europe/Paris:20220226T200000
DTEND;TZID=Europe/Paris:20220226T223000
DTSTAMP:20260422T212631
CREATED:20220202T205437Z
LAST-MODIFIED:20220202T205437Z
UID:2410-1645905600-1645914600@sixbellspub.co.uk
SUMMARY:Nigel Bell
DESCRIPTION:Reggae from the lovely Nigel Bell
URL:https://sixbellspub.co.uk/event/nigel-bell-2/
LOCATION:Six Bells\, cb1 2hs
CATEGORIES:Music
END:VEVENT
BEGIN:VEVENT
DTSTART;TZID=Europe/Paris:20220228T200000
DTEND;TZID=Europe/Paris:20220228T223000
DTSTAMP:20260422T212631
CREATED:20220202T203553Z
LAST-MODIFIED:20220202T203553Z
UID:2398-1646078400-1646087400@sixbellspub.co.uk
SUMMARY:Quiz Night
DESCRIPTION:Every Monday 8pm \n 
URL:https://sixbellspub.co.uk/event/quiz-night-152/
LOCATION:Six Bells\, cb1 2hs
CATEGORIES:Quiz
END:VEVENT
END:VCALENDAR