BEGIN:VCALENDAR
VERSION:2.0
PRODID:-//Six Bells Pub - ECPv6.15.20//NONSGML v1.0//EN
CALSCALE:GREGORIAN
METHOD:PUBLISH
X-ORIGINAL-URL:https://sixbellspub.co.uk
X-WR-CALDESC:Events for Six Bells Pub
REFRESH-INTERVAL;VALUE=DURATION:PT1H
X-Robots-Tag:noindex
X-PUBLISHED-TTL:PT1H
BEGIN:VTIMEZONE
TZID:Europe/Paris
BEGIN:DAYLIGHT
TZOFFSETFROM:+0100
TZOFFSETTO:+0200
TZNAME:CEST
DTSTART:20210328T010000
END:DAYLIGHT
BEGIN:STANDARD
TZOFFSETFROM:+0200
TZOFFSETTO:+0100
TZNAME:CET
DTSTART:20211031T010000
END:STANDARD
BEGIN:DAYLIGHT
TZOFFSETFROM:+0100
TZOFFSETTO:+0200
TZNAME:CEST
DTSTART:20220327T010000
END:DAYLIGHT
BEGIN:STANDARD
TZOFFSETFROM:+0200
TZOFFSETTO:+0100
TZNAME:CET
DTSTART:20221030T010000
END:STANDARD
BEGIN:DAYLIGHT
TZOFFSETFROM:+0100
TZOFFSETTO:+0200
TZNAME:CEST
DTSTART:20230326T010000
END:DAYLIGHT
BEGIN:STANDARD
TZOFFSETFROM:+0200
TZOFFSETTO:+0100
TZNAME:CET
DTSTART:20231029T010000
END:STANDARD
END:VTIMEZONE
BEGIN:VEVENT
DTSTART;TZID=Europe/Paris:20220107T200000
DTEND;TZID=Europe/Paris:20220107T223000
DTSTAMP:20260422T224000
CREATED:20220105T115524Z
LAST-MODIFIED:20220105T115524Z
UID:2375-1641585600-1641594600@sixbellspub.co.uk
SUMMARY:ELVIS!
DESCRIPTION:Elvis will be in the building on Friday 7 January to get our live music off to a flying start for 2022. Join us on the eve of the King’s 87th birthday to celebrate
URL:https://sixbellspub.co.uk/event/elvis-13/
CATEGORIES:Music
END:VEVENT
BEGIN:VEVENT
DTSTART;TZID=Europe/Paris:20220108T200000
DTEND;TZID=Europe/Paris:20220108T223000
DTSTAMP:20260422T224000
CREATED:20220105T120146Z
LAST-MODIFIED:20220105T120146Z
UID:2377-1641672000-1641681000@sixbellspub.co.uk
SUMMARY:The Scissors
DESCRIPTION:We’ll be playing psychpunkpop with swirling keys and garage psych guitars!\nJoining us will be our great friends Goddammit Jeremiah – expect quirky punk fun!\nFree entry!
URL:https://sixbellspub.co.uk/event/the-scissors-3/
CATEGORIES:Music
END:VEVENT
BEGIN:VEVENT
DTSTART;TZID=Europe/Paris:20220109T170000
DTEND;TZID=Europe/Paris:20220109T200000
DTSTAMP:20260422T224000
CREATED:20220105T120404Z
LAST-MODIFIED:20220105T120404Z
UID:2380-1641747600-1641758400@sixbellspub.co.uk
SUMMARY:Open Mic
DESCRIPTION:Hosted by Josh Robins of The Mardlers. All performers welcome (and non performers are welcome too)
URL:https://sixbellspub.co.uk/event/open-mic-9/
CATEGORIES:Music
END:VEVENT
BEGIN:VEVENT
DTSTART;TZID=Europe/Paris:20220110T200000
DTEND;TZID=Europe/Paris:20220110T223000
DTSTAMP:20260422T224000
CREATED:20220105T120612Z
LAST-MODIFIED:20220105T120612Z
UID:2382-1641844800-1641853800@sixbellspub.co.uk
SUMMARY:Quiz Night
DESCRIPTION:Our Monday night quiz is back for 2022. Loads of chocolate to be won (and a cash prize)
URL:https://sixbellspub.co.uk/event/quiz-night-148/
CATEGORIES:Quiz
END:VEVENT
BEGIN:VEVENT
DTSTART;VALUE=DATE:20220201
DTEND;VALUE=DATE:20220301
DTSTAMP:20260422T224000
CREATED:20220202T204626Z
LAST-MODIFIED:20220202T204626Z
UID:2402-1643673600-1646092799@sixbellspub.co.uk
SUMMARY:Exhibition of Paintings by Alan Hudlestone
DESCRIPTION:
URL:https://sixbellspub.co.uk/event/exhibition-of-paintings-by-alan-hudlestone/
LOCATION:Six Bells\, cb1 2hs
END:VEVENT
END:VCALENDAR