BEGIN:VCALENDAR
VERSION:2.0
PRODID:-//Six Bells Pub - ECPv6.15.20//NONSGML v1.0//EN
CALSCALE:GREGORIAN
METHOD:PUBLISH
X-WR-CALNAME:Six Bells Pub
X-ORIGINAL-URL:https://sixbellspub.co.uk
X-WR-CALDESC:Events for Six Bells Pub
REFRESH-INTERVAL;VALUE=DURATION:PT1H
X-Robots-Tag:noindex
X-PUBLISHED-TTL:PT1H
BEGIN:VTIMEZONE
TZID:Europe/Paris
BEGIN:DAYLIGHT
TZOFFSETFROM:+0100
TZOFFSETTO:+0200
TZNAME:CEST
DTSTART:20200329T010000
END:DAYLIGHT
BEGIN:STANDARD
TZOFFSETFROM:+0200
TZOFFSETTO:+0100
TZNAME:CET
DTSTART:20201025T010000
END:STANDARD
BEGIN:DAYLIGHT
TZOFFSETFROM:+0100
TZOFFSETTO:+0200
TZNAME:CEST
DTSTART:20210328T010000
END:DAYLIGHT
BEGIN:STANDARD
TZOFFSETFROM:+0200
TZOFFSETTO:+0100
TZNAME:CET
DTSTART:20211031T010000
END:STANDARD
BEGIN:DAYLIGHT
TZOFFSETFROM:+0100
TZOFFSETTO:+0200
TZNAME:CEST
DTSTART:20220327T010000
END:DAYLIGHT
BEGIN:STANDARD
TZOFFSETFROM:+0200
TZOFFSETTO:+0100
TZNAME:CET
DTSTART:20221030T010000
END:STANDARD
BEGIN:DAYLIGHT
TZOFFSETFROM:+0100
TZOFFSETTO:+0200
TZNAME:CEST
DTSTART:20230326T010000
END:DAYLIGHT
BEGIN:STANDARD
TZOFFSETFROM:+0200
TZOFFSETTO:+0100
TZNAME:CET
DTSTART:20231029T010000
END:STANDARD
END:VTIMEZONE
BEGIN:VEVENT
DTSTART;TZID=Europe/Paris:20211202T180000
DTEND;TZID=Europe/Paris:20211202T230000
DTSTAMP:20260422T235756
CREATED:20211123T122658Z
LAST-MODIFIED:20211123T122658Z
UID:2367-1638468000-1638486000@sixbellspub.co.uk
SUMMARY:Origameg Lights Opening Party
DESCRIPTION:We are hosting a sale of beautiful hand made origami fairy lights created by our neighbour Megan. Come and see they are gorgeous!
URL:https://sixbellspub.co.uk/event/origameg-lights-opening-party/
CATEGORIES:community event
END:VEVENT
BEGIN:VEVENT
DTSTART;TZID=Europe/Paris:20211204T200000
DTEND;TZID=Europe/Paris:20211204T223000
DTSTAMP:20260422T235756
CREATED:20211123T115811Z
LAST-MODIFIED:20211123T115811Z
UID:2349-1638648000-1638657000@sixbellspub.co.uk
SUMMARY:The Sensationals
DESCRIPTION:Songs from the Sixties from guys who were there the first time round!
URL:https://sixbellspub.co.uk/event/the-sensationals-6/
LOCATION:Six Bells\, cb1 2hs
CATEGORIES:Music
END:VEVENT
BEGIN:VEVENT
DTSTART;TZID=Europe/Paris:20211206T200000
DTEND;TZID=Europe/Paris:20211206T230000
DTSTAMP:20260422T235756
CREATED:20211123T120022Z
LAST-MODIFIED:20211123T120022Z
UID:2351-1638820800-1638831600@sixbellspub.co.uk
SUMMARY:Quiz Night
DESCRIPTION:Every Monday 8pm. Money and chocolate to be won!
URL:https://sixbellspub.co.uk/event/quiz-night-145/
CATEGORIES:Quiz
END:VEVENT
BEGIN:VEVENT
DTSTART;TZID=Europe/Paris:20211211T200000
DTEND;TZID=Europe/Paris:20211211T223000
DTSTAMP:20260422T235756
CREATED:20211123T120134Z
LAST-MODIFIED:20211123T120134Z
UID:2353-1639252800-1639261800@sixbellspub.co.uk
SUMMARY:Lexie Green with Johnny Wright
DESCRIPTION:
URL:https://sixbellspub.co.uk/event/lexie-green-with-johnny-wright-2/
CATEGORIES:Music
END:VEVENT
BEGIN:VEVENT
DTSTART;TZID=Europe/Paris:20211212T170000
DTEND;TZID=Europe/Paris:20211212T200000
DTSTAMP:20260422T235756
CREATED:20211123T120346Z
LAST-MODIFIED:20211123T120436Z
UID:2356-1639328400-1639339200@sixbellspub.co.uk
SUMMARY:Open Mic
DESCRIPTION:One of the people in the photo has performed at our Open Mic! Join us from 5pm
URL:https://sixbellspub.co.uk/event/open-mic-8/
CATEGORIES:Music
END:VEVENT
BEGIN:VEVENT
DTSTART;TZID=Europe/Paris:20211213T200000
DTEND;TZID=Europe/Paris:20211213T230000
DTSTAMP:20260422T235756
CREATED:20211123T120545Z
LAST-MODIFIED:20211123T120827Z
UID:2358-1639425600-1639436400@sixbellspub.co.uk
SUMMARY:Quiz Night
DESCRIPTION:Every Monday 8pm
URL:https://sixbellspub.co.uk/event/quiz-night-146/
CATEGORIES:Quiz
END:VEVENT
BEGIN:VEVENT
DTSTART;TZID=Europe/Paris:20211218T203000
DTEND;TZID=Europe/Paris:20211218T223000
DTSTAMP:20260422T235756
CREATED:20211123T120952Z
LAST-MODIFIED:20211123T120952Z
UID:2360-1639859400-1639866600@sixbellspub.co.uk
SUMMARY:Nygel
DESCRIPTION:  \nSome lovely reggae to make you forget the cold
URL:https://sixbellspub.co.uk/event/nygel/
END:VEVENT
BEGIN:VEVENT
DTSTART;TZID=Europe/Paris:20211220T203000
DTEND;TZID=Europe/Paris:20211220T230000
DTSTAMP:20260422T235756
CREATED:20211123T121439Z
LAST-MODIFIED:20211123T121439Z
UID:2364-1640032200-1640041200@sixbellspub.co.uk
SUMMARY:Quiz Night
DESCRIPTION:Every Monday 8pm
URL:https://sixbellspub.co.uk/event/quiz-night-147/
CATEGORIES:Quiz
END:VEVENT
BEGIN:VEVENT
DTSTART;TZID=Europe/Paris:20211230T200000
DTEND;TZID=Europe/Paris:20211230T223000
DTSTAMP:20260422T235756
CREATED:20211229T173735Z
LAST-MODIFIED:20211229T173804Z
UID:2372-1640894400-1640903400@sixbellspub.co.uk
SUMMARY:Max Bianco and  (most of) The Bluehearts
DESCRIPTION:Join us on New Year’s Eve Eve for a last minute bonus gig from Max and the Bluehearts \nPlease do a COVID test before you come and if you have the slightest suspicion that you have the virus please don’t come \nFree entry\, music will end at 10.30pm\, pub closes at 11.30pm
URL:https://sixbellspub.co.uk/event/max-bianco-and-most-of-the-bluehearts/
LOCATION:Six Bells\, cb1 2hs
CATEGORIES:Music
ORGANIZER;CN="Eileen O'Brien":MAILTO:eileenobrien@hotmail.co.uk
END:VEVENT
BEGIN:VEVENT
DTSTART;TZID=Europe/Paris:20211231T210000
DTEND;TZID=Europe/Paris:20220101T000000
DTSTAMP:20260422T235756
CREATED:20211123T121306Z
LAST-MODIFIED:20211229T173245Z
UID:2362-1640984400-1640995200@sixbellspub.co.uk
SUMMARY:New Year's Eve with Darkhorse
DESCRIPTION:We’re so pleased to say that this event is going ahead. Please do a COVID test before coming to the pub and if you have the slightest suspicion that you might have the virus then please don’t come \nSay goodbye to 2021 in the company of the fabulous Darkhorse. Bring your dancing shoes! \nFree entry\, open until 1am
URL:https://sixbellspub.co.uk/event/new-years-eve-with-darkhorse/
CATEGORIES:Music
END:VEVENT
END:VCALENDAR