BEGIN:VCALENDAR
VERSION:2.0
PRODID:-//Six Bells Pub - ECPv6.15.20//NONSGML v1.0//EN
CALSCALE:GREGORIAN
METHOD:PUBLISH
X-WR-CALNAME:Six Bells Pub
X-ORIGINAL-URL:https://sixbellspub.co.uk
X-WR-CALDESC:Events for Six Bells Pub
REFRESH-INTERVAL;VALUE=DURATION:PT1H
X-Robots-Tag:noindex
X-PUBLISHED-TTL:PT1H
BEGIN:VTIMEZONE
TZID:Europe/Paris
BEGIN:DAYLIGHT
TZOFFSETFROM:+0100
TZOFFSETTO:+0200
TZNAME:CEST
DTSTART:20200329T010000
END:DAYLIGHT
BEGIN:STANDARD
TZOFFSETFROM:+0200
TZOFFSETTO:+0100
TZNAME:CET
DTSTART:20201025T010000
END:STANDARD
BEGIN:DAYLIGHT
TZOFFSETFROM:+0100
TZOFFSETTO:+0200
TZNAME:CEST
DTSTART:20210328T010000
END:DAYLIGHT
BEGIN:STANDARD
TZOFFSETFROM:+0200
TZOFFSETTO:+0100
TZNAME:CET
DTSTART:20211031T010000
END:STANDARD
BEGIN:DAYLIGHT
TZOFFSETFROM:+0100
TZOFFSETTO:+0200
TZNAME:CEST
DTSTART:20220327T010000
END:DAYLIGHT
BEGIN:STANDARD
TZOFFSETFROM:+0200
TZOFFSETTO:+0100
TZNAME:CET
DTSTART:20221030T010000
END:STANDARD
END:VTIMEZONE
BEGIN:VEVENT
DTSTART;TZID=Europe/Paris:20211127T120000
DTEND;TZID=Europe/Paris:20211127T140000
DTSTAMP:20260423T012325
CREATED:20211123T113914Z
LAST-MODIFIED:20211123T113914Z
UID:2343-1638014400-1638021600@sixbellspub.co.uk
SUMMARY:Cambridge Parnells GAA Club AGM
DESCRIPTION:
URL:https://sixbellspub.co.uk/event/cambridge-parnells-gaa-club-agm/
LOCATION:Six Bells\, cb1 2hs
CATEGORIES:community event
END:VEVENT
BEGIN:VEVENT
DTSTART;TZID=Europe/Paris:20211127T203000
DTEND;TZID=Europe/Paris:20211127T223000
DTSTAMP:20260423T012325
CREATED:20211123T113731Z
LAST-MODIFIED:20211123T113731Z
UID:2341-1638045000-1638052200@sixbellspub.co.uk
SUMMARY:Jon Stanford 3 piece Blues Quartet!
DESCRIPTION:A great night of foot stompin’ blues!
URL:https://sixbellspub.co.uk/event/jon-stanford-3-piece-blues-quartet/
LOCATION:Six Bells\, cb1 2hs
CATEGORIES:Music
END:VEVENT
BEGIN:VEVENT
DTSTART;TZID=Europe/Paris:20211128T170000
DTEND;TZID=Europe/Paris:20211128T200000
DTSTAMP:20260423T012325
CREATED:20211123T114301Z
LAST-MODIFIED:20211123T114301Z
UID:2345-1638118800-1638129600@sixbellspub.co.uk
SUMMARY:Open Mic
DESCRIPTION:  \nOpen Mic hosted by Josh Robins of The Mardlers. All performers welcome (and an audience too). We start around 5pm and continue 0until everyone who wants to play has played.
URL:https://sixbellspub.co.uk/event/open-mic-7/
LOCATION:Six Bells\, cb1 2hs
CATEGORIES:Music
END:VEVENT
BEGIN:VEVENT
DTSTART;TZID=Europe/Paris:20211129T200000
DTEND;TZID=Europe/Paris:20211129T230000
DTSTAMP:20260423T012325
CREATED:20211123T114734Z
LAST-MODIFIED:20211123T114734Z
UID:2347-1638216000-1638226800@sixbellspub.co.uk
SUMMARY:Quiz Night
DESCRIPTION:Quiz Night every Monday at 8pm. £1 to play and the winners win the pot. There’s also a chance for every team to win chocolates. Next weeks rounds include 21st century sitcoms and Flags of the World. All welcome.
URL:https://sixbellspub.co.uk/event/quiz-night-144/
LOCATION:Six Bells\, cb1 2hs
CATEGORIES:Quiz
END:VEVENT
END:VCALENDAR