BEGIN:VCALENDAR
VERSION:2.0
PRODID:-//Six Bells Pub - ECPv6.15.20//NONSGML v1.0//EN
CALSCALE:GREGORIAN
METHOD:PUBLISH
X-ORIGINAL-URL:https://sixbellspub.co.uk
X-WR-CALDESC:Events for Six Bells Pub
REFRESH-INTERVAL;VALUE=DURATION:PT1H
X-Robots-Tag:noindex
X-PUBLISHED-TTL:PT1H
BEGIN:VTIMEZONE
TZID:Europe/Paris
BEGIN:DAYLIGHT
TZOFFSETFROM:+0100
TZOFFSETTO:+0200
TZNAME:CEST
DTSTART:20200329T010000
END:DAYLIGHT
BEGIN:STANDARD
TZOFFSETFROM:+0200
TZOFFSETTO:+0100
TZNAME:CET
DTSTART:20201025T010000
END:STANDARD
BEGIN:DAYLIGHT
TZOFFSETFROM:+0100
TZOFFSETTO:+0200
TZNAME:CEST
DTSTART:20210328T010000
END:DAYLIGHT
BEGIN:STANDARD
TZOFFSETFROM:+0200
TZOFFSETTO:+0100
TZNAME:CET
DTSTART:20211031T010000
END:STANDARD
BEGIN:DAYLIGHT
TZOFFSETFROM:+0100
TZOFFSETTO:+0200
TZNAME:CEST
DTSTART:20220327T010000
END:DAYLIGHT
BEGIN:STANDARD
TZOFFSETFROM:+0200
TZOFFSETTO:+0100
TZNAME:CET
DTSTART:20221030T010000
END:STANDARD
END:VTIMEZONE
BEGIN:VEVENT
DTSTART;TZID=Europe/Paris:20210807T203000
DTEND;TZID=Europe/Paris:20210807T223000
DTSTAMP:20260423T053840
CREATED:20210803T152519Z
LAST-MODIFIED:20210803T152519Z
UID:2293-1628368200-1628375400@sixbellspub.co.uk
SUMMARY:Clare Hayes and Friends
DESCRIPTION:Join Clare\, John and Sean as they weave a path through folk\, country and blues. Expect soaring vocals and a generous sprinkling of magical music dust from John Wright (guitar/ vox) and Sean O’Hanarahan (keys).\nLooking forward to seeing some familiar faces at the Bells after what seems like forever!
URL:https://sixbellspub.co.uk/event/clare-hayes-and-friends/
LOCATION:Six Bells\, cb1 2hs
CATEGORIES:Music
ORGANIZER;CN="Eileen O'Brien":MAILTO:eileenobrien@hotmail.co.uk
END:VEVENT
BEGIN:VEVENT
DTSTART;TZID=Europe/Paris:20210808T170000
DTEND;TZID=Europe/Paris:20210808T200000
DTSTAMP:20260423T053840
CREATED:20210803T153616Z
LAST-MODIFIED:20210803T154026Z
UID:2302-1628442000-1628452800@sixbellspub.co.uk
SUMMARY:Sunday Sessions Open Mic
DESCRIPTION:The Open Mic makes it’s triumphant return on 8 August. Hosted by Josh Robins (lead singer of the soon to be famous Mardlers). All performers (and audience) welcome.
URL:https://sixbellspub.co.uk/event/sunday-sessions-open-mic-58/
LOCATION:Six Bells\, cb1 2hs
CATEGORIES:Music
END:VEVENT
BEGIN:VEVENT
DTSTART;TZID=Europe/Paris:20210809T200000
DTEND;TZID=Europe/Paris:20210809T220000
DTSTAMP:20260423T053840
CREATED:20210803T153108Z
LAST-MODIFIED:20210803T153108Z
UID:2296-1628539200-1628546400@sixbellspub.co.uk
SUMMARY:Quiz Night
DESCRIPTION:The Six Bells Quiz Night is back live every Monday from 8pm. We’ve managed to keep the quiz going online almost every week since March 2020\, so now it’s time to come and do it in real life! \nPlease note the new time.
URL:https://sixbellspub.co.uk/event/quiz-night-137/
LOCATION:Six Bells\, cb1 2hs
CATEGORIES:Quiz
END:VEVENT
BEGIN:VEVENT
DTSTART;TZID=Europe/Paris:20210816T200000
DTEND;TZID=Europe/Paris:20210816T220000
DTSTAMP:20260423T053840
CREATED:20210803T153226Z
LAST-MODIFIED:20210803T153226Z
UID:2298-1629144000-1629151200@sixbellspub.co.uk
SUMMARY:Quiz Night
DESCRIPTION:The Six Bells Quiz Night is back live every Monday from 8pm. We’ve managed to keep the quiz going online almost every week since March 2020\, so now it’s time to come and do it in real life! \nPlease note the new time.
URL:https://sixbellspub.co.uk/event/quiz-night-138/
LOCATION:Six Bells\, cb1 2hs
CATEGORIES:Quiz
END:VEVENT
BEGIN:VEVENT
DTSTART;TZID=Europe/Paris:20210823T200000
DTEND;TZID=Europe/Paris:20210823T220000
DTSTAMP:20260423T053840
CREATED:20210803T153324Z
LAST-MODIFIED:20210803T153324Z
UID:2300-1629748800-1629756000@sixbellspub.co.uk
SUMMARY:Quiz Night
DESCRIPTION:The Six Bells Quiz Night is back live every Monday from 8pm. We’ve managed to keep the quiz going online almost every week since March 2020\, so now it’s time to come and do it in real life! \nPlease note the new time.
URL:https://sixbellspub.co.uk/event/quiz-night-139/
LOCATION:Six Bells\, cb1 2hs
CATEGORIES:Quiz
END:VEVENT
END:VCALENDAR