BEGIN:VCALENDAR
VERSION:2.0
PRODID:-//Six Bells Pub - ECPv6.15.20//NONSGML v1.0//EN
CALSCALE:GREGORIAN
METHOD:PUBLISH
X-ORIGINAL-URL:https://sixbellspub.co.uk
X-WR-CALDESC:Events for Six Bells Pub
REFRESH-INTERVAL;VALUE=DURATION:PT1H
X-Robots-Tag:noindex
X-PUBLISHED-TTL:PT1H
BEGIN:VTIMEZONE
TZID:Europe/Paris
BEGIN:DAYLIGHT
TZOFFSETFROM:+0100
TZOFFSETTO:+0200
TZNAME:CEST
DTSTART:20200329T010000
END:DAYLIGHT
BEGIN:STANDARD
TZOFFSETFROM:+0200
TZOFFSETTO:+0100
TZNAME:CET
DTSTART:20201025T010000
END:STANDARD
BEGIN:DAYLIGHT
TZOFFSETFROM:+0100
TZOFFSETTO:+0200
TZNAME:CEST
DTSTART:20210328T010000
END:DAYLIGHT
BEGIN:STANDARD
TZOFFSETFROM:+0200
TZOFFSETTO:+0100
TZNAME:CET
DTSTART:20211031T010000
END:STANDARD
BEGIN:DAYLIGHT
TZOFFSETFROM:+0100
TZOFFSETTO:+0200
TZNAME:CEST
DTSTART:20220327T010000
END:DAYLIGHT
BEGIN:STANDARD
TZOFFSETFROM:+0200
TZOFFSETTO:+0100
TZNAME:CET
DTSTART:20221030T010000
END:STANDARD
END:VTIMEZONE
BEGIN:VEVENT
DTSTART;TZID=Europe/Paris:20210702T200000
DTEND;TZID=Europe/Paris:20210702T230000
DTSTAMP:20260423T071534
CREATED:20210604T182105Z
LAST-MODIFIED:20210604T182105Z
UID:2278-1625256000-1625266800@sixbellspub.co.uk
SUMMARY:Ian Coulson is ELVIS!
DESCRIPTION:
URL:https://sixbellspub.co.uk/event/ian-coulson-is-elvis-5/
LOCATION:Six Bells\, cb1 2hs
CATEGORIES:Music
END:VEVENT
BEGIN:VEVENT
DTSTART;TZID=Europe/Paris:20210703T193000
DTEND;TZID=Europe/Paris:20210703T230000
DTSTAMP:20260423T071534
CREATED:20210604T183459Z
LAST-MODIFIED:20210604T183459Z
UID:2285-1625340600-1625353200@sixbellspub.co.uk
SUMMARY:On Cloud 9
DESCRIPTION:Opening party for a new show by local artist Jamie Ashman with tunes from Short and Sweet
URL:https://sixbellspub.co.uk/event/on-cloud-9/
LOCATION:Six Bells\, cb1 2hs
CATEGORIES:Music
END:VEVENT
BEGIN:VEVENT
DTSTART;TZID=Europe/Paris:20210710T200000
DTEND;TZID=Europe/Paris:20210710T230000
DTSTAMP:20260423T071534
CREATED:20210604T183705Z
LAST-MODIFIED:20210604T183705Z
UID:2287-1625947200-1625958000@sixbellspub.co.uk
SUMMARY:Mola Mola Jambalaya
DESCRIPTION:
URL:https://sixbellspub.co.uk/event/mola-mola-jambalaya-3/
LOCATION:Six Bells\, cb1 2hs
CATEGORIES:Music
END:VEVENT
BEGIN:VEVENT
DTSTART;TZID=Europe/Paris:20210717T200000
DTEND;TZID=Europe/Paris:20210717T230000
DTSTAMP:20260423T071534
CREATED:20210604T183839Z
LAST-MODIFIED:20210604T183839Z
UID:2289-1626552000-1626562800@sixbellspub.co.uk
SUMMARY:Josh Robins
DESCRIPTION:
URL:https://sixbellspub.co.uk/event/josh-robins/
LOCATION:Six Bells\, cb1 2hs
CATEGORIES:Music
END:VEVENT
END:VCALENDAR