BEGIN:VCALENDAR
VERSION:2.0
PRODID:-//Six Bells Pub - ECPv6.15.20//NONSGML v1.0//EN
CALSCALE:GREGORIAN
METHOD:PUBLISH
X-WR-CALNAME:Six Bells Pub
X-ORIGINAL-URL:https://sixbellspub.co.uk
X-WR-CALDESC:Events for Six Bells Pub
REFRESH-INTERVAL;VALUE=DURATION:PT1H
X-Robots-Tag:noindex
X-PUBLISHED-TTL:PT1H
BEGIN:VTIMEZONE
TZID:Europe/Paris
BEGIN:DAYLIGHT
TZOFFSETFROM:+0100
TZOFFSETTO:+0200
TZNAME:CEST
DTSTART:20190331T010000
END:DAYLIGHT
BEGIN:STANDARD
TZOFFSETFROM:+0200
TZOFFSETTO:+0100
TZNAME:CET
DTSTART:20191027T010000
END:STANDARD
BEGIN:DAYLIGHT
TZOFFSETFROM:+0100
TZOFFSETTO:+0200
TZNAME:CEST
DTSTART:20200329T010000
END:DAYLIGHT
BEGIN:STANDARD
TZOFFSETFROM:+0200
TZOFFSETTO:+0100
TZNAME:CET
DTSTART:20201025T010000
END:STANDARD
BEGIN:DAYLIGHT
TZOFFSETFROM:+0100
TZOFFSETTO:+0200
TZNAME:CEST
DTSTART:20210328T010000
END:DAYLIGHT
BEGIN:STANDARD
TZOFFSETFROM:+0200
TZOFFSETTO:+0100
TZNAME:CET
DTSTART:20211031T010000
END:STANDARD
END:VTIMEZONE
BEGIN:VEVENT
DTSTART;TZID=Europe/Paris:20200301T170000
DTEND;TZID=Europe/Paris:20200301T200000
DTSTAMP:20260424T052909
CREATED:20200301T163643Z
LAST-MODIFIED:20200301T163643Z
UID:2250-1583082000-1583092800@sixbellspub.co.uk
SUMMARY:Sunday Sessions Open Mic
DESCRIPTION:Hosted by Josh Robins – everyone welcome \n  \n \n  \n 
URL:https://sixbellspub.co.uk/event/sunday-sessions-open-mic-57/
CATEGORIES:Music
END:VEVENT
BEGIN:VEVENT
DTSTART;TZID=Europe/Paris:20200302T203000
DTEND;TZID=Europe/Paris:20200302T230000
DTSTAMP:20260424T052909
CREATED:20200301T164259Z
LAST-MODIFIED:20200301T164259Z
UID:2253-1583181000-1583190000@sixbellspub.co.uk
SUMMARY:Quiz Night
DESCRIPTION:Now starting at 8.30pm\, £1 to play\, cash prize for the winners and free chips for everyone! \nThis week’s special rounds include fictional schools and Harry Potter’s spells! \n \n 
URL:https://sixbellspub.co.uk/event/quiz-night-136/
CATEGORIES:Quiz
END:VEVENT
BEGIN:VEVENT
DTSTART;TZID=Europe/Paris:20200307T203000
DTEND;TZID=Europe/Paris:20200307T230000
DTSTAMP:20260424T052909
CREATED:20200301T164436Z
LAST-MODIFIED:20200301T164436Z
UID:2256-1583613000-1583622000@sixbellspub.co.uk
SUMMARY:The Sound of Pop Art
DESCRIPTION: 
URL:https://sixbellspub.co.uk/event/the-sound-of-pop-art-3/
CATEGORIES:Music
END:VEVENT
BEGIN:VEVENT
DTSTART;TZID=Europe/Paris:20200311T203000
DTEND;TZID=Europe/Paris:20200311T230000
DTSTAMP:20260424T052909
CREATED:20200301T173826Z
LAST-MODIFIED:20200301T173826Z
UID:2258-1583958600-1583967600@sixbellspub.co.uk
SUMMARY:Bluegrass
DESCRIPTION:Our monthly bluegrass session \n \n 
URL:https://sixbellspub.co.uk/event/bluegrass-55/
CATEGORIES:Music
END:VEVENT
END:VCALENDAR