BEGIN:VCALENDAR
VERSION:2.0
PRODID:-//Six Bells Pub - ECPv6.15.20//NONSGML v1.0//EN
CALSCALE:GREGORIAN
METHOD:PUBLISH
X-ORIGINAL-URL:https://sixbellspub.co.uk
X-WR-CALDESC:Events for Six Bells Pub
REFRESH-INTERVAL;VALUE=DURATION:PT1H
X-Robots-Tag:noindex
X-PUBLISHED-TTL:PT1H
BEGIN:VTIMEZONE
TZID:Europe/Paris
BEGIN:DAYLIGHT
TZOFFSETFROM:+0100
TZOFFSETTO:+0200
TZNAME:CEST
DTSTART:20190331T010000
END:DAYLIGHT
BEGIN:STANDARD
TZOFFSETFROM:+0200
TZOFFSETTO:+0100
TZNAME:CET
DTSTART:20191027T010000
END:STANDARD
BEGIN:DAYLIGHT
TZOFFSETFROM:+0100
TZOFFSETTO:+0200
TZNAME:CEST
DTSTART:20200329T010000
END:DAYLIGHT
BEGIN:STANDARD
TZOFFSETFROM:+0200
TZOFFSETTO:+0100
TZNAME:CET
DTSTART:20201025T010000
END:STANDARD
BEGIN:DAYLIGHT
TZOFFSETFROM:+0100
TZOFFSETTO:+0200
TZNAME:CEST
DTSTART:20210328T010000
END:DAYLIGHT
BEGIN:STANDARD
TZOFFSETFROM:+0200
TZOFFSETTO:+0100
TZNAME:CET
DTSTART:20211031T010000
END:STANDARD
END:VTIMEZONE
BEGIN:VEVENT
DTSTART;TZID=Europe/Paris:20200201T203000
DTEND;TZID=Europe/Paris:20200201T230000
DTSTAMP:20260424T065617
CREATED:20200201T151526Z
LAST-MODIFIED:20200201T151526Z
UID:2228-1580589000-1580598000@sixbellspub.co.uk
SUMMARY:Greg Mcdonald
DESCRIPTION:Greg McDonald is a British singer-songwriter He was the frontman of The Dawn Parade\, a Bury St Edmunds based British indie band. \nMcDonald’s songs have won awards from Rolling Stone and The International Songwriting Competition\, and he has been championed by DJs Tom Robinson\, Mark Radcliffe\, Steve Lamacq and John Peel\, for whom he recorded two Peel Sessions.
URL:https://sixbellspub.co.uk/event/greg-mcdonald/
CATEGORIES:Music
END:VEVENT
BEGIN:VEVENT
DTSTART;TZID=Europe/Paris:20200202T170000
DTEND;TZID=Europe/Paris:20200202T200000
DTSTAMP:20260424T065617
CREATED:20200201T151914Z
LAST-MODIFIED:20200201T151914Z
UID:2233-1580662800-1580673600@sixbellspub.co.uk
SUMMARY:Sunday Sessions Open Mic
DESCRIPTION:Our fortnightly Open Mic hosted by Josh Robins. All performers welcome
URL:https://sixbellspub.co.uk/event/sunday-sessions-open-mic-55/
LOCATION:Six Bells\, 11 Covent Garden\, cb1 2hs\, United Kingdom
CATEGORIES:Music
END:VEVENT
BEGIN:VEVENT
DTSTART;TZID=Europe/Paris:20200203T203000
DTEND;TZID=Europe/Paris:20200203T230000
DTSTAMP:20260424T065617
CREATED:20200201T152524Z
LAST-MODIFIED:20200201T152524Z
UID:2235-1580761800-1580770800@sixbellspub.co.uk
SUMMARY:Quiz night
DESCRIPTION:Our Monday night quiz has a new time \nWe’ll be starting at 8.30pm \n£1 to play \, cash prize for the winners\, free chips for everyone !
URL:https://sixbellspub.co.uk/event/quiz-night-135/
CATEGORIES:Quiz
END:VEVENT
BEGIN:VEVENT
DTSTART;TZID=Europe/Paris:20200208T203000
DTEND;TZID=Europe/Paris:20200208T230000
DTSTAMP:20260424T065617
CREATED:20200201T153338Z
LAST-MODIFIED:20200201T153606Z
UID:2237-1581193800-1581202800@sixbellspub.co.uk
SUMMARY:Brass Rose
DESCRIPTION:Brass Rose is a Jazz-Blues Cambridge based band.\nThe band members are: Briar (vocals)\, Kevin (guitarist)\, Emmanuel (keyboardist)\, Ennio (bassist)\, Gio (saxophonist) and Jane (percussionist).\nMaking a guest appearance we will have the trombonist Simon Forthegill!
URL:https://sixbellspub.co.uk/event/brass-rose/
LOCATION:Six Bells\, cb1 2hs
CATEGORIES:Music
END:VEVENT
BEGIN:VEVENT
DTSTART;TZID=Europe/Paris:20200215T200000
DTEND;TZID=Europe/Paris:20200215T230000
DTSTAMP:20260424T065617
CREATED:20200201T155328Z
LAST-MODIFIED:20200201T155328Z
UID:2240-1581796800-1581807600@sixbellspub.co.uk
SUMMARY:Harri Beasley
DESCRIPTION:
URL:https://sixbellspub.co.uk/event/harri-beasley-2/
CATEGORIES:Music
END:VEVENT
BEGIN:VEVENT
DTSTART;TZID=Europe/Paris:20200216T170000
DTEND;TZID=Europe/Paris:20200216T200000
DTSTAMP:20260424T065617
CREATED:20200201T155546Z
LAST-MODIFIED:20200201T155751Z
UID:2243-1581872400-1581883200@sixbellspub.co.uk
SUMMARY:Sunday sessions Open Mic
DESCRIPTION:With host Josh Robins
URL:https://sixbellspub.co.uk/event/sunday-sessions-open-mic-56/
CATEGORIES:Music
END:VEVENT
BEGIN:VEVENT
DTSTART;TZID=Europe/Paris:20200222T203000
DTEND;TZID=Europe/Paris:20200222T230000
DTSTAMP:20260424T065617
CREATED:20200201T162243Z
LAST-MODIFIED:20200201T162256Z
UID:2245-1582403400-1582412400@sixbellspub.co.uk
SUMMARY:The Lightwaves
DESCRIPTION:The Lightwaves are back with their eclectic mix of covers
URL:https://sixbellspub.co.uk/event/the-lightwaves-7/
CATEGORIES:Music
END:VEVENT
BEGIN:VEVENT
DTSTART;TZID=Europe/Paris:20200229T203000
DTEND;TZID=Europe/Paris:20200229T230000
DTSTAMP:20260424T065617
CREATED:20200201T163342Z
LAST-MODIFIED:20200201T163342Z
UID:2247-1583008200-1583017200@sixbellspub.co.uk
SUMMARY:Silverbacks Blue Band
DESCRIPTION:Old school rhythm and blues
URL:https://sixbellspub.co.uk/event/silverbacks-blue-band/
END:VEVENT
END:VCALENDAR