BEGIN:VCALENDAR
VERSION:2.0
PRODID:-//Six Bells Pub - ECPv6.15.20//NONSGML v1.0//EN
CALSCALE:GREGORIAN
METHOD:PUBLISH
X-WR-CALNAME:Six Bells Pub
X-ORIGINAL-URL:https://sixbellspub.co.uk
X-WR-CALDESC:Events for Six Bells Pub
REFRESH-INTERVAL;VALUE=DURATION:PT1H
X-Robots-Tag:noindex
X-PUBLISHED-TTL:PT1H
BEGIN:VTIMEZONE
TZID:Europe/Paris
BEGIN:DAYLIGHT
TZOFFSETFROM:+0100
TZOFFSETTO:+0200
TZNAME:CEST
DTSTART:20180325T010000
END:DAYLIGHT
BEGIN:STANDARD
TZOFFSETFROM:+0200
TZOFFSETTO:+0100
TZNAME:CET
DTSTART:20181028T010000
END:STANDARD
BEGIN:DAYLIGHT
TZOFFSETFROM:+0100
TZOFFSETTO:+0200
TZNAME:CEST
DTSTART:20190331T010000
END:DAYLIGHT
BEGIN:STANDARD
TZOFFSETFROM:+0200
TZOFFSETTO:+0100
TZNAME:CET
DTSTART:20191027T010000
END:STANDARD
BEGIN:DAYLIGHT
TZOFFSETFROM:+0100
TZOFFSETTO:+0200
TZNAME:CEST
DTSTART:20200329T010000
END:DAYLIGHT
BEGIN:STANDARD
TZOFFSETFROM:+0200
TZOFFSETTO:+0100
TZNAME:CET
DTSTART:20201025T010000
END:STANDARD
END:VTIMEZONE
BEGIN:VEVENT
DTSTART;TZID=Europe/Paris:20191102T203000
DTEND;TZID=Europe/Paris:20191102T230000
DTSTAMP:20260424T111752
CREATED:20191021T143128Z
LAST-MODIFIED:20191021T143128Z
UID:2151-1572726600-1572735600@sixbellspub.co.uk
SUMMARY:The Sound of Pop Art
DESCRIPTION:#TotalPop #AcidJazz #PsychSoul\n21st Century Post Modern Pop – With hints of Mid 60s psych pop\, hints of Bacharach / Barry filmic arrangements\, Tamla Motown\, early 70’s soul…
URL:https://sixbellspub.co.uk/event/the-sound-of-pop-art/
CATEGORIES:Music
END:VEVENT
BEGIN:VEVENT
DTSTART;TZID=Europe/Paris:20191103T150000
DTEND;TZID=Europe/Paris:20191103T210000
DTSTAMP:20260424T111752
CREATED:20191021T150606Z
LAST-MODIFIED:20191021T150606Z
UID:2162-1572793200-1572814800@sixbellspub.co.uk
SUMMARY:Afrika Simpson Art Exhibition Opening
DESCRIPTION:Welcome to an evening of ART \, POETRY AND MUSIC! Opening of the latest artwork by Afrika Simpson for your perusing pleasure! Expect colour and creatures coming out of the walls and the whisper of poets and singing souls and plucked rhythms! We’ll be jamming as well so bring your bassoons! \nACTS: \nArtemis – Musickkaaaa\nGeorge James – Poetreeee\nSam Hopkins – Musickkaaaa\nFrancis Botcherby – Musickkaaaa\nAfrikaaaa – Musicckaa\nJP and Pheobe – Musickkaaaaa
URL:https://sixbellspub.co.uk/event/afrika-simpson-art-exhibition-opening/
CATEGORIES:Music
END:VEVENT
BEGIN:VEVENT
DTSTART;TZID=Europe/Paris:20191109T203000
DTEND;TZID=Europe/Paris:20191109T230000
DTSTAMP:20260424T111752
CREATED:20191105T152454Z
LAST-MODIFIED:20191105T152454Z
UID:2167-1573331400-1573340400@sixbellspub.co.uk
SUMMARY:The Lightwaves
DESCRIPTION:  \nWe’re delighted to welcome back The Lightwaves with their eclectic mix of songs. It’s always a great night so bring all your friends and don’t forget your dancing shoes!
URL:https://sixbellspub.co.uk/event/the-lightwaves-6/
LOCATION:Six Bells\, cb1 2hs
CATEGORIES:Music
END:VEVENT
BEGIN:VEVENT
DTSTART;TZID=Europe/Paris:20191110T170000
DTEND;TZID=Europe/Paris:20191110T200000
DTSTAMP:20260424T111752
CREATED:20191105T153013Z
LAST-MODIFIED:20191105T153013Z
UID:2171-1573405200-1573416000@sixbellspub.co.uk
SUMMARY:Sunday Sessions Open Mic
DESCRIPTION:  \nThe penultimate Open Mic hosted by Outside Kings. All performers welcome
URL:https://sixbellspub.co.uk/event/sunday-sessions-open-mic-54/
CATEGORIES:Music
END:VEVENT
BEGIN:VEVENT
DTSTART;TZID=Europe/Paris:20191111T210000
DTEND;TZID=Europe/Paris:20191111T230000
DTSTAMP:20260424T111752
CREATED:20191105T153836Z
LAST-MODIFIED:20191105T153836Z
UID:2173-1573506000-1573513200@sixbellspub.co.uk
SUMMARY:Quiz Night
DESCRIPTION:Our regular Monday night quiz hosted by Quizmaster Extraordinaire Mark. \nThis week’s specialist subjects include \nAvatar the Airbender \nWest End Musicals \nPaintings \nCurrent US Politics \n£1 to play\, cash prize for the winners and FREE CHIPS for everyone! \n 
URL:https://sixbellspub.co.uk/event/quiz-night-132/
CATEGORIES:Quiz
END:VEVENT
BEGIN:VEVENT
DTSTART;TZID=Europe/Paris:20191113T210000
DTEND;TZID=Europe/Paris:20191113T230000
DTSTAMP:20260424T111752
CREATED:20191105T162152Z
LAST-MODIFIED:20191105T162152Z
UID:2182-1573678800-1573686000@sixbellspub.co.uk
SUMMARY:Bluegrass
DESCRIPTION:Our monthly Bluegrass session \n 
URL:https://sixbellspub.co.uk/event/bluegrass-53/
CATEGORIES:Music
END:VEVENT
BEGIN:VEVENT
DTSTART;TZID=Europe/Paris:20191114T203000
DTEND;TZID=Europe/Paris:20191114T230000
DTSTAMP:20260424T111752
CREATED:20191105T162539Z
LAST-MODIFIED:20191105T162707Z
UID:2184-1573763400-1573772400@sixbellspub.co.uk
SUMMARY:Tunes
DESCRIPTION:
URL:https://sixbellspub.co.uk/event/tunes-21/
CATEGORIES:Music
END:VEVENT
BEGIN:VEVENT
DTSTART;TZID=Europe/Paris:20191116T203000
DTEND;TZID=Europe/Paris:20191116T230000
DTSTAMP:20260424T111752
CREATED:20191105T165240Z
LAST-MODIFIED:20191105T165240Z
UID:2187-1573936200-1573945200@sixbellspub.co.uk
SUMMARY:Lexie Green with Johnny Wright
DESCRIPTION:
URL:https://sixbellspub.co.uk/event/lexie-green-with-johnny-wright/
CATEGORIES:Music
END:VEVENT
BEGIN:VEVENT
DTSTART;TZID=Europe/Paris:20191118T210000
DTEND;TZID=Europe/Paris:20191118T230000
DTSTAMP:20260424T111752
CREATED:20191105T154118Z
LAST-MODIFIED:20191105T154118Z
UID:2177-1574110800-1574118000@sixbellspub.co.uk
SUMMARY:Quiz Night
DESCRIPTION:Our regular Monday night quiz hosted by Quizmaster Extraordinaire Mark. \nThis week’s specialist subjects to be decided…………….. \n£1 to play\, cash prize for the winners and FREE CHIPS for everyone!
URL:https://sixbellspub.co.uk/event/quiz-night-133/
CATEGORIES:Quiz
END:VEVENT
BEGIN:VEVENT
DTSTART;TZID=Europe/Paris:20191123T203000
DTEND;TZID=Europe/Paris:20191123T230000
DTSTAMP:20260424T111752
CREATED:20191105T170020Z
LAST-MODIFIED:20191105T170020Z
UID:2191-1574541000-1574550000@sixbellspub.co.uk
SUMMARY:Ital Riddims
DESCRIPTION:  \nLive reggae music at the Six Bells pub on Saturday 23rd November 2019 from 8.30pm.\nOriginal and more well known covers performed by Nygel\, Francis Botcherby and Jean Joseph Koutoua collectively Ital Riddims.\nEveryone welcome to come and enjoy good vibes\, music and good beer in a friendly local pub.\nBless
URL:https://sixbellspub.co.uk/event/ital-riddims-3/
CATEGORIES:Music
END:VEVENT
BEGIN:VEVENT
DTSTART;TZID=Europe/Paris:20191124T140000
DTEND;TZID=Europe/Paris:20191124T210000
DTSTAMP:20260424T111752
CREATED:20191105T171028Z
LAST-MODIFIED:20191105T171047Z
UID:2196-1574604000-1574629200@sixbellspub.co.uk
SUMMARY:Sam and George's Last Ever Open Mic
DESCRIPTION:Everyone welcome to wave goodbye to Sam and George. There’ll be a buffet lunch from 2.00pm and the music will start after that
URL:https://sixbellspub.co.uk/event/sam-and-georges-last-ever-open-mic/
CATEGORIES:Music
END:VEVENT
BEGIN:VEVENT
DTSTART;TZID=Europe/Paris:20191125T210000
DTEND;TZID=Europe/Paris:20191125T230000
DTSTAMP:20260424T111752
CREATED:20191105T154358Z
LAST-MODIFIED:20191105T154358Z
UID:2179-1574715600-1574722800@sixbellspub.co.uk
SUMMARY:Quiz Night
DESCRIPTION:Our regular Monday night quiz hosted by Quizmaster Extraordinaire Mark. \nThis week’s specialist subjects to be decided …………….. \n£1 to play\, cash prize for the winners and FREE CHIPS for everyone!
URL:https://sixbellspub.co.uk/event/quiz-night-134/
CATEGORIES:Quiz
END:VEVENT
BEGIN:VEVENT
DTSTART;TZID=Europe/Paris:20191130T203000
DTEND;TZID=Europe/Paris:20191130T230000
DTSTAMP:20260424T111752
CREATED:20191105T170132Z
LAST-MODIFIED:20191105T170132Z
UID:2193-1575145800-1575154800@sixbellspub.co.uk
SUMMARY:Chris Newman and Fabian Bonner
DESCRIPTION:
URL:https://sixbellspub.co.uk/event/chris-newman-and-fabian-bonner/
CATEGORIES:Music
END:VEVENT
END:VCALENDAR