BEGIN:VCALENDAR
VERSION:2.0
PRODID:-//Six Bells Pub - ECPv6.15.20//NONSGML v1.0//EN
CALSCALE:GREGORIAN
METHOD:PUBLISH
X-ORIGINAL-URL:https://sixbellspub.co.uk
X-WR-CALDESC:Events for Six Bells Pub
REFRESH-INTERVAL;VALUE=DURATION:PT1H
X-Robots-Tag:noindex
X-PUBLISHED-TTL:PT1H
BEGIN:VTIMEZONE
TZID:Europe/Paris
BEGIN:DAYLIGHT
TZOFFSETFROM:+0100
TZOFFSETTO:+0200
TZNAME:CEST
DTSTART:20180325T010000
END:DAYLIGHT
BEGIN:STANDARD
TZOFFSETFROM:+0200
TZOFFSETTO:+0100
TZNAME:CET
DTSTART:20181028T010000
END:STANDARD
BEGIN:DAYLIGHT
TZOFFSETFROM:+0100
TZOFFSETTO:+0200
TZNAME:CEST
DTSTART:20190331T010000
END:DAYLIGHT
BEGIN:STANDARD
TZOFFSETFROM:+0200
TZOFFSETTO:+0100
TZNAME:CET
DTSTART:20191027T010000
END:STANDARD
BEGIN:DAYLIGHT
TZOFFSETFROM:+0100
TZOFFSETTO:+0200
TZNAME:CEST
DTSTART:20200329T010000
END:DAYLIGHT
BEGIN:STANDARD
TZOFFSETFROM:+0200
TZOFFSETTO:+0100
TZNAME:CET
DTSTART:20201025T010000
END:STANDARD
END:VTIMEZONE
BEGIN:VEVENT
DTSTART;TZID=Europe/Paris:20190815T080000
DTEND;TZID=Europe/Paris:20190815T170000
DTSTAMP:20260424T153718
CREATED:20190815T143414Z
LAST-MODIFIED:20190815T143414Z
UID:2065-1565856000-1565888400@sixbellspub.co.uk
SUMMARY:The Lightwaves
DESCRIPTION:
URL:https://sixbellspub.co.uk/event/the-lightwaves-4/
CATEGORIES:Music
END:VEVENT
BEGIN:VEVENT
DTSTART;TZID=Europe/Paris:20190817T203000
DTEND;TZID=Europe/Paris:20190817T230000
DTSTAMP:20260424T153718
CREATED:20190815T132153Z
LAST-MODIFIED:20190815T132153Z
UID:2052-1566073800-1566082800@sixbellspub.co.uk
SUMMARY:Stella Hensley and  Chris Newman
DESCRIPTION:  \nChris Newman\, Blues\, rock\, slide and ragtime guitarist teams up with the velvet vocals of singer songwriter Stella Hensley. Their recent collaboration has culminated into a collection of 15 beautifully crafted original songs co written by the pair.\nTheir album “Tantra Blues” is receiving great reviews: \nArt and Soul magazine Nov 2010. \n“The combination of Stella’s haunting voice and Chris’s easy flowing style puts me at ease straight away. Turn It To Song\, Controlled with Words\, Letter To the Sun\, from their album “Tantra blues” showed the lighter and more melodic side to their repertoire. With “Troubled Mind” the deeper bluesy side predominates giving reign to a more strident guitar and bluesy vocal. Feet had to tap\, guitar lines to die for gave a platform for a powerful and wide ranging performance.My favourite has to be “Time Falls Away” the catchy hook and circular form immediately grabs you and is a grand example of the synergy hallmarking this wonderful duo.Try and get along to see them live\, you won’t regret it! ” (www.artandsoulmagazine.com)
URL:https://sixbellspub.co.uk/event/stella-hensley-and-chris-newman-4/
LOCATION:Six Bells\, cb1 2hs
CATEGORIES:Music
END:VEVENT
BEGIN:VEVENT
DTSTART;TZID=Europe/Paris:20190818T170000
DTEND;TZID=Europe/Paris:20190818T210000
DTSTAMP:20260424T153718
CREATED:20190815T140245Z
LAST-MODIFIED:20190815T140245Z
UID:2057-1566147600-1566162000@sixbellspub.co.uk
SUMMARY:Sunday Sessions Open mic
DESCRIPTION:Hosted by Outside Kings.This is a long running \, friendly Open Mic held every other Sunday afternoon at the Six Bells. Starting about 5pm we carry on until everyone has had a turn (and usually come back for a second go). All performers welcome\,as well as an audience – we always need an audience!
URL:https://sixbellspub.co.uk/event/sunday-sessions-open-mic-49/
LOCATION:Six Bells\, cb1 2hs
CATEGORIES:Music
END:VEVENT
BEGIN:VEVENT
DTSTART;TZID=Europe/Paris:20190819T210000
DTEND;TZID=Europe/Paris:20190819T230000
DTSTAMP:20260424T153718
CREATED:20190815T140550Z
LAST-MODIFIED:20190815T140550Z
UID:2059-1566248400-1566255600@sixbellspub.co.uk
SUMMARY:Quiz Night
DESCRIPTION:
URL:https://sixbellspub.co.uk/event/quiz-night-125/
LOCATION:Six Bells\, 11 Covent Garden\, cb1 2hs\, United Kingdom
CATEGORIES:Quiz
END:VEVENT
BEGIN:VEVENT
DTSTART;TZID=Europe/Paris:20190823T203000
DTEND;TZID=Europe/Paris:20190823T230000
DTSTAMP:20260424T153718
CREATED:20190815T135807Z
LAST-MODIFIED:20190815T135807Z
UID:2055-1566592200-1566601200@sixbellspub.co.uk
SUMMARY:Eddie Zengeni and Friends
DESCRIPTION:  \nBring your dancing shoes!
URL:https://sixbellspub.co.uk/event/eddie-zengeni-and-friends/
LOCATION:Six Bells\, cb1 2hs
CATEGORIES:Music
END:VEVENT
BEGIN:VEVENT
DTSTART;TZID=Europe/Paris:20190831T203000
DTEND;TZID=Europe/Paris:20190831T230000
DTSTAMP:20260424T153718
CREATED:20190815T143320Z
LAST-MODIFIED:20190815T143320Z
UID:2063-1567283400-1567292400@sixbellspub.co.uk
SUMMARY:Mola Mola Jambalaya
DESCRIPTION:  \nSouthern fried rock and roll
URL:https://sixbellspub.co.uk/event/mola-mola-jambalaya-2/
LOCATION:Six Bells\, cb1 2hs
CATEGORIES:Music
END:VEVENT
END:VCALENDAR