BEGIN:VCALENDAR
VERSION:2.0
PRODID:-//Six Bells Pub - ECPv6.15.20//NONSGML v1.0//EN
CALSCALE:GREGORIAN
METHOD:PUBLISH
X-WR-CALNAME:Six Bells Pub
X-ORIGINAL-URL:https://sixbellspub.co.uk
X-WR-CALDESC:Events for Six Bells Pub
REFRESH-INTERVAL;VALUE=DURATION:PT1H
X-Robots-Tag:noindex
X-PUBLISHED-TTL:PT1H
BEGIN:VTIMEZONE
TZID:Europe/Paris
BEGIN:DAYLIGHT
TZOFFSETFROM:+0100
TZOFFSETTO:+0200
TZNAME:CEST
DTSTART:20180325T010000
END:DAYLIGHT
BEGIN:STANDARD
TZOFFSETFROM:+0200
TZOFFSETTO:+0100
TZNAME:CET
DTSTART:20181028T010000
END:STANDARD
BEGIN:DAYLIGHT
TZOFFSETFROM:+0100
TZOFFSETTO:+0200
TZNAME:CEST
DTSTART:20190331T010000
END:DAYLIGHT
BEGIN:STANDARD
TZOFFSETFROM:+0200
TZOFFSETTO:+0100
TZNAME:CET
DTSTART:20191027T010000
END:STANDARD
BEGIN:DAYLIGHT
TZOFFSETFROM:+0100
TZOFFSETTO:+0200
TZNAME:CEST
DTSTART:20200329T010000
END:DAYLIGHT
BEGIN:STANDARD
TZOFFSETFROM:+0200
TZOFFSETTO:+0100
TZNAME:CET
DTSTART:20201025T010000
END:STANDARD
END:VTIMEZONE
BEGIN:VEVENT
DTSTART;TZID=Europe/Paris:20190601T203000
DTEND;TZID=Europe/Paris:20190601T230000
DTSTAMP:20260424T182131
CREATED:20190527T132354Z
LAST-MODIFIED:20190527T132354Z
UID:2003-1559421000-1559430000@sixbellspub.co.uk
SUMMARY:Dickie de Vere and the Dorchester Mavericks
DESCRIPTION:Dickie de Vere and the Dorchester Mavericks\, formerly known as Victor Jolly and his Matchbox Orchestra\, endeavour to bring you the very finest in light musical entertainment\, playing a toe-tapping selection of your favourite  melodies from times gone by\, as well as original tunes inspired by a bygone age\,  beyond which I can only say\, ensure you present yourself at the next available Dickie de Vere engagement – you won’t regret it…..”                    \n “And\, remember\, the melodies start here with Dickie de Vere”  \n 
URL:https://sixbellspub.co.uk/event/dickie-de-vere-and-the-dorchester-mavericks/
LOCATION:Six Bells\, cb1 2hs
CATEGORIES:Music
END:VEVENT
BEGIN:VEVENT
DTSTART;TZID=Europe/Paris:20190606T200000
DTEND;TZID=Europe/Paris:20190606T230000
DTSTAMP:20260424T182131
CREATED:20190604T144627Z
LAST-MODIFIED:20190604T144627Z
UID:2024-1559851200-1559862000@sixbellspub.co.uk
SUMMARY:Ally Graham
DESCRIPTION:A Liq’Up Production: \nWhether you know him as Agni Harlem or Neil Graham\, this is Ally Graham!! \nThat’s him up there in his natural habitat\, behind a mic with a guitar 🌳🎸🎤 \nHe burst onto the Cambridge scene a little bit ago and landed with a bang (the good type of bang that makes your ears go wow wow). \nHe’s one of the best we’ve heard in a long time and you should really bear witness to it before he lands with a bang in other places 🛫👌 \nCome catch him at The Six Bells\, just off Mill Road onThursday the 6th of June. \nIt’s going to be a first for The Bells (our own Outside Kings natural habitat 🌳🤴🏾🤴🏻🛎🛎🛎🛎🛎🛎 ) and the first of many Liq’Up Productions 👌👌👌 \nHave a week that makes your Mother proud. Come along when the time comes. And keep it Liq’Up ✌️❤️
URL:https://sixbellspub.co.uk/event/ally-graham/
CATEGORIES:Music
END:VEVENT
BEGIN:VEVENT
DTSTART;TZID=Europe/Paris:20190608T203000
DTEND;TZID=Europe/Paris:20190608T230000
DTSTAMP:20260424T182131
CREATED:20190527T132818Z
LAST-MODIFIED:20190527T132818Z
UID:2006-1560025800-1560034800@sixbellspub.co.uk
SUMMARY:Darkhorse
DESCRIPTION:Upbeat covers with s schmattering of swing
URL:https://sixbellspub.co.uk/event/darkhorse-8/
LOCATION:Six Bells\, cb1 2hs
CATEGORIES:Music
END:VEVENT
BEGIN:VEVENT
DTSTART;TZID=Europe/Paris:20190609T170000
DTEND;TZID=Europe/Paris:20190609T200000
DTSTAMP:20260424T182131
CREATED:20190527T134916Z
LAST-MODIFIED:20190527T134916Z
UID:2008-1560099600-1560110400@sixbellspub.co.uk
SUMMARY:Sunday Sessions Open Mic
DESCRIPTION:Our fortnightly Open Mic. All perforrmers welcome – and an audience
URL:https://sixbellspub.co.uk/event/sunday-sessions-open-mic-47/
LOCATION:Six Bells\, cb1 2hs
CATEGORIES:Music
END:VEVENT
BEGIN:VEVENT
DTSTART;TZID=Europe/Paris:20190612T203000
DTEND;TZID=Europe/Paris:20190612T230000
DTSTAMP:20260424T182131
CREATED:20190527T135125Z
LAST-MODIFIED:20190527T135125Z
UID:2010-1560371400-1560380400@sixbellspub.co.uk
SUMMARY:Bluegrass
DESCRIPTION:Our monthly Bluegrass session
URL:https://sixbellspub.co.uk/event/bluegrass-50/
LOCATION:Six Bells\, cb1 2hs
CATEGORIES:Music
END:VEVENT
BEGIN:VEVENT
DTSTART;TZID=Europe/Paris:20190613T203000
DTEND;TZID=Europe/Paris:20190613T230000
DTSTAMP:20260424T182131
CREATED:20190527T135615Z
LAST-MODIFIED:20190527T144835Z
UID:2012-1560457800-1560466800@sixbellspub.co.uk
SUMMARY:Tunes
DESCRIPTION:Traditional Irish music \n 
URL:https://sixbellspub.co.uk/event/tunes-18/
LOCATION:Six Bells\, cb1 2hs
CATEGORIES:Music
END:VEVENT
BEGIN:VEVENT
DTSTART;TZID=Europe/Paris:20190615T203000
DTEND;TZID=Europe/Paris:20190615T230000
DTSTAMP:20260424T182131
CREATED:20190527T145550Z
LAST-MODIFIED:20190527T145550Z
UID:2015-1560630600-1560639600@sixbellspub.co.uk
SUMMARY:Harri Beasley
DESCRIPTION:Soulful vocals\, covers and originals \n 
URL:https://sixbellspub.co.uk/event/harri-beasley/
LOCATION:Six Bells\, cb1 2hs
END:VEVENT
BEGIN:VEVENT
DTSTART;TZID=Europe/Paris:20190622T203000
DTEND;TZID=Europe/Paris:20190622T230000
DTSTAMP:20260424T182131
CREATED:20190527T151713Z
LAST-MODIFIED:20190527T151713Z
UID:2018-1561235400-1561244400@sixbellspub.co.uk
SUMMARY:Ital Riddims
DESCRIPTION:Reggae from Nigel Bell and friends
URL:https://sixbellspub.co.uk/event/ital-riddims-2/
CATEGORIES:Music
END:VEVENT
BEGIN:VEVENT
DTSTART;TZID=Europe/Paris:20190623T170000
DTEND;TZID=Europe/Paris:20190623T200000
DTSTAMP:20260424T182131
CREATED:20190527T151931Z
LAST-MODIFIED:20190527T151931Z
UID:2020-1561309200-1561320000@sixbellspub.co.uk
SUMMARY:Sunday Sessions Open Mic
DESCRIPTION:
URL:https://sixbellspub.co.uk/event/sunday-sessions-open-mic-48/
CATEGORIES:Music
END:VEVENT
END:VCALENDAR