BEGIN:VCALENDAR
VERSION:2.0
PRODID:-//Six Bells Pub - ECPv6.15.20//NONSGML v1.0//EN
CALSCALE:GREGORIAN
METHOD:PUBLISH
X-ORIGINAL-URL:https://sixbellspub.co.uk
X-WR-CALDESC:Events for Six Bells Pub
REFRESH-INTERVAL;VALUE=DURATION:PT1H
X-Robots-Tag:noindex
X-PUBLISHED-TTL:PT1H
BEGIN:VTIMEZONE
TZID:Europe/Paris
BEGIN:DAYLIGHT
TZOFFSETFROM:+0100
TZOFFSETTO:+0200
TZNAME:CEST
DTSTART:20180325T010000
END:DAYLIGHT
BEGIN:STANDARD
TZOFFSETFROM:+0200
TZOFFSETTO:+0100
TZNAME:CET
DTSTART:20181028T010000
END:STANDARD
BEGIN:DAYLIGHT
TZOFFSETFROM:+0100
TZOFFSETTO:+0200
TZNAME:CEST
DTSTART:20190331T010000
END:DAYLIGHT
BEGIN:STANDARD
TZOFFSETFROM:+0200
TZOFFSETTO:+0100
TZNAME:CET
DTSTART:20191027T010000
END:STANDARD
BEGIN:DAYLIGHT
TZOFFSETFROM:+0100
TZOFFSETTO:+0200
TZNAME:CEST
DTSTART:20200329T010000
END:DAYLIGHT
BEGIN:STANDARD
TZOFFSETFROM:+0200
TZOFFSETTO:+0100
TZNAME:CET
DTSTART:20201025T010000
END:STANDARD
END:VTIMEZONE
BEGIN:VEVENT
DTSTART;TZID=Europe/Paris:20190401T210000
DTEND;TZID=Europe/Paris:20190401T230000
DTSTAMP:20260424T205708
CREATED:20190323T154240Z
LAST-MODIFIED:20190323T154240Z
UID:1885-1554152400-1554159600@sixbellspub.co.uk
SUMMARY:Quiz Night
DESCRIPTION:Our weekly pub quiz is every Monday at 9pm. It’s £1 to play with cash prizes for the winners and FREE Chips f0r everyone! Bring all your friends\, the more players\, the bigger the prize. \n 
URL:https://sixbellspub.co.uk/event/quiz-night-115/
CATEGORIES:Quiz
END:VEVENT
BEGIN:VEVENT
DTSTART;TZID=Europe/Paris:20190404T190000
DTEND;TZID=Europe/Paris:20190404T210000
DTSTAMP:20260424T205708
CREATED:20190402T130042Z
LAST-MODIFIED:20190402T130042Z
UID:1908-1554404400-1554411600@sixbellspub.co.uk
SUMMARY:Steak Night
DESCRIPTION:
URL:https://sixbellspub.co.uk/event/steak-night-81/
LOCATION:Six Bells\, 11 Covent Garden\, cb1 2hs\, United Kingdom
CATEGORIES:Food
END:VEVENT
BEGIN:VEVENT
DTSTART;TZID=Europe/Paris:20190406T203000
DTEND;TZID=Europe/Paris:20190406T230000
DTSTAMP:20260424T205708
CREATED:20190402T125813Z
LAST-MODIFIED:20190402T125813Z
UID:1904-1554582600-1554591600@sixbellspub.co.uk
SUMMARY:Allotment
DESCRIPTION:Standing still dance music \nAllotment are entertaining the hordes at the Six Bells\, Covent Garden (Mill Road)\, Cambridge on the evening of Saturday 6 April. \nFree entry. Fully licenced bar. Good company. \n\nCome and “dig” it. \nhttps://youtu.be/qlsbsVsYyok
URL:https://sixbellspub.co.uk/event/allotment-2/
LOCATION:Six Bells\, cb1 2hs
CATEGORIES:Music
END:VEVENT
BEGIN:VEVENT
DTSTART;TZID=Europe/Paris:20190407T120000
DTEND;TZID=Europe/Paris:20190407T160000
DTSTAMP:20260424T205708
CREATED:20190402T130832Z
LAST-MODIFIED:20190402T130832Z
UID:1911-1554638400-1554652800@sixbellspub.co.uk
SUMMARY:Sunday Roast
DESCRIPTION:Served from 12 to 4pm. All the family welcome. Call us on 01223 355559 to be sure of a table or just come along
URL:https://sixbellspub.co.uk/event/sunday-roast-8/
CATEGORIES:Food
END:VEVENT
BEGIN:VEVENT
DTSTART;TZID=Europe/Paris:20190408T210000
DTEND;TZID=Europe/Paris:20190408T230000
DTSTAMP:20260424T205708
CREATED:20190323T155219Z
LAST-MODIFIED:20190323T155219Z
UID:1890-1554757200-1554764400@sixbellspub.co.uk
SUMMARY:Quiz Night
DESCRIPTION:Our weekly pub quiz is every Monday at 9pm. It’s £1 to play with cash prizes for the winners and FREE Chips f0r everyone! Bring all your friends\, the more players\, the bigger the prize. \n 
URL:https://sixbellspub.co.uk/event/quiz-night-116/
CATEGORIES:Quiz
END:VEVENT
BEGIN:VEVENT
DTSTART;TZID=Europe/Paris:20190410T080000
DTEND;TZID=Europe/Paris:20190410T170000
DTSTAMP:20260424T205708
CREATED:20190323T165126Z
LAST-MODIFIED:20190323T170402Z
UID:1901-1554883200-1554915600@sixbellspub.co.uk
SUMMARY:Bluegrass
DESCRIPTION:Our monthly Bluegrass Session \n \n 
URL:https://sixbellspub.co.uk/event/bluegrass-48/
CATEGORIES:Music
END:VEVENT
BEGIN:VEVENT
DTSTART;TZID=Europe/Paris:20190411T190000
DTEND;TZID=Europe/Paris:20190411T210000
DTSTAMP:20260424T205708
CREATED:20190323T155659Z
LAST-MODIFIED:20190323T155659Z
UID:1897-1555009200-1555016400@sixbellspub.co.uk
SUMMARY:Steak Night
DESCRIPTION:
URL:https://sixbellspub.co.uk/event/steak-night-80/
CATEGORIES:Food
END:VEVENT
BEGIN:VEVENT
DTSTART;TZID=Europe/Paris:20190411T203000
DTEND;TZID=Europe/Paris:20190411T230000
DTSTAMP:20260424T205708
CREATED:20190402T131441Z
LAST-MODIFIED:20190402T131441Z
UID:1914-1555014600-1555023600@sixbellspub.co.uk
SUMMARY:Tunes
DESCRIPTION:Traditional Irish music
URL:https://sixbellspub.co.uk/event/tunes-16/
CATEGORIES:Music
END:VEVENT
BEGIN:VEVENT
DTSTART;TZID=Europe/Paris:20190413T203000
DTEND;TZID=Europe/Paris:20190413T230000
DTSTAMP:20260424T205708
CREATED:20190407T150324Z
LAST-MODIFIED:20190407T150324Z
UID:1927-1555187400-1555196400@sixbellspub.co.uk
SUMMARY:Darkhorse
DESCRIPTION:Five piece. Unexpected covers. Pop\, soul\, swing. Upbeat and danceable!
URL:https://sixbellspub.co.uk/event/darkhorse-7/
LOCATION:Six Bells\, cb1 2hs
CATEGORIES:Music
END:VEVENT
BEGIN:VEVENT
DTSTART;TZID=Europe/Paris:20190415T210000
DTEND;TZID=Europe/Paris:20190415T230000
DTSTAMP:20260424T205708
CREATED:20190323T155322Z
LAST-MODIFIED:20190323T155322Z
UID:1892-1555362000-1555369200@sixbellspub.co.uk
SUMMARY:Quiz Night
DESCRIPTION:Our weekly pub quiz is every Monday at 9pm. It’s £1 to play with cash prizes for the winners and FREE Chips f0r everyone! Bring all your friends\, the more players\, the bigger the prize. \n 
URL:https://sixbellspub.co.uk/event/quiz-night-117/
CATEGORIES:Quiz
END:VEVENT
BEGIN:VEVENT
DTSTART;TZID=Europe/Paris:20190418T190000
DTEND;TZID=Europe/Paris:20190418T210000
DTSTAMP:20260424T205708
CREATED:20190323T155115Z
LAST-MODIFIED:20190402T131221Z
UID:1887-1555614000-1555621200@sixbellspub.co.uk
SUMMARY:Steak Night
DESCRIPTION:
URL:https://sixbellspub.co.uk/event/steak-night-79/
CATEGORIES:Food
END:VEVENT
BEGIN:VEVENT
DTSTART;TZID=Europe/Paris:20190418T203000
DTEND;TZID=Europe/Paris:20190418T230000
DTSTAMP:20260424T205708
CREATED:20190407T145034Z
LAST-MODIFIED:20190407T145034Z
UID:1918-1555619400-1555628400@sixbellspub.co.uk
SUMMARY:Brigid Kaelin and Steve Cooley
DESCRIPTION:Americana\, folk\, bluegrass\, Kentucky musicians and storytellers Brigid Kaelin & Steve Cooley are coming back to Six Bells! \nSTEVE COOLEY has appeared on the Grand Ole Opry and Hee Haw\, has performed for five US Presidents and the Prince of Wales and has worked with such notables as Bill Monroe\, Jean Ritchie\, Mac Wiseman\, Rose Maddox and toured extensively with The Dillards and Bluegrass Alliance. In 2018\, he taught at Bela Fleck’s inaugural banjo camp\, where Bela dubbed him a “banjo master.” Steve’s work has earned 5 Grammy nominations and plenty of other accolades\, but he lives a quiet life on his houseboat on the banks of the Ohio River. \nBRIGID KAELIN is a singer\, storyteller\, blogger and multi-instrumentalist who has appeared on BBC\, NPR and received many “Best Singer-Songwriter” awards in Louisville. With 7 albums/EPs of original alt-country-cabaret music\, she’s toured the world. Brigid’s live show is entertaining\, upbeat\, but poignant. The addition of Steve Cooley lifts her originals\, making the show reminiscent of old-time variety hours.\nAlso a sought-after sidewoman\, Brigid has performed with artists ranging from Nick Keir and Adam Holmes to Elvis Costello\, usually on musical saw or accordion. She recently turned down a leading role in a National touring Broadway show in order to care for her dying mother and wouldn’t change a thing about that.
URL:https://sixbellspub.co.uk/event/brigid-kaelin-and-steve-cooley-2/
LOCATION:Six Bells\, cb1 2hs
CATEGORIES:Music
END:VEVENT
BEGIN:VEVENT
DTSTART;TZID=Europe/Paris:20190419T203000
DTEND;TZID=Europe/Paris:20190419T230000
DTSTAMP:20260424T205708
CREATED:20190407T145424Z
LAST-MODIFIED:20190407T145424Z
UID:1921-1555705800-1555714800@sixbellspub.co.uk
SUMMARY:The Lonely
DESCRIPTION:
URL:https://sixbellspub.co.uk/event/the-lonely/
CATEGORIES:Music
END:VEVENT
BEGIN:VEVENT
DTSTART;TZID=Europe/Paris:20190420T203000
DTEND;TZID=Europe/Paris:20190420T230000
DTSTAMP:20260424T205708
CREATED:20190407T145745Z
LAST-MODIFIED:20190407T145745Z
UID:1924-1555792200-1555801200@sixbellspub.co.uk
SUMMARY:Max Bianco and The Bluehearts
DESCRIPTION:
URL:https://sixbellspub.co.uk/event/max-bianco-and-the-bluehearts-4/
LOCATION:Six Bells\, cb1 2hs
CATEGORIES:Music
END:VEVENT
BEGIN:VEVENT
DTSTART;TZID=Europe/Paris:20190421T150000
DTEND;TZID=Europe/Paris:20190421T170000
DTSTAMP:20260424T205708
CREATED:20190412T134730Z
LAST-MODIFIED:20190412T135920Z
UID:1937-1555858800-1555866000@sixbellspub.co.uk
SUMMARY:Johanna Dupke
DESCRIPTION:Easter Sunday lunch followed by some lovely mellow songs from the talented Johanna Dupke\, who we were lucky to book while on a flyng visit to Cambridge \nIf you would like t reserve a place for Easter Sunday roast please give us a call on 01223 355559 or just come along on the day
URL:https://sixbellspub.co.uk/event/johanna-dupke/
CATEGORIES:Food,Music
END:VEVENT
BEGIN:VEVENT
DTSTART;TZID=Europe/Paris:20190424T203000
DTEND;TZID=Europe/Paris:20190424T230000
DTSTAMP:20260424T205708
CREATED:20190412T140112Z
LAST-MODIFIED:20190412T140148Z
UID:1943-1556137800-1556146800@sixbellspub.co.uk
SUMMARY:Mossy's Tunes
DESCRIPTION:Traditional Irish music
URL:https://sixbellspub.co.uk/event/mossys-tunes/
CATEGORIES:Music
END:VEVENT
BEGIN:VEVENT
DTSTART;TZID=Europe/Paris:20190425T190000
DTEND;TZID=Europe/Paris:20190425T210000
DTSTAMP:20260424T205708
CREATED:20190407T151339Z
LAST-MODIFIED:20190407T151339Z
UID:1933-1556218800-1556226000@sixbellspub.co.uk
SUMMARY:Steak Night
DESCRIPTION:
URL:https://sixbellspub.co.uk/event/steak-night-82/
CATEGORIES:Food
END:VEVENT
BEGIN:VEVENT
DTSTART;TZID=Europe/Paris:20190427T203000
DTEND;TZID=Europe/Paris:20190427T230000
DTSTAMP:20260424T205708
CREATED:20190407T150553Z
LAST-MODIFIED:20190407T151127Z
UID:1930-1556397000-1556406000@sixbellspub.co.uk
SUMMARY:The Sensationals
DESCRIPTION:Playing the soundtrack of your life!
URL:https://sixbellspub.co.uk/event/the-sensationals-5/
CATEGORIES:Music
END:VEVENT
BEGIN:VEVENT
DTSTART;TZID=Europe/Paris:20190429T210000
DTEND;TZID=Europe/Paris:20190429T230000
DTSTAMP:20260424T205708
CREATED:20190323T155428Z
LAST-MODIFIED:20190323T155428Z
UID:1894-1556571600-1556578800@sixbellspub.co.uk
SUMMARY:Quiz Night
DESCRIPTION:Our weekly pub quiz is every Monday at 9pm. It’s £1 to play with cash prizes for the winners and FREE Chips f0r everyone! Bring all your friends\, the more players\, the bigger the prize. \n 
URL:https://sixbellspub.co.uk/event/quiz-night-118/
CATEGORIES:Quiz
END:VEVENT
END:VCALENDAR