BEGIN:VCALENDAR
VERSION:2.0
PRODID:-//Six Bells Pub - ECPv6.15.20//NONSGML v1.0//EN
CALSCALE:GREGORIAN
METHOD:PUBLISH
X-ORIGINAL-URL:https://sixbellspub.co.uk
X-WR-CALDESC:Events for Six Bells Pub
REFRESH-INTERVAL;VALUE=DURATION:PT1H
X-Robots-Tag:noindex
X-PUBLISHED-TTL:PT1H
BEGIN:VTIMEZONE
TZID:Europe/Paris
BEGIN:DAYLIGHT
TZOFFSETFROM:+0100
TZOFFSETTO:+0200
TZNAME:CEST
DTSTART:20170326T010000
END:DAYLIGHT
BEGIN:STANDARD
TZOFFSETFROM:+0200
TZOFFSETTO:+0100
TZNAME:CET
DTSTART:20171029T010000
END:STANDARD
BEGIN:DAYLIGHT
TZOFFSETFROM:+0100
TZOFFSETTO:+0200
TZNAME:CEST
DTSTART:20180325T010000
END:DAYLIGHT
BEGIN:STANDARD
TZOFFSETFROM:+0200
TZOFFSETTO:+0100
TZNAME:CET
DTSTART:20181028T010000
END:STANDARD
BEGIN:DAYLIGHT
TZOFFSETFROM:+0100
TZOFFSETTO:+0200
TZNAME:CEST
DTSTART:20190331T010000
END:DAYLIGHT
BEGIN:STANDARD
TZOFFSETFROM:+0200
TZOFFSETTO:+0100
TZNAME:CET
DTSTART:20191027T010000
END:STANDARD
END:VTIMEZONE
BEGIN:VTIMEZONE
TZID:Europe/Paris
BEGIN:DAYLIGHT
TZOFFSETFROM:+0100
TZOFFSETTO:+0200
TZNAME:CEST
DTSTART:20170326T010000
END:DAYLIGHT
BEGIN:STANDARD
TZOFFSETFROM:+0200
TZOFFSETTO:+0100
TZNAME:CET
DTSTART:20171029T010000
END:STANDARD
BEGIN:DAYLIGHT
TZOFFSETFROM:+0100
TZOFFSETTO:+0200
TZNAME:CEST
DTSTART:20180325T010000
END:DAYLIGHT
BEGIN:STANDARD
TZOFFSETFROM:+0200
TZOFFSETTO:+0100
TZNAME:CET
DTSTART:20181028T010000
END:STANDARD
BEGIN:DAYLIGHT
TZOFFSETFROM:+0100
TZOFFSETTO:+0200
TZNAME:CEST
DTSTART:20190331T010000
END:DAYLIGHT
BEGIN:STANDARD
TZOFFSETFROM:+0200
TZOFFSETTO:+0100
TZNAME:CET
DTSTART:20191027T010000
END:STANDARD
END:VTIMEZONE
BEGIN:VEVENT
DTSTART;TZID=Europe/Paris:20181114T210000
DTEND;TZID=Europe/Paris:20181114T230000
DTSTAMP:20260425T032545
CREATED:20180109T142303Z
LAST-MODIFIED:20180109T142303Z
UID:1450-1542229200-1542236400@sixbellspub.co.uk
SUMMARY:Bluegrass
DESCRIPTION:Our monthly Bluegrass session – second Wednesday of each month
URL:https://sixbellspub.co.uk/event/bluegrass-43/
CATEGORIES:Music
END:VEVENT
BEGIN:VEVENT
DTSTART;TZID=Europe/Paris:20181123T120000
DTEND;TZID=Europe/Paris:20181123T170000
DTSTAMP:20260425T032545
CREATED:20181123T154525Z
LAST-MODIFIED:20181123T154525Z
UID:1737-1542974400-1542992400@sixbellspub.co.uk
SUMMARY:Sunday Roast served 12 to 5pm
DESCRIPTION:A feast for £9.50 \nCall us on 01223 3555559 to book\, or just come along on Sunday
URL:https://sixbellspub.co.uk/event/sunday-roast-served-12-to-5pm-5/
LOCATION:Six Bells\, 11 Covent Garden\, cb1 2hs\, United Kingdom
CATEGORIES:Food
END:VEVENT
BEGIN:VEVENT
DTSTART;TZID=Europe/Paris:20181124T203000
DTEND;TZID=Europe/Paris:20181124T230000
DTSTAMP:20260425T032545
CREATED:20181122T154204Z
LAST-MODIFIED:20181122T154204Z
UID:1672-1543091400-1543100400@sixbellspub.co.uk
SUMMARY:Awesome Leaves
DESCRIPTION:Details \n\n\n\n\n\n\n\n\nThe Awesome Leaves are a Cambridge based duet who play well_known jazz standards (Sinatra\, Ella Fitzgerald) and jazzed-up popular songs (Amy Winehouse\, Nirvana\, etc)\, The is composed of Garance Moonflower (Smooth vocals) and Paul Cook (Piano artistry). For this occasion they will be joined by fantastic drummer Ed O’Connell. Come along for a great evening during this month of the Cambridge jazz festival!\nFree entry
URL:https://sixbellspub.co.uk/event/awesome-leaves-2/
LOCATION:Six Bells\, cb1 2hs
END:VEVENT
BEGIN:VEVENT
DTSTART;TZID=Europe/Paris:20181125T120000
DTEND;TZID=Europe/Paris:20181125T170000
DTSTAMP:20260425T032545
CREATED:20181123T153754Z
LAST-MODIFIED:20181123T155741Z
UID:1727-1543147200-1543165200@sixbellspub.co.uk
SUMMARY:Sunday Roast served 12 to 5pm
DESCRIPTION:A feast for £9.50 \nCall us on 01223 355559 to book\, or just come along on Sunday
URL:https://sixbellspub.co.uk/event/sunday-roast-served-12-to-5pm/
LOCATION:Six Bells
CATEGORIES:Food
END:VEVENT
BEGIN:VEVENT
DTSTART;TZID=Europe/Paris:20181125T170000
DTEND;TZID=Europe/Paris:20181125T200000
DTSTAMP:20260425T032545
CREATED:20181122T154656Z
LAST-MODIFIED:20181122T154656Z
UID:1674-1543165200-1543176000@sixbellspub.co.uk
SUMMARY:Sunday Sessions Open Mic
DESCRIPTION:Our fortnightly Open Mic hosted by Sam and George of Outside Kings. All performers are welcome at this friendly Sunday afternoon Open Mic – and we need an audience too!
URL:https://sixbellspub.co.uk/event/sunday-sessions-open-mic-39/
LOCATION:Six Bells\, cb1 2hs
CATEGORIES:Music
END:VEVENT
BEGIN:VEVENT
DTSTART;TZID=Europe/Paris:20181126T210000
DTEND;TZID=Europe/Paris:20181126T230000
DTSTAMP:20260425T032545
CREATED:20181123T160050Z
LAST-MODIFIED:20181123T160050Z
UID:1748-1543266000-1543273200@sixbellspub.co.uk
SUMMARY:Quiz Night
DESCRIPTION:Our weekly pub quiz iis every Monday from 9pm. It’s £1 to play and there ia a cash prize for the winners and free chips for everyone! \n \n 
URL:https://sixbellspub.co.uk/event/quiz-night-111/
LOCATION:Six Bells\, 11 Covent Garden\, Cambridge
CATEGORIES:Quiz
END:VEVENT
BEGIN:VEVENT
DTSTART;TZID=Europe/Paris:20181201T100000
DTEND;TZID=Europe/Paris:20181201T170000
DTSTAMP:20260425T032545
CREATED:20181122T155542Z
LAST-MODIFIED:20181122T155543Z
UID:1678-1543658400-1543683600@sixbellspub.co.uk
SUMMARY:Mill Road Winter Fair
DESCRIPTION:The first Saturday in December is the day of the annual Mill Road Winter Fair. The road is closed to traffic and there is fun to be had the length of Mill Road. Call in to the  Six Bellls to warm up with a glass of Mulled Wine  or Mulled Cider. We’ll be open from 11 am and look forward to seeing you!
URL:https://sixbellspub.co.uk/event/mill-road-winter-fair-2/
CATEGORIES:community event
END:VEVENT
END:VCALENDAR