BEGIN:VCALENDAR
VERSION:2.0
PRODID:-//Six Bells Pub - ECPv6.15.20//NONSGML v1.0//EN
CALSCALE:GREGORIAN
METHOD:PUBLISH
X-WR-CALNAME:Six Bells Pub
X-ORIGINAL-URL:https://sixbellspub.co.uk
X-WR-CALDESC:Events for Six Bells Pub
REFRESH-INTERVAL;VALUE=DURATION:PT1H
X-Robots-Tag:noindex
X-PUBLISHED-TTL:PT1H
BEGIN:VTIMEZONE
TZID:Europe/Paris
BEGIN:DAYLIGHT
TZOFFSETFROM:+0100
TZOFFSETTO:+0200
TZNAME:CEST
DTSTART:20220327T010000
END:DAYLIGHT
BEGIN:STANDARD
TZOFFSETFROM:+0200
TZOFFSETTO:+0100
TZNAME:CET
DTSTART:20221030T010000
END:STANDARD
BEGIN:DAYLIGHT
TZOFFSETFROM:+0100
TZOFFSETTO:+0200
TZNAME:CEST
DTSTART:20230326T010000
END:DAYLIGHT
BEGIN:STANDARD
TZOFFSETFROM:+0200
TZOFFSETTO:+0100
TZNAME:CET
DTSTART:20231029T010000
END:STANDARD
BEGIN:DAYLIGHT
TZOFFSETFROM:+0100
TZOFFSETTO:+0200
TZNAME:CEST
DTSTART:20240331T010000
END:DAYLIGHT
BEGIN:STANDARD
TZOFFSETFROM:+0200
TZOFFSETTO:+0100
TZNAME:CET
DTSTART:20241027T010000
END:STANDARD
END:VTIMEZONE
BEGIN:VEVENT
DTSTART;TZID=Europe/Paris:20231016T200000
DTEND;TZID=Europe/Paris:20231016T230000
DTSTAMP:20260423T174106
CREATED:20231016T105740Z
LAST-MODIFIED:20231016T105740Z
UID:2641-1697486400-1697497200@sixbellspub.co.uk
SUMMARY:Quiz Night
DESCRIPTION:Every Monday 8pm. Join us for a chance to win chocolates or a cash prize. This week’s jackpot is £80!! \n 
URL:https://sixbellspub.co.uk/event/quiz-night-175/
LOCATION:Six Bells\, cb1 2hs
CATEGORIES:Quiz
END:VEVENT
BEGIN:VEVENT
DTSTART;TZID=Europe/Paris:20231023T200000
DTEND;TZID=Europe/Paris:20231023T230000
DTSTAMP:20260423T174106
CREATED:20231016T110630Z
LAST-MODIFIED:20231016T110630Z
UID:2650-1698091200-1698102000@sixbellspub.co.uk
SUMMARY:Quiz Night
DESCRIPTION:
URL:https://sixbellspub.co.uk/event/quiz-night-176/
CATEGORIES:Quiz
END:VEVENT
END:VCALENDAR