BEGIN:VCALENDAR
VERSION:2.0
PRODID:-//Six Bells Pub - ECPv6.15.20//NONSGML v1.0//EN
CALSCALE:GREGORIAN
METHOD:PUBLISH
X-ORIGINAL-URL:https://sixbellspub.co.uk
X-WR-CALDESC:Events for Six Bells Pub
REFRESH-INTERVAL;VALUE=DURATION:PT1H
X-Robots-Tag:noindex
X-PUBLISHED-TTL:PT1H
BEGIN:VTIMEZONE
TZID:Europe/Paris
BEGIN:DAYLIGHT
TZOFFSETFROM:+0100
TZOFFSETTO:+0200
TZNAME:CEST
DTSTART:20230326T010000
END:DAYLIGHT
BEGIN:STANDARD
TZOFFSETFROM:+0200
TZOFFSETTO:+0100
TZNAME:CET
DTSTART:20231029T010000
END:STANDARD
BEGIN:DAYLIGHT
TZOFFSETFROM:+0100
TZOFFSETTO:+0200
TZNAME:CEST
DTSTART:20240331T010000
END:DAYLIGHT
BEGIN:STANDARD
TZOFFSETFROM:+0200
TZOFFSETTO:+0100
TZNAME:CET
DTSTART:20241027T010000
END:STANDARD
BEGIN:DAYLIGHT
TZOFFSETFROM:+0100
TZOFFSETTO:+0200
TZNAME:CEST
DTSTART:20250330T010000
END:DAYLIGHT
BEGIN:STANDARD
TZOFFSETFROM:+0200
TZOFFSETTO:+0100
TZNAME:CET
DTSTART:20251026T010000
END:STANDARD
END:VTIMEZONE
BEGIN:VEVENT
DTSTART;TZID=Europe/Paris:20241205T183000
DTEND;TZID=Europe/Paris:20241205T210000
DTSTAMP:20260421T030708
CREATED:20241201T143517Z
LAST-MODIFIED:20241201T143517Z
UID:3040-1733423400-1733432400@sixbellspub.co.uk
SUMMARY:Thai food pop up from Wok Around the Clock
DESCRIPTION:
URL:https://sixbellspub.co.uk/event/thai-food-pop-up-from-wok-around-the-clock-6/
CATEGORIES:Food
END:VEVENT
BEGIN:VEVENT
DTSTART;TZID=Europe/Paris:20241212T180000
DTEND;TZID=Europe/Paris:20241212T210000
DTSTAMP:20260421T030708
CREATED:20241201T144020Z
LAST-MODIFIED:20241201T144020Z
UID:3044-1734026400-1734037200@sixbellspub.co.uk
SUMMARY:Thai food pop up from Wok Around the Clock
DESCRIPTION:
URL:https://sixbellspub.co.uk/event/thai-food-pop-up-from-wok-around-the-clock-7/
LOCATION:Six Bells\, cb1 2hs
CATEGORIES:Food
END:VEVENT
END:VCALENDAR