BEGIN:VCALENDAR
VERSION:2.0
PRODID:-//Six Bells Pub - ECPv6.15.20//NONSGML v1.0//EN
CALSCALE:GREGORIAN
METHOD:PUBLISH
X-ORIGINAL-URL:https://sixbellspub.co.uk
X-WR-CALDESC:Events for Six Bells Pub
REFRESH-INTERVAL;VALUE=DURATION:PT1H
X-Robots-Tag:noindex
X-PUBLISHED-TTL:PT1H
BEGIN:VTIMEZONE
TZID:Europe/Paris
BEGIN:DAYLIGHT
TZOFFSETFROM:+0100
TZOFFSETTO:+0200
TZNAME:CEST
DTSTART:20230326T010000
END:DAYLIGHT
BEGIN:STANDARD
TZOFFSETFROM:+0200
TZOFFSETTO:+0100
TZNAME:CET
DTSTART:20231029T010000
END:STANDARD
BEGIN:DAYLIGHT
TZOFFSETFROM:+0100
TZOFFSETTO:+0200
TZNAME:CEST
DTSTART:20240331T010000
END:DAYLIGHT
BEGIN:STANDARD
TZOFFSETFROM:+0200
TZOFFSETTO:+0100
TZNAME:CET
DTSTART:20241027T010000
END:STANDARD
BEGIN:DAYLIGHT
TZOFFSETFROM:+0100
TZOFFSETTO:+0200
TZNAME:CEST
DTSTART:20250330T010000
END:DAYLIGHT
BEGIN:STANDARD
TZOFFSETFROM:+0200
TZOFFSETTO:+0100
TZNAME:CET
DTSTART:20251026T010000
END:STANDARD
END:VTIMEZONE
BEGIN:VEVENT
DTSTART;TZID=Europe/Paris:20241010T180000
DTEND;TZID=Europe/Paris:20241010T210000
DTSTAMP:20260421T054243
CREATED:20241006T114005Z
LAST-MODIFIED:20241006T114109Z
UID:2955-1728583200-1728594000@sixbellspub.co.uk
SUMMARY:Thai food pop up
DESCRIPTION:Delicious Thai food from Wok Around the Clock available every Thursday from 6 to 9 pm
URL:https://sixbellspub.co.uk/event/thai-food-pop-up-from-wok-around-the-clock/
LOCATION:Six Bells\, cb1 2hs
CATEGORIES:Food
END:VEVENT
BEGIN:VEVENT
DTSTART;TZID=Europe/Paris:20241031T180000
DTEND;TZID=Europe/Paris:20241031T210000
DTSTAMP:20260421T054243
CREATED:20241029T135058Z
LAST-MODIFIED:20241029T135058Z
UID:3005-1730397600-1730408400@sixbellspub.co.uk
SUMMARY:Thai food pop up from Wok around the clock
DESCRIPTION:Delicious thai food served every Thursday \n 
URL:https://sixbellspub.co.uk/event/thai-food-pop-up-from-wok-around-the-clock-2/
LOCATION:Six Bells\, cb1 2hs
CATEGORIES:Food
END:VEVENT
END:VCALENDAR