BEGIN:VCALENDAR
VERSION:2.0
PRODID:-//Six Bells Pub - ECPv6.15.20//NONSGML v1.0//EN
CALSCALE:GREGORIAN
METHOD:PUBLISH
X-ORIGINAL-URL:https://sixbellspub.co.uk
X-WR-CALDESC:Events for Six Bells Pub
REFRESH-INTERVAL;VALUE=DURATION:PT1H
X-Robots-Tag:noindex
X-PUBLISHED-TTL:PT1H
BEGIN:VTIMEZONE
TZID:Europe/Paris
BEGIN:DAYLIGHT
TZOFFSETFROM:+0100
TZOFFSETTO:+0200
TZNAME:CEST
DTSTART:20180325T010000
END:DAYLIGHT
BEGIN:STANDARD
TZOFFSETFROM:+0200
TZOFFSETTO:+0100
TZNAME:CET
DTSTART:20181028T010000
END:STANDARD
BEGIN:DAYLIGHT
TZOFFSETFROM:+0100
TZOFFSETTO:+0200
TZNAME:CEST
DTSTART:20190331T010000
END:DAYLIGHT
BEGIN:STANDARD
TZOFFSETFROM:+0200
TZOFFSETTO:+0100
TZNAME:CET
DTSTART:20191027T010000
END:STANDARD
BEGIN:DAYLIGHT
TZOFFSETFROM:+0100
TZOFFSETTO:+0200
TZNAME:CEST
DTSTART:20200329T010000
END:DAYLIGHT
BEGIN:STANDARD
TZOFFSETFROM:+0200
TZOFFSETTO:+0100
TZNAME:CET
DTSTART:20201025T010000
END:STANDARD
END:VTIMEZONE
BEGIN:VEVENT
DTSTART;TZID=Europe/Paris:20190113T120000
DTEND;TZID=Europe/Paris:20190113T170000
DTSTAMP:20260425T041037
CREATED:20190102T151929Z
LAST-MODIFIED:20190102T162952Z
UID:1790-1547380800-1547398800@sixbellspub.co.uk
SUMMARY:Sunday Roast
DESCRIPTION:The kitchen re-opens today after our little holiday with Sunday Roast available from 12 to 5pm. If you would like to book please call us on 01223 355559\, or just come along.
URL:https://sixbellspub.co.uk/event/sunday-roast-7/
LOCATION:Six Bells\, cb1 2hs
CATEGORIES:Food
END:VEVENT
BEGIN:VEVENT
DTSTART;TZID=Europe/Paris:20190117T190000
DTEND;TZID=Europe/Paris:20190117T210000
DTSTAMP:20260425T041037
CREATED:20190113T144503Z
LAST-MODIFIED:20190113T144503Z
UID:1817-1547751600-1547758800@sixbellspub.co.uk
SUMMARY:Steak night
DESCRIPTION:
URL:https://sixbellspub.co.uk/event/steak-night-78/
CATEGORIES:Food
END:VEVENT
END:VCALENDAR