BEGIN:VCALENDAR
VERSION:2.0
PRODID:-//Six Bells Pub - ECPv6.15.20//NONSGML v1.0//EN
CALSCALE:GREGORIAN
METHOD:PUBLISH
X-WR-CALNAME:Six Bells Pub
X-ORIGINAL-URL:https://sixbellspub.co.uk
X-WR-CALDESC:Events for Six Bells Pub
REFRESH-INTERVAL;VALUE=DURATION:PT1H
X-Robots-Tag:noindex
X-PUBLISHED-TTL:PT1H
BEGIN:VTIMEZONE
TZID:Europe/Paris
BEGIN:DAYLIGHT
TZOFFSETFROM:+0100
TZOFFSETTO:+0200
TZNAME:CEST
DTSTART:20170326T010000
END:DAYLIGHT
BEGIN:STANDARD
TZOFFSETFROM:+0200
TZOFFSETTO:+0100
TZNAME:CET
DTSTART:20171029T010000
END:STANDARD
BEGIN:DAYLIGHT
TZOFFSETFROM:+0100
TZOFFSETTO:+0200
TZNAME:CEST
DTSTART:20180325T010000
END:DAYLIGHT
BEGIN:STANDARD
TZOFFSETFROM:+0200
TZOFFSETTO:+0100
TZNAME:CET
DTSTART:20181028T010000
END:STANDARD
BEGIN:DAYLIGHT
TZOFFSETFROM:+0100
TZOFFSETTO:+0200
TZNAME:CEST
DTSTART:20190331T010000
END:DAYLIGHT
BEGIN:STANDARD
TZOFFSETFROM:+0200
TZOFFSETTO:+0100
TZNAME:CET
DTSTART:20191027T010000
END:STANDARD
END:VTIMEZONE
BEGIN:VEVENT
DTSTART;TZID=Europe/Paris:20180712T190000
DTEND;TZID=Europe/Paris:20180712T210000
DTSTAMP:20260425T124854
CREATED:20180709T182554Z
LAST-MODIFIED:20180709T182554Z
UID:1615-1531422000-1531429200@sixbellspub.co.uk
SUMMARY:Steak Night
DESCRIPTION:
URL:https://sixbellspub.co.uk/event/steak-night-72/
CATEGORIES:Food
END:VEVENT
BEGIN:VEVENT
DTSTART;TZID=Europe/Paris:20180719T190000
DTEND;TZID=Europe/Paris:20180719T210000
DTSTAMP:20260425T124854
CREATED:20180709T182739Z
LAST-MODIFIED:20180709T182739Z
UID:1616-1532026800-1532034000@sixbellspub.co.uk
SUMMARY:Steak Night
DESCRIPTION:
URL:https://sixbellspub.co.uk/event/steak-night-73/
CATEGORIES:Food
END:VEVENT
END:VCALENDAR