BEGIN:VCALENDAR
VERSION:2.0
PRODID:-//Six Bells Pub - ECPv6.15.20//NONSGML v1.0//EN
CALSCALE:GREGORIAN
METHOD:PUBLISH
X-ORIGINAL-URL:https://sixbellspub.co.uk
X-WR-CALDESC:Events for Six Bells Pub
REFRESH-INTERVAL;VALUE=DURATION:PT1H
X-Robots-Tag:noindex
X-PUBLISHED-TTL:PT1H
BEGIN:VTIMEZONE
TZID:Europe/Paris
BEGIN:DAYLIGHT
TZOFFSETFROM:+0100
TZOFFSETTO:+0200
TZNAME:CEST
DTSTART:20170326T010000
END:DAYLIGHT
BEGIN:STANDARD
TZOFFSETFROM:+0200
TZOFFSETTO:+0100
TZNAME:CET
DTSTART:20171029T010000
END:STANDARD
BEGIN:DAYLIGHT
TZOFFSETFROM:+0100
TZOFFSETTO:+0200
TZNAME:CEST
DTSTART:20180325T010000
END:DAYLIGHT
BEGIN:STANDARD
TZOFFSETFROM:+0200
TZOFFSETTO:+0100
TZNAME:CET
DTSTART:20181028T010000
END:STANDARD
BEGIN:DAYLIGHT
TZOFFSETFROM:+0100
TZOFFSETTO:+0200
TZNAME:CEST
DTSTART:20190331T010000
END:DAYLIGHT
BEGIN:STANDARD
TZOFFSETFROM:+0200
TZOFFSETTO:+0100
TZNAME:CET
DTSTART:20191027T010000
END:STANDARD
END:VTIMEZONE
BEGIN:VEVENT
DTSTART;TZID=Europe/Paris:20180505T180000
DTEND;TZID=Europe/Paris:20180505T230000
DTSTAMP:20260425T155320
CREATED:20180426T174215Z
LAST-MODIFIED:20180426T174215Z
UID:1541-1525543200-1525561200@sixbellspub.co.uk
SUMMARY:Mexican PopUp
DESCRIPTION:Celebrate Cinco de Maio with mexican food at the Six Bells
URL:https://sixbellspub.co.uk/event/mexican-popup/
CATEGORIES:Food
END:VEVENT
BEGIN:VEVENT
DTSTART;TZID=Europe/Paris:20180510T190000
DTEND;TZID=Europe/Paris:20180510T210000
DTSTAMP:20260425T155320
CREATED:20180507T211802Z
LAST-MODIFIED:20180507T211802Z
UID:1544-1525978800-1525986000@sixbellspub.co.uk
SUMMARY:Steak Night
DESCRIPTION:
URL:https://sixbellspub.co.uk/event/steak-night-64/
CATEGORIES:Food
END:VEVENT
BEGIN:VEVENT
DTSTART;TZID=Europe/Paris:20180517T190000
DTEND;TZID=Europe/Paris:20180517T210000
DTSTAMP:20260425T155320
CREATED:20180507T220118Z
LAST-MODIFIED:20180507T220118Z
UID:1558-1526583600-1526590800@sixbellspub.co.uk
SUMMARY:Steak Night
DESCRIPTION:
URL:https://sixbellspub.co.uk/event/steak-night-65/
CATEGORIES:Food
END:VEVENT
BEGIN:VEVENT
DTSTART;TZID=Europe/Paris:20180524T190000
DTEND;TZID=Europe/Paris:20180524T210000
DTSTAMP:20260425T155320
CREATED:20180507T220519Z
LAST-MODIFIED:20180507T220519Z
UID:1560-1527188400-1527195600@sixbellspub.co.uk
SUMMARY:Steak Night
DESCRIPTION:
URL:https://sixbellspub.co.uk/event/steak-night-66/
CATEGORIES:Food
END:VEVENT
BEGIN:VEVENT
DTSTART;TZID=Europe/Paris:20180531T190000
DTEND;TZID=Europe/Paris:20180531T210000
DTSTAMP:20260425T155320
CREATED:20180507T220637Z
LAST-MODIFIED:20180507T220637Z
UID:1561-1527793200-1527800400@sixbellspub.co.uk
SUMMARY:Steak Night
DESCRIPTION:
URL:https://sixbellspub.co.uk/event/steak-night-67/
CATEGORIES:Food
END:VEVENT
END:VCALENDAR