BEGIN:VCALENDAR
VERSION:2.0
PRODID:-//Six Bells Pub - ECPv6.15.20//NONSGML v1.0//EN
CALSCALE:GREGORIAN
METHOD:PUBLISH
X-ORIGINAL-URL:https://sixbellspub.co.uk
X-WR-CALDESC:Events for Six Bells Pub
REFRESH-INTERVAL;VALUE=DURATION:PT1H
X-Robots-Tag:noindex
X-PUBLISHED-TTL:PT1H
BEGIN:VTIMEZONE
TZID:Europe/Paris
BEGIN:DAYLIGHT
TZOFFSETFROM:+0100
TZOFFSETTO:+0200
TZNAME:CEST
DTSTART:20170326T010000
END:DAYLIGHT
BEGIN:STANDARD
TZOFFSETFROM:+0200
TZOFFSETTO:+0100
TZNAME:CET
DTSTART:20171029T010000
END:STANDARD
BEGIN:DAYLIGHT
TZOFFSETFROM:+0100
TZOFFSETTO:+0200
TZNAME:CEST
DTSTART:20180325T010000
END:DAYLIGHT
BEGIN:STANDARD
TZOFFSETFROM:+0200
TZOFFSETTO:+0100
TZNAME:CET
DTSTART:20181028T010000
END:STANDARD
BEGIN:DAYLIGHT
TZOFFSETFROM:+0100
TZOFFSETTO:+0200
TZNAME:CEST
DTSTART:20190331T010000
END:DAYLIGHT
BEGIN:STANDARD
TZOFFSETFROM:+0200
TZOFFSETTO:+0100
TZNAME:CET
DTSTART:20191027T010000
END:STANDARD
END:VTIMEZONE
BEGIN:VEVENT
DTSTART;TZID=Europe/Paris:20180114T120000
DTEND;TZID=Europe/Paris:20180114T170000
DTSTAMP:20260425T211652
CREATED:20180109T142957Z
LAST-MODIFIED:20180109T142957Z
UID:1453-1515931200-1515949200@sixbellspub.co.uk
SUMMARY:Sunday Roast
DESCRIPTION:Served every Sunday from 12 to 5pm. choice of roast Beef\, Pork\, Chicken or Vegetarian option with roast potatoes\, yorkshire pudding and loads of veg all for £9
URL:https://sixbellspub.co.uk/event/sunday-roast-4/
CATEGORIES:Food
END:VEVENT
BEGIN:VEVENT
DTSTART;TZID=Europe/Paris:20180118T190000
DTEND;TZID=Europe/Paris:20180118T210000
DTSTAMP:20260425T211652
CREATED:20180109T180821Z
LAST-MODIFIED:20180109T180821Z
UID:1466-1516302000-1516309200@sixbellspub.co.uk
SUMMARY:Steak Night
DESCRIPTION:Every Thursday Night – you won’t get a better deal anywhere
URL:https://sixbellspub.co.uk/event/steak-night-62/
CATEGORIES:Food
END:VEVENT
BEGIN:VEVENT
DTSTART;TZID=Europe/Paris:20180120T180000
DTEND;TZID=Europe/Paris:20180120T230000
DTSTAMP:20260425T211652
CREATED:20180109T144226Z
LAST-MODIFIED:20180109T144226Z
UID:1459-1516471200-1516489200@sixbellspub.co.uk
SUMMARY:Caribbean Curry and Reggae Disco
DESCRIPTION:There’s no better way to cheer up January than wiith a Caribbean night at the Six Bells. Carol will be cooking up a delicious curry and Ozzie and Desmond will be playng some old school reggae tunes. Bring all your friends\, and don’t forget your dancing shoes! \nFood served from 6 to 9pm and then it’s dancing time! \nCall us on 01223 355559 to book a table for food
URL:https://sixbellspub.co.uk/event/caribbean-curry-and-reggae-disco/
CATEGORIES:Food,Music
END:VEVENT
BEGIN:VEVENT
DTSTART;TZID=Europe/Paris:20180121T120000
DTEND;TZID=Europe/Paris:20180121T170000
DTSTAMP:20260425T211652
CREATED:20180109T143328Z
LAST-MODIFIED:20180109T143328Z
UID:1455-1516536000-1516554000@sixbellspub.co.uk
SUMMARY:Sunday Roast
DESCRIPTION:Served every Sunday from 12 to 5pm. choice of roast Beef\, Pork\, Chicken or Vegetarian option with roast potatoes\, yorkshire pudding and loads of veg all for £9
URL:https://sixbellspub.co.uk/event/sunday-roast-5/
CATEGORIES:Food
END:VEVENT
BEGIN:VEVENT
DTSTART;TZID=Europe/Paris:20180125T190000
DTEND;TZID=Europe/Paris:20180125T210000
DTSTAMP:20260425T211652
CREATED:20180109T180941Z
LAST-MODIFIED:20180109T180941Z
UID:1467-1516906800-1516914000@sixbellspub.co.uk
SUMMARY:Steak Night
DESCRIPTION:Every Thursday Night – you won’t get a better deal anywhere
URL:https://sixbellspub.co.uk/event/steak-night-63/
CATEGORIES:Food
END:VEVENT
BEGIN:VEVENT
DTSTART;TZID=Europe/Paris:20180128T120000
DTEND;TZID=Europe/Paris:20180128T170000
DTSTAMP:20260425T211652
CREATED:20180109T143428Z
LAST-MODIFIED:20180109T143428Z
UID:1456-1517140800-1517158800@sixbellspub.co.uk
SUMMARY:Sunday Roast
DESCRIPTION:Served every Sunday from 12 to 5pm. choice of roast Beef\, Pork\, Chicken or Vegetarian option with roast potatoes\, yorkshire pudding and loads of veg all for £9
URL:https://sixbellspub.co.uk/event/sunday-roast-6/
CATEGORIES:Food
END:VEVENT
END:VCALENDAR