BEGIN:VCALENDAR
VERSION:2.0
PRODID:-//Six Bells Pub - ECPv6.15.20//NONSGML v1.0//EN
CALSCALE:GREGORIAN
METHOD:PUBLISH
X-ORIGINAL-URL:https://sixbellspub.co.uk
X-WR-CALDESC:Events for Six Bells Pub
REFRESH-INTERVAL;VALUE=DURATION:PT1H
X-Robots-Tag:noindex
X-PUBLISHED-TTL:PT1H
BEGIN:VTIMEZONE
TZID:Europe/Paris
BEGIN:DAYLIGHT
TZOFFSETFROM:+0100
TZOFFSETTO:+0200
TZNAME:CEST
DTSTART:20160327T010000
END:DAYLIGHT
BEGIN:STANDARD
TZOFFSETFROM:+0200
TZOFFSETTO:+0100
TZNAME:CET
DTSTART:20161030T010000
END:STANDARD
BEGIN:DAYLIGHT
TZOFFSETFROM:+0100
TZOFFSETTO:+0200
TZNAME:CEST
DTSTART:20170326T010000
END:DAYLIGHT
BEGIN:STANDARD
TZOFFSETFROM:+0200
TZOFFSETTO:+0100
TZNAME:CET
DTSTART:20171029T010000
END:STANDARD
BEGIN:DAYLIGHT
TZOFFSETFROM:+0100
TZOFFSETTO:+0200
TZNAME:CEST
DTSTART:20180325T010000
END:DAYLIGHT
BEGIN:STANDARD
TZOFFSETFROM:+0200
TZOFFSETTO:+0100
TZNAME:CET
DTSTART:20181028T010000
END:STANDARD
END:VTIMEZONE
BEGIN:VEVENT
DTSTART;TZID=Europe/Paris:20171012T070000
DTEND;TZID=Europe/Paris:20171012T210000
DTSTAMP:20260426T010627
CREATED:20171011T081028Z
LAST-MODIFIED:20171011T093039Z
UID:1330-1507791600-1507842000@sixbellspub.co.uk
SUMMARY:Steak Night
DESCRIPTION:The best value meal in town! Steak\, chips\, mushrooms & tomato all for £8.50. Call us on 01223 355559 to book\, or just come along \n 
URL:https://sixbellspub.co.uk/event/steak-night-54/
CATEGORIES:Food
END:VEVENT
BEGIN:VEVENT
DTSTART;TZID=Europe/Paris:20171015T120000
DTEND;TZID=Europe/Paris:20171015T170000
DTSTAMP:20260426T010627
CREATED:20171011T082235Z
LAST-MODIFIED:20171011T093134Z
UID:1334-1508068800-1508086800@sixbellspub.co.uk
SUMMARY:Sunday Roast
DESCRIPTION:Sunday Roast served from 12 to 5pm (or until we sell out) \nYour choice of Roast Beef\, Pork\, Chicken or a Vegetarian option wiith roast potatoes\, yorkshire pudding and loasds of veg all for £8.95 \nCall us on 01223 355559 to book \n 
URL:https://sixbellspub.co.uk/event/sunday-roast/
CATEGORIES:Food
END:VEVENT
BEGIN:VEVENT
DTSTART;TZID=Europe/Paris:20171022T120000
DTEND;TZID=Europe/Paris:20171022T170000
DTSTAMP:20260426T010627
CREATED:20171020T190519Z
LAST-MODIFIED:20171020T190519Z
UID:1371-1508673600-1508691600@sixbellspub.co.uk
SUMMARY:Sunday Roast
DESCRIPTION:Served from 12 – 5pm. Your choice of Roast Beef\, Pork\, Chicken or a Vegetarian option with roast potatoes\, yorkshires and loads of veg – all for £8.95 \n 
URL:https://sixbellspub.co.uk/event/sunday-roast-3/
CATEGORIES:Food
END:VEVENT
BEGIN:VEVENT
DTSTART;TZID=Europe/Paris:20171026T070000
DTEND;TZID=Europe/Paris:20171026T210000
DTSTAMP:20260426T010627
CREATED:20171020T200203Z
LAST-MODIFIED:20171020T200203Z
UID:1386-1509001200-1509051600@sixbellspub.co.uk
SUMMARY:Steak Night
DESCRIPTION:A feast for £8.50
URL:https://sixbellspub.co.uk/event/steak-night-55/
CATEGORIES:Food
END:VEVENT
BEGIN:VEVENT
DTSTART;TZID=Europe/Paris:20171028T180000
DTEND;TZID=Europe/Paris:20171028T230000
DTSTAMP:20260426T010627
CREATED:20171011T092653Z
LAST-MODIFIED:20171014T163054Z
UID:1337-1509213600-1509231600@sixbellspub.co.uk
SUMMARY:Reggae Disco and Caribbean Curry
DESCRIPTION:We’ll be serving Caribbean Curry from 6pm until 9pm and then Ossie and Desmond will be back to celebrate Hallowe’en with some old style reggae tunes – don’t forget your dancing shoes \nCall us on 01223 355559 to book for food \nMenu includes Curry Goat\, Jerk Chicken or Vegatable Curry served with rice and peas\, fried palntain and dumplings all for £9.50
URL:https://sixbellspub.co.uk/event/reggae-disco-and-caribbean-curry/
CATEGORIES:Food,Music
END:VEVENT
BEGIN:VEVENT
DTSTART;TZID=Europe/Paris:20171029T000000
DTEND;TZID=Europe/Paris:20171029T170000
DTSTAMP:20260426T010627
CREATED:20171020T173310Z
LAST-MODIFIED:20171020T201918Z
UID:1352-1509235200-1509296400@sixbellspub.co.uk
SUMMARY:Sunday Roast with The Martinis
DESCRIPTION:This week with music from The Martinis! \n  \n  \nThis week with music from The Martinis \n \nServed from 12 to 5pm. Your choice of Roast Beef\, Pork\, Chicken or a Vegetarian option with roast potatoes\, Yorkshire pudding and loads of veg for £8.95 \n 
URL:https://sixbellspub.co.uk/event/sunday-roast-2/
CATEGORIES:Food,Music
END:VEVENT
END:VCALENDAR