BEGIN:VCALENDAR
VERSION:2.0
PRODID:-//Six Bells Pub - ECPv6.15.20//NONSGML v1.0//EN
CALSCALE:GREGORIAN
METHOD:PUBLISH
X-WR-CALNAME:Six Bells Pub
X-ORIGINAL-URL:https://sixbellspub.co.uk
X-WR-CALDESC:Events for Six Bells Pub
REFRESH-INTERVAL;VALUE=DURATION:PT1H
X-Robots-Tag:noindex
X-PUBLISHED-TTL:PT1H
BEGIN:VTIMEZONE
TZID:Europe/Paris
BEGIN:DAYLIGHT
TZOFFSETFROM:+0100
TZOFFSETTO:+0200
TZNAME:CEST
DTSTART:20160327T010000
END:DAYLIGHT
BEGIN:STANDARD
TZOFFSETFROM:+0200
TZOFFSETTO:+0100
TZNAME:CET
DTSTART:20161030T010000
END:STANDARD
BEGIN:DAYLIGHT
TZOFFSETFROM:+0100
TZOFFSETTO:+0200
TZNAME:CEST
DTSTART:20170326T010000
END:DAYLIGHT
BEGIN:STANDARD
TZOFFSETFROM:+0200
TZOFFSETTO:+0100
TZNAME:CET
DTSTART:20171029T010000
END:STANDARD
BEGIN:DAYLIGHT
TZOFFSETFROM:+0100
TZOFFSETTO:+0200
TZNAME:CEST
DTSTART:20180325T010000
END:DAYLIGHT
BEGIN:STANDARD
TZOFFSETFROM:+0200
TZOFFSETTO:+0100
TZNAME:CET
DTSTART:20181028T010000
END:STANDARD
END:VTIMEZONE
BEGIN:VEVENT
DTSTART;TZID=Europe/Paris:20170803T190000
DTEND;TZID=Europe/Paris:20170803T210000
DTSTAMP:20260426T035909
CREATED:20170803T143750Z
LAST-MODIFIED:20170803T143750Z
UID:1253-1501786800-1501794000@sixbellspub.co.uk
SUMMARY:Steak Night
DESCRIPTION:a feast for £8.50 ….
URL:https://sixbellspub.co.uk/event/steak-night-45/
CATEGORIES:Food
END:VEVENT
BEGIN:VEVENT
DTSTART;TZID=Europe/Paris:20170810T190000
DTEND;TZID=Europe/Paris:20170810T210000
DTSTAMP:20260426T035909
CREATED:20170803T143908Z
LAST-MODIFIED:20170803T143908Z
UID:1254-1502391600-1502398800@sixbellspub.co.uk
SUMMARY:Steak Night
DESCRIPTION:a feast for £8.50…. \n \n 
URL:https://sixbellspub.co.uk/event/steak-night-46/
CATEGORIES:Food
END:VEVENT
BEGIN:VEVENT
DTSTART;TZID=Europe/Paris:20170817T190000
DTEND;TZID=Europe/Paris:20170817T210000
DTSTAMP:20260426T035909
CREATED:20170803T144046Z
LAST-MODIFIED:20170803T144046Z
UID:1255-1502996400-1503003600@sixbellspub.co.uk
SUMMARY:Steak Night
DESCRIPTION:a feast for £8.50……
URL:https://sixbellspub.co.uk/event/steak-night-47/
CATEGORIES:Food
END:VEVENT
BEGIN:VEVENT
DTSTART;TZID=Europe/Paris:20170824T190000
DTEND;TZID=Europe/Paris:20170824T210000
DTSTAMP:20260426T035909
CREATED:20170803T145000Z
LAST-MODIFIED:20170803T145000Z
UID:1257-1503601200-1503608400@sixbellspub.co.uk
SUMMARY:Steak Night
DESCRIPTION:a feast for £8.50 …..
URL:https://sixbellspub.co.uk/event/steak-night-48/
CATEGORIES:Food
END:VEVENT
BEGIN:VEVENT
DTSTART;TZID=Europe/Paris:20170831T190000
DTEND;TZID=Europe/Paris:20170831T210000
DTSTAMP:20260426T035909
CREATED:20170803T145135Z
LAST-MODIFIED:20170803T145135Z
UID:1258-1504206000-1504213200@sixbellspub.co.uk
SUMMARY:Steak Night
DESCRIPTION:a feast for £8.50 ……
URL:https://sixbellspub.co.uk/event/steak-night-49/
CATEGORIES:Food
END:VEVENT
END:VCALENDAR